BEGIN:VCALENDAR
VERSION:2.0
PRODID:-//Edlio Inc//Edlio Calendar//EN
CALSCALE:GREGORIAN
METHOD:PUBLISH
X-WR-CALNAME:4 Social Studies-2025 - 2026 - Raymond J. Fisher Middle School
X-ORIGINAL-URL:https://rjfisher.lgusd.org
X-WR-CALDESC:Events calendar for rjfisher.lgusd.org
X-WR-TIMEZONE:US/Pacific
REFRESH-INTERVAL;VALUE=DURATION:PT1H
X-Robots-Tag:noindex
X-PUBLISHED-TTL:PT1H
BEGIN:VTIMEZONE
TZID:US/Pacific
BEGIN:STANDARD
TZOFFSETFROM:-0700
TZOFFSETTO:-0800
DTSTART:20071104T020000
RRULE:FREQ=YEARLY;BYMONTH=11;BYDAY=1SU
END:STANDARD
BEGIN:DAYLIGHT
TZOFFSETFROM:-0800
TZOFFSETTO:-0700
DTSTART:20070311T020000
RRULE:FREQ=YEARLY;BYMONTH=3;BYDAY=2SU
END:DAYLIGHT
END:VTIMEZONE
BEGIN:VTIMEZONE
TZID:US/East-Indiana
BEGIN:STANDARD
TZOFFSETFROM:-0500
TZOFFSETTO:-0500
DTSTART:19701025T020000
END:STANDARD
END:VTIMEZONE
BEGIN:VTIMEZONE
TZID:US/Eastern
BEGIN:STANDARD
TZOFFSETFROM:-0400
TZOFFSETTO:-0500
DTSTART:19701025T020000
RRULE:FREQ=YEARLY;BYMONTH=10;BYDAY=-1SU;UNTIL=20070311T020000
END:STANDARD
BEGIN:STANDARD
TZOFFSETFROM:-0400
TZOFFSETTO:-0500
DTSTART:20071104T020000
RRULE:FREQ=YEARLY;BYMONTH=11;BYDAY=1SU
END:STANDARD
BEGIN:DAYLIGHT
TZOFFSETFROM:-0500
TZOFFSETTO:-0400
DTSTART:19870405T020000
RRULE:FREQ=YEARLY;BYMONTH=4;BYDAY=1SU;UNTIL=20061029T020000
END:DAYLIGHT
BEGIN:DAYLIGHT
TZOFFSETFROM:-0500
TZOFFSETTO:-0400
DTSTART:20070311T020000
RRULE:FREQ=YEARLY;BYMONTH=3;BYDAY=2SU
END:DAYLIGHT
END:VTIMEZONE
BEGIN:VTIMEZONE
TZID:US/Michigan
BEGIN:STANDARD
TZOFFSETFROM:-0400
TZOFFSETTO:-0500
DTSTART:19701025T020000
RRULE:FREQ=YEARLY;BYMONTH=10;BYDAY=-1SU;UNTIL=20070311T020000
END:STANDARD
BEGIN:STANDARD
TZOFFSETFROM:-0400
TZOFFSETTO:-0500
DTSTART:20071104T020000
RRULE:FREQ=YEARLY;BYMONTH=11;BYDAY=1SU
END:STANDARD
BEGIN:DAYLIGHT
TZOFFSETFROM:-0500
TZOFFSETTO:-0400
DTSTART:19870405T020000
RRULE:FREQ=YEARLY;BYMONTH=4;BYDAY=1SU;UNTIL=20061029T020000
END:DAYLIGHT
BEGIN:DAYLIGHT
TZOFFSETFROM:-0500
TZOFFSETTO:-0400
DTSTART:20070311T020000
RRULE:FREQ=YEARLY;BYMONTH=3;BYDAY=2SU
END:DAYLIGHT
END:VTIMEZONE
BEGIN:VTIMEZONE
TZID:US/Central
BEGIN:STANDARD
TZOFFSETFROM:-0500
TZOFFSETTO:-0600
DTSTART:19701025T020000
RRULE:FREQ=YEARLY;BYMONTH=10;BYDAY=-1SU;UNTIL=20070311T020000
END:STANDARD
BEGIN:STANDARD
TZOFFSETFROM:-0500
TZOFFSETTO:-0600
DTSTART:20071104T020000
RRULE:FREQ=YEARLY;BYMONTH=11;BYDAY=1SU
END:STANDARD
BEGIN:DAYLIGHT
TZOFFSETFROM:-0600
TZOFFSETTO:-0500
DTSTART:19870405T020000
RRULE:FREQ=YEARLY;BYMONTH=4;BYDAY=1SU;UNTIL=20061029T020000
END:DAYLIGHT
BEGIN:DAYLIGHT
TZOFFSETFROM:-0600
TZOFFSETTO:-0500
DTSTART:20070311T020000
RRULE:FREQ=YEARLY;BYMONTH=3;BYDAY=2SU
END:DAYLIGHT
END:VTIMEZONE
BEGIN:VTIMEZONE
TZID:US/Mountain
BEGIN:STANDARD
TZOFFSETFROM:-0600
TZOFFSETTO:-0700
DTSTART:19701025T020000
RRULE:FREQ=YEARLY;BYMONTH=10;BYDAY=-1SU;UNTIL=20070311T020000
END:STANDARD
BEGIN:STANDARD
TZOFFSETFROM:-0600
TZOFFSETTO:-0700
DTSTART:20071104T020000
RRULE:FREQ=YEARLY;BYMONTH=11;BYDAY=1SU
END:STANDARD
BEGIN:DAYLIGHT
TZOFFSETFROM:-0700
TZOFFSETTO:-0600
DTSTART:19870405T020000
RRULE:FREQ=YEARLY;BYMONTH=4;BYDAY=1SU;UNTIL=20061029T020000
END:DAYLIGHT
BEGIN:DAYLIGHT
TZOFFSETFROM:-0700
TZOFFSETTO:-0600
DTSTART:20070311T020000
RRULE:FREQ=YEARLY;BYMONTH=3;BYDAY=2SU
END:DAYLIGHT
END:VTIMEZONE
BEGIN:VTIMEZONE
TZID:US/Arizona
BEGIN:STANDARD
TZOFFSETFROM:-0700
TZOFFSETTO:-0700
DTSTART:19701025T020000
END:STANDARD
END:VTIMEZONE
BEGIN:VTIMEZONE
TZID:US/Pacific
BEGIN:STANDARD
TZOFFSETFROM:-0700
TZOFFSETTO:-0800
DTSTART:19701025T020000
RRULE:FREQ=YEARLY;BYMONTH=10;BYDAY=-1SU;UNTIL=20070311T020000
END:STANDARD
BEGIN:STANDARD
TZOFFSETFROM:-0700
TZOFFSETTO:-0800
DTSTART:20071104T020000
RRULE:FREQ=YEARLY;BYMONTH=11;BYDAY=1SU
END:STANDARD
BEGIN:DAYLIGHT
TZOFFSETFROM:-0800
TZOFFSETTO:-0700
DTSTART:19870405T020000
RRULE:FREQ=YEARLY;BYMONTH=4;BYDAY=1SU;UNTIL=20061029T020000
END:DAYLIGHT
BEGIN:DAYLIGHT
TZOFFSETFROM:-0800
TZOFFSETTO:-0700
DTSTART:20070311T020000
RRULE:FREQ=YEARLY;BYMONTH=3;BYDAY=2SU
END:DAYLIGHT
END:VTIMEZONE
BEGIN:VTIMEZONE
TZID:US/Alaska
BEGIN:STANDARD
TZOFFSETFROM:-0800
TZOFFSETTO:-0900
DTSTART:19701025T020000
RRULE:FREQ=YEARLY;BYMONTH=10;BYDAY=-1SU;UNTIL=20070311T020000
END:STANDARD
BEGIN:STANDARD
TZOFFSETFROM:-0800
TZOFFSETTO:-0900
DTSTART:20071104T020000
RRULE:FREQ=YEARLY;BYMONTH=11;BYDAY=1SU
END:STANDARD
BEGIN:DAYLIGHT
TZOFFSETFROM:-0900
TZOFFSETTO:-0800
DTSTART:19870405T020000
RRULE:FREQ=YEARLY;BYMONTH=4;BYDAY=1SU;UNTIL=20061029T020000
END:DAYLIGHT
BEGIN:DAYLIGHT
TZOFFSETFROM:-0900
TZOFFSETTO:-0800
DTSTART:20070311T020000
RRULE:FREQ=YEARLY;BYMONTH=3;BYDAY=2SU
END:DAYLIGHT
END:VTIMEZONE
BEGIN:VTIMEZONE
TZID:US/Hawaii
BEGIN:STANDARD
TZOFFSETFROM:-1000
TZOFFSETTO:-1000
DTSTART:19701025T020000
END:STANDARD
END:VTIMEZONE
BEGIN:VTIMEZONE
TZID:US/Aleutian
BEGIN:STANDARD
TZOFFSETFROM:-1000
TZOFFSETTO:-1000
DTSTART:19701025T020000
END:STANDARD
END:VTIMEZONE
BEGIN:VTIMEZONE
TZID:US/Samoa
BEGIN:STANDARD
TZOFFSETFROM:-1100
TZOFFSETTO:-1100
DTSTART:19701025T020000
END:STANDARD
END:VTIMEZONE
BEGIN:VEVENT
UID:11684133@rjfisher.lgusd.org#20260421
SEQUENCE:0
CREATED:20260418T041153Z
LAST-MODIFIED:20260418T041153Z
DTSTART;TZID=US/Pacific:20260421T075900
DTEND;TZID=US/Pacific:20260421T080000
SUMMARY:Assignment: Life in the West Mini Drama
URL:https://rjfisher.lgusd.org/apps/classes/1061656/assignments/#hw-1168413
 3
ORGANIZER;CN="Edlio Calendar":MAILTO:noreply@rjfisher.lgusd.org
DTSTAMP:20260421T121649Z
END:VEVENT
BEGIN:VEVENT
UID:11694665@rjfisher.lgusd.org#20260422
SEQUENCE:0
CREATED:20260418T101112Z
LAST-MODIFIED:20260418T101112Z
DTSTART;TZID=US/Pacific:20260422T075900
DTEND;TZID=US/Pacific:20260422T080000
SUMMARY:Assignment: Quiz 10.1 & 10.2
DESCRIPTION:Read the Civil War text for the assigned sections in Google Cla
 ssroom (PDF). As you read\, take . These notes will be \, so make sure the
 y are thorough and useful for studying.\n<a href=' https://rjfisher.lgusd.
 org/apps/classes/1061656/assignments/#hw-11694665'>Read more</a>
URL:https://rjfisher.lgusd.org/apps/classes/1061656/assignments/#hw-1169466
 5
ORGANIZER;CN="Edlio Calendar":MAILTO:noreply@rjfisher.lgusd.org
DTSTAMP:20260421T121649Z
END:VEVENT
BEGIN:VEVENT
UID:11694672@rjfisher.lgusd.org#20260422
SEQUENCE:0
CREATED:20260418T101112Z
LAST-MODIFIED:20260418T101112Z
DTSTART;TZID=US/Pacific:20260422T075900
DTEND;TZID=US/Pacific:20260422T080000
SUMMARY:Assignment: Quiz 10.1 & 10.2
DESCRIPTION:Read the Civil War text for the assigned sections in Google Cla
 ssroom (PDF). As you read\, take . These notes will be \, so make sure the
 y are thorough and useful for studying.\n<a href=' https://rjfisher.lgusd.
 org/apps/classes/1061656/assignments/#hw-11694672'>Read more</a>
URL:https://rjfisher.lgusd.org/apps/classes/1061656/assignments/#hw-1169467
 2
ORGANIZER;CN="Edlio Calendar":MAILTO:noreply@rjfisher.lgusd.org
DTSTAMP:20260421T121649Z
END:VEVENT
BEGIN:VEVENT
UID:11746628@rjfisher.lgusd.org#20260429
SEQUENCE:0
CREATED:20260420T174140Z
LAST-MODIFIED:20260420T174140Z
DTSTART;TZID=US/Pacific:20260429T075900
DTEND;TZID=US/Pacific:20260429T080000
SUMMARY:Assignment: Quiz 10.3 & 10.4
DESCRIPTION:Read the Civil War text for the assigned sections in Google Cla
 ssroom (PDF). As you read\, take . These notes will be \, so make sure the
 y are thorough and useful for studying.\n<a href=' https://rjfisher.lgusd.
 org/apps/classes/1061656/assignments/#hw-11746628'>Read more</a>
URL:https://rjfisher.lgusd.org/apps/classes/1061656/assignments/#hw-1174662
 8
ORGANIZER;CN="Edlio Calendar":MAILTO:noreply@rjfisher.lgusd.org
DTSTAMP:20260421T121649Z
END:VEVENT
BEGIN:VEVENT
UID:11746629@rjfisher.lgusd.org#20260429
SEQUENCE:0
CREATED:20260420T174140Z
LAST-MODIFIED:20260420T174140Z
DTSTART;TZID=US/Pacific:20260429T075900
DTEND;TZID=US/Pacific:20260429T080000
SUMMARY:Assignment: Quiz 10.3 & 10.4
DESCRIPTION:Read the Civil War text for the assigned sections in Google Cla
 ssroom (PDF). As you read\, take . These notes will be \, so make sure the
 y are thorough and useful for studying.\n<a href=' https://rjfisher.lgusd.
 org/apps/classes/1061656/assignments/#hw-11746629'>Read more</a>
URL:https://rjfisher.lgusd.org/apps/classes/1061656/assignments/#hw-1174662
 9
ORGANIZER;CN="Edlio Calendar":MAILTO:noreply@rjfisher.lgusd.org
DTSTAMP:20260421T121649Z
END:VEVENT
BEGIN:VEVENT
UID:11746633@rjfisher.lgusd.org#20260429
SEQUENCE:0
CREATED:20260420T174141Z
LAST-MODIFIED:20260420T174141Z
DTSTART;TZID=US/Pacific:20260429T075900
DTEND;TZID=US/Pacific:20260429T080000
SUMMARY:Assignment: Quiz 10.3 & 10.4
DESCRIPTION:Read the Civil War text for the assigned sections in Google Cla
 ssroom (PDF). As you read\, take . These notes will be \, so make sure the
 y are thorough and useful for studying.\n<a href=' https://rjfisher.lgusd.
 org/apps/classes/1061656/assignments/#hw-11746633'>Read more</a>
URL:https://rjfisher.lgusd.org/apps/classes/1061656/assignments/#hw-1174663
 3
ORGANIZER;CN="Edlio Calendar":MAILTO:noreply@rjfisher.lgusd.org
DTSTAMP:20260421T121649Z
END:VEVENT
BEGIN:VEVENT
UID:11746635@rjfisher.lgusd.org#20260429
SEQUENCE:0
CREATED:20260420T174141Z
LAST-MODIFIED:20260420T174141Z
DTSTART;TZID=US/Pacific:20260429T075900
DTEND;TZID=US/Pacific:20260429T080000
SUMMARY:Assignment: Quiz 10.3 & 10.4
DESCRIPTION:Read the Civil War text for the assigned sections in Google Cla
 ssroom (PDF). As you read\, take . These notes will be \, so make sure the
 y are thorough and useful for studying.\n<a href=' https://rjfisher.lgusd.
 org/apps/classes/1061656/assignments/#hw-11746635'>Read more</a>
URL:https://rjfisher.lgusd.org/apps/classes/1061656/assignments/#hw-1174663
 5
ORGANIZER;CN="Edlio Calendar":MAILTO:noreply@rjfisher.lgusd.org
DTSTAMP:20260421T121649Z
END:VEVENT
END:VCALENDAR
