BEGIN:VCALENDAR
VERSION:2.0
PRODID:-//Edlio Inc//Edlio Calendar//EN
CALSCALE:GREGORIAN
METHOD:PUBLISH
X-WR-CALNAME:English 6 - Waste - 1(A)-1(A) - Raymond J. Fisher Middle Schoo
 l
X-ORIGINAL-URL:https://rjfisher.lgusd.org
X-WR-CALDESC:Events calendar for rjfisher.lgusd.org
X-WR-TIMEZONE:US/Pacific
REFRESH-INTERVAL;VALUE=DURATION:PT1H
X-Robots-Tag:noindex
X-PUBLISHED-TTL:PT1H
BEGIN:VTIMEZONE
TZID:US/Pacific
BEGIN:STANDARD
TZOFFSETFROM:-0700
TZOFFSETTO:-0800
DTSTART:20071104T020000
RRULE:FREQ=YEARLY;BYMONTH=11;BYDAY=1SU
END:STANDARD
BEGIN:DAYLIGHT
TZOFFSETFROM:-0800
TZOFFSETTO:-0700
DTSTART:20070311T020000
RRULE:FREQ=YEARLY;BYMONTH=3;BYDAY=2SU
END:DAYLIGHT
END:VTIMEZONE
BEGIN:VTIMEZONE
TZID:US/East-Indiana
BEGIN:STANDARD
TZOFFSETFROM:-0500
TZOFFSETTO:-0500
DTSTART:19701025T020000
END:STANDARD
END:VTIMEZONE
BEGIN:VTIMEZONE
TZID:US/Eastern
BEGIN:STANDARD
TZOFFSETFROM:-0400
TZOFFSETTO:-0500
DTSTART:19701025T020000
RRULE:FREQ=YEARLY;BYMONTH=10;BYDAY=-1SU;UNTIL=20070311T020000
END:STANDARD
BEGIN:STANDARD
TZOFFSETFROM:-0400
TZOFFSETTO:-0500
DTSTART:20071104T020000
RRULE:FREQ=YEARLY;BYMONTH=11;BYDAY=1SU
END:STANDARD
BEGIN:DAYLIGHT
TZOFFSETFROM:-0500
TZOFFSETTO:-0400
DTSTART:19870405T020000
RRULE:FREQ=YEARLY;BYMONTH=4;BYDAY=1SU;UNTIL=20061029T020000
END:DAYLIGHT
BEGIN:DAYLIGHT
TZOFFSETFROM:-0500
TZOFFSETTO:-0400
DTSTART:20070311T020000
RRULE:FREQ=YEARLY;BYMONTH=3;BYDAY=2SU
END:DAYLIGHT
END:VTIMEZONE
BEGIN:VTIMEZONE
TZID:US/Michigan
BEGIN:STANDARD
TZOFFSETFROM:-0400
TZOFFSETTO:-0500
DTSTART:19701025T020000
RRULE:FREQ=YEARLY;BYMONTH=10;BYDAY=-1SU;UNTIL=20070311T020000
END:STANDARD
BEGIN:STANDARD
TZOFFSETFROM:-0400
TZOFFSETTO:-0500
DTSTART:20071104T020000
RRULE:FREQ=YEARLY;BYMONTH=11;BYDAY=1SU
END:STANDARD
BEGIN:DAYLIGHT
TZOFFSETFROM:-0500
TZOFFSETTO:-0400
DTSTART:19870405T020000
RRULE:FREQ=YEARLY;BYMONTH=4;BYDAY=1SU;UNTIL=20061029T020000
END:DAYLIGHT
BEGIN:DAYLIGHT
TZOFFSETFROM:-0500
TZOFFSETTO:-0400
DTSTART:20070311T020000
RRULE:FREQ=YEARLY;BYMONTH=3;BYDAY=2SU
END:DAYLIGHT
END:VTIMEZONE
BEGIN:VTIMEZONE
TZID:US/Central
BEGIN:STANDARD
TZOFFSETFROM:-0500
TZOFFSETTO:-0600
DTSTART:19701025T020000
RRULE:FREQ=YEARLY;BYMONTH=10;BYDAY=-1SU;UNTIL=20070311T020000
END:STANDARD
BEGIN:STANDARD
TZOFFSETFROM:-0500
TZOFFSETTO:-0600
DTSTART:20071104T020000
RRULE:FREQ=YEARLY;BYMONTH=11;BYDAY=1SU
END:STANDARD
BEGIN:DAYLIGHT
TZOFFSETFROM:-0600
TZOFFSETTO:-0500
DTSTART:19870405T020000
RRULE:FREQ=YEARLY;BYMONTH=4;BYDAY=1SU;UNTIL=20061029T020000
END:DAYLIGHT
BEGIN:DAYLIGHT
TZOFFSETFROM:-0600
TZOFFSETTO:-0500
DTSTART:20070311T020000
RRULE:FREQ=YEARLY;BYMONTH=3;BYDAY=2SU
END:DAYLIGHT
END:VTIMEZONE
BEGIN:VTIMEZONE
TZID:US/Mountain
BEGIN:STANDARD
TZOFFSETFROM:-0600
TZOFFSETTO:-0700
DTSTART:19701025T020000
RRULE:FREQ=YEARLY;BYMONTH=10;BYDAY=-1SU;UNTIL=20070311T020000
END:STANDARD
BEGIN:STANDARD
TZOFFSETFROM:-0600
TZOFFSETTO:-0700
DTSTART:20071104T020000
RRULE:FREQ=YEARLY;BYMONTH=11;BYDAY=1SU
END:STANDARD
BEGIN:DAYLIGHT
TZOFFSETFROM:-0700
TZOFFSETTO:-0600
DTSTART:19870405T020000
RRULE:FREQ=YEARLY;BYMONTH=4;BYDAY=1SU;UNTIL=20061029T020000
END:DAYLIGHT
BEGIN:DAYLIGHT
TZOFFSETFROM:-0700
TZOFFSETTO:-0600
DTSTART:20070311T020000
RRULE:FREQ=YEARLY;BYMONTH=3;BYDAY=2SU
END:DAYLIGHT
END:VTIMEZONE
BEGIN:VTIMEZONE
TZID:US/Arizona
BEGIN:STANDARD
TZOFFSETFROM:-0700
TZOFFSETTO:-0700
DTSTART:19701025T020000
END:STANDARD
END:VTIMEZONE
BEGIN:VTIMEZONE
TZID:US/Pacific
BEGIN:STANDARD
TZOFFSETFROM:-0700
TZOFFSETTO:-0800
DTSTART:19701025T020000
RRULE:FREQ=YEARLY;BYMONTH=10;BYDAY=-1SU;UNTIL=20070311T020000
END:STANDARD
BEGIN:STANDARD
TZOFFSETFROM:-0700
TZOFFSETTO:-0800
DTSTART:20071104T020000
RRULE:FREQ=YEARLY;BYMONTH=11;BYDAY=1SU
END:STANDARD
BEGIN:DAYLIGHT
TZOFFSETFROM:-0800
TZOFFSETTO:-0700
DTSTART:19870405T020000
RRULE:FREQ=YEARLY;BYMONTH=4;BYDAY=1SU;UNTIL=20061029T020000
END:DAYLIGHT
BEGIN:DAYLIGHT
TZOFFSETFROM:-0800
TZOFFSETTO:-0700
DTSTART:20070311T020000
RRULE:FREQ=YEARLY;BYMONTH=3;BYDAY=2SU
END:DAYLIGHT
END:VTIMEZONE
BEGIN:VTIMEZONE
TZID:US/Alaska
BEGIN:STANDARD
TZOFFSETFROM:-0800
TZOFFSETTO:-0900
DTSTART:19701025T020000
RRULE:FREQ=YEARLY;BYMONTH=10;BYDAY=-1SU;UNTIL=20070311T020000
END:STANDARD
BEGIN:STANDARD
TZOFFSETFROM:-0800
TZOFFSETTO:-0900
DTSTART:20071104T020000
RRULE:FREQ=YEARLY;BYMONTH=11;BYDAY=1SU
END:STANDARD
BEGIN:DAYLIGHT
TZOFFSETFROM:-0900
TZOFFSETTO:-0800
DTSTART:19870405T020000
RRULE:FREQ=YEARLY;BYMONTH=4;BYDAY=1SU;UNTIL=20061029T020000
END:DAYLIGHT
BEGIN:DAYLIGHT
TZOFFSETFROM:-0900
TZOFFSETTO:-0800
DTSTART:20070311T020000
RRULE:FREQ=YEARLY;BYMONTH=3;BYDAY=2SU
END:DAYLIGHT
END:VTIMEZONE
BEGIN:VTIMEZONE
TZID:US/Hawaii
BEGIN:STANDARD
TZOFFSETFROM:-1000
TZOFFSETTO:-1000
DTSTART:19701025T020000
END:STANDARD
END:VTIMEZONE
BEGIN:VTIMEZONE
TZID:US/Aleutian
BEGIN:STANDARD
TZOFFSETFROM:-1000
TZOFFSETTO:-1000
DTSTART:19701025T020000
END:STANDARD
END:VTIMEZONE
BEGIN:VTIMEZONE
TZID:US/Samoa
BEGIN:STANDARD
TZOFFSETFROM:-1100
TZOFFSETTO:-1100
DTSTART:19701025T020000
END:STANDARD
END:VTIMEZONE
BEGIN:VEVENT
UID:11776065@rjfisher.lgusd.org#20260429
SEQUENCE:0
CREATED:20260422T154143Z
LAST-MODIFIED:20260422T154143Z
DTSTART;TZID=US/Pacific:20260429T082900
DTEND;TZID=US/Pacific:20260429T083000
SUMMARY:Assignment: Homework: Poster for Positive Propaganda Project
DESCRIPTION:Please attach any digital poster to this assignment.<br><br>If 
 doing a Canva poster\, you will need to give Mr. Waste access.<br><br>If y
 ou are doing a hand-drawn poster\, you may turn in this assignment once yo
 u have brought the physical poster into class.<br><br>ALL POSTERS AND WRIT
 E-UPS MUST BE P\n<a href=' https://rjfisher.lgusd.org/apps/classes/1061670
 /assignments/#hw-11776065'>Read more</a>
URL:https://rjfisher.lgusd.org/apps/classes/1061670/assignments/#hw-1177606
 5
ORGANIZER;CN="Edlio Calendar":MAILTO:noreply@rjfisher.lgusd.org
DTSTAMP:20260423T061442Z
END:VEVENT
BEGIN:VEVENT
UID:11776072@rjfisher.lgusd.org#20260429
SEQUENCE:0
CREATED:20260422T154145Z
LAST-MODIFIED:20260422T154145Z
DTSTART;TZID=US/Pacific:20260429T082900
DTEND;TZID=US/Pacific:20260429T083000
SUMMARY:Assignment: Homework: Poster for Positive Propaganda Project
DESCRIPTION:Please attach any digital poster to this assignment.<br><br>If 
 doing a Canva poster\, you will need to give Mr. Waste access.<br><br>If y
 ou are doing a hand-drawn poster\, you may turn in this assignment once yo
 u have brought the physical poster into class.<br><br>ALL POSTERS AND WRIT
 E-UPS MUST BE P\n<a href=' https://rjfisher.lgusd.org/apps/classes/1061670
 /assignments/#hw-11776072'>Read more</a>
URL:https://rjfisher.lgusd.org/apps/classes/1061670/assignments/#hw-1177607
 2
ORGANIZER;CN="Edlio Calendar":MAILTO:noreply@rjfisher.lgusd.org
DTSTAMP:20260423T061442Z
END:VEVENT
BEGIN:VEVENT
UID:11776066@rjfisher.lgusd.org#20260429
SEQUENCE:0
CREATED:20260422T154143Z
LAST-MODIFIED:20260422T154143Z
DTSTART;TZID=US/Pacific:20260429T082900
DTEND;TZID=US/Pacific:20260429T083000
SUMMARY:Assignment: Homework: Written Portion for Positive Propaganda Proje
 ct
DESCRIPTION:Paragraph 1<br>Explain why the topic you selected is a problem 
 that is prevalent on campus.<br>Paragraph 2<br>Describe how your propagand
 a ad clearly addresses the issue and discuss your solution to the problem.
  <br>State the two propaganda techniques you used in your poster\, and how
  they addressed\n<a href=' https://rjfisher.lgusd.org/apps/classes/1061670
 /assignments/#hw-11776066'>Read more</a>
URL:https://rjfisher.lgusd.org/apps/classes/1061670/assignments/#hw-1177606
 6
ORGANIZER;CN="Edlio Calendar":MAILTO:noreply@rjfisher.lgusd.org
DTSTAMP:20260423T061442Z
END:VEVENT
BEGIN:VEVENT
UID:11776073@rjfisher.lgusd.org#20260429
SEQUENCE:0
CREATED:20260423T011442Z
LAST-MODIFIED:20260423T011442Z
DTSTART;TZID=US/Pacific:20260429T082900
DTEND;TZID=US/Pacific:20260429T083000
SUMMARY:Assignment: Homework: Written Portion for Positive Propaganda Proje
 ct
DESCRIPTION:Paragraph 1<br>Explain why the topic you selected is a problem 
 that is prevalent on campus.<br>Describe how your propaganda ad clearly ad
 dresses the issue and discuss your solution to the problem. <br>Paragraph 
 2<br>Describe how your propaganda ad clearly addresses the issue and discu
 ss your solutio\n<a href=' https://rjfisher.lgusd.org/apps/classes/1061670
 /assignments/#hw-11776073'>Read more</a>
URL:https://rjfisher.lgusd.org/apps/classes/1061670/assignments/#hw-1177607
 3
ORGANIZER;CN="Edlio Calendar":MAILTO:noreply@rjfisher.lgusd.org
DTSTAMP:20260423T061442Z
END:VEVENT
BEGIN:VEVENT
UID:11758030@rjfisher.lgusd.org#20260422
SEQUENCE:0
CREATED:20260421T041440Z
LAST-MODIFIED:20260421T041440Z
DTSTART;TZID=US/Pacific:20260422T165900
DTEND;TZID=US/Pacific:20260422T170000
SUMMARY:Assignment: Homework: Found Poem-Planning and Rough Draft Little Fl
 ower/Angry Tiger
DESCRIPTION:Instructions:<br><br>You will write a poem that shows the contr
 ast between Ling at the beginning of the novel (as a “little flower”) and 
 at the end of the novel (as an “angry tiger”). You will choose words/phras
 es from specific chapters that clearly show the change in her character an
 d then arrange \n<a href=' https://rjfisher.lgusd.org/apps/classes/1061670
 /assignments/#hw-11758030'>Read more</a>
URL:https://rjfisher.lgusd.org/apps/classes/1061670/assignments/#hw-1175803
 0
ORGANIZER;CN="Edlio Calendar":MAILTO:noreply@rjfisher.lgusd.org
DTSTAMP:20260423T061442Z
END:VEVENT
BEGIN:VEVENT
UID:11758050@rjfisher.lgusd.org#20260422
SEQUENCE:0
CREATED:20260421T041441Z
LAST-MODIFIED:20260421T041441Z
DTSTART;TZID=US/Pacific:20260422T165900
DTEND;TZID=US/Pacific:20260422T170000
SUMMARY:Assignment: Homework: Found Poem-Planning and Rough Draft Little Fl
 ower/Angry Tiger
DESCRIPTION:Instructions:<br><br>You will write a poem that shows the contr
 ast between Ling at the beginning of the novel (as a “little flower”) and 
 at the end of the novel (as an “angry tiger”). You will choose words/phras
 es from specific chapters that clearly show the change in her character an
 d then arrange \n<a href=' https://rjfisher.lgusd.org/apps/classes/1061670
 /assignments/#hw-11758050'>Read more</a>
URL:https://rjfisher.lgusd.org/apps/classes/1061670/assignments/#hw-1175805
 0
ORGANIZER;CN="Edlio Calendar":MAILTO:noreply@rjfisher.lgusd.org
DTSTAMP:20260423T061442Z
END:VEVENT
BEGIN:VEVENT
UID:11746472@rjfisher.lgusd.org#20260422
SEQUENCE:0
CREATED:20260420T161453Z
LAST-MODIFIED:20260420T161453Z
DTSTART;TZID=US/Pacific:20260422T165900
DTEND;TZID=US/Pacific:20260422T170000
SUMMARY:Assignment: Homework: Prepare for Socratic Seminar
DESCRIPTION:Part 2: Bamboo in the Wind  Socratic Discussion Graphic Organiz
 er<br><br><br>Directions: <br>Use this graphic organizer to prepare notes 
 for a Socratic discussion on Part 2: Bamboo in the Wind. <br>Write FOUR of
  your own open-ended questions and prepare discussion notes and evidence. 
 <br><br>YOU MUS\n<a href=' https://rjfisher.lgusd.org/apps/classes/1061670
 /assignments/#hw-11746472'>Read more</a>
URL:https://rjfisher.lgusd.org/apps/classes/1061670/assignments/#hw-1174647
 2
ORGANIZER;CN="Edlio Calendar":MAILTO:noreply@rjfisher.lgusd.org
DTSTAMP:20260423T061442Z
END:VEVENT
BEGIN:VEVENT
UID:11758014@rjfisher.lgusd.org#20260424
SEQUENCE:0
CREATED:20260421T041440Z
LAST-MODIFIED:20260421T041440Z
DTSTART;TZID=US/Pacific:20260424T235800
DTEND;TZID=US/Pacific:20260424T235900
SUMMARY:Assignment: Introduction to Socratic Seminar
URL:https://rjfisher.lgusd.org/apps/classes/1061670/assignments/#hw-1175801
 4
ORGANIZER;CN="Edlio Calendar":MAILTO:noreply@rjfisher.lgusd.org
DTSTAMP:20260423T061442Z
END:VEVENT
BEGIN:VEVENT
UID:11758029@rjfisher.lgusd.org#20260424
SEQUENCE:0
CREATED:20260421T041440Z
LAST-MODIFIED:20260421T041440Z
DTSTART;TZID=US/Pacific:20260424T235800
DTEND;TZID=US/Pacific:20260424T235900
SUMMARY:Assignment: Introduction to Socratic Seminar
URL:https://rjfisher.lgusd.org/apps/classes/1061670/assignments/#hw-1175802
 9
ORGANIZER;CN="Edlio Calendar":MAILTO:noreply@rjfisher.lgusd.org
DTSTAMP:20260423T061442Z
END:VEVENT
BEGIN:VEVENT
UID:11758011@rjfisher.lgusd.org#20260501
SEQUENCE:0
CREATED:20260421T041440Z
LAST-MODIFIED:20260421T041440Z
DTSTART;TZID=US/Pacific:20260501T235800
DTEND;TZID=US/Pacific:20260501T235900
SUMMARY:Assignment: 📚 10+  genre challenge! (optional but encouraged!)
DESCRIPTION:📚 If you are undertaking the 10+ Genre Challenge\, you must fi
 ll out one slide for each genre you complete. (If you read multiple books 
 from one genre\, you can choose one book to do\, or you can do one slide f
 or a full series. Or you can do one slide for every book you finish!) Ever
 yone who comple\n<a href=' https://rjfisher.lgusd.org/apps/classes/1061670
 /assignments/#hw-11758011'>Read more</a>
URL:https://rjfisher.lgusd.org/apps/classes/1061670/assignments/#hw-1175801
 1
ORGANIZER;CN="Edlio Calendar":MAILTO:noreply@rjfisher.lgusd.org
DTSTAMP:20260423T061442Z
END:VEVENT
BEGIN:VEVENT
UID:11758023@rjfisher.lgusd.org#20260501
SEQUENCE:0
CREATED:20260421T041440Z
LAST-MODIFIED:20260421T041440Z
DTSTART;TZID=US/Pacific:20260501T235800
DTEND;TZID=US/Pacific:20260501T235900
SUMMARY:Assignment: 📚 10+  genre challenge! (optional but encouraged!)
DESCRIPTION:📚 If you are undertaking the 10+ Genre Challenge\, you must fi
 ll out one slide for each genre you complete. (If you read multiple books 
 from one genre\, you can choose one book to do\, or you can do one slide f
 or a full series. Or you can do one slide for every book you finish!) Ever
 yone who comple\n<a href=' https://rjfisher.lgusd.org/apps/classes/1061670
 /assignments/#hw-11758023'>Read more</a>
URL:https://rjfisher.lgusd.org/apps/classes/1061670/assignments/#hw-1175802
 3
ORGANIZER;CN="Edlio Calendar":MAILTO:noreply@rjfisher.lgusd.org
DTSTAMP:20260423T061442Z
END:VEVENT
END:VCALENDAR
