BEGIN:VCALENDAR
VERSION:2.0
PRODID:-//Edlio Inc//Edlio Calendar//EN
CALSCALE:GREGORIAN
METHOD:PUBLISH
X-WR-CALNAME:2nd Period Science - Alsharif-2(A) - Raymond J. Fisher Middle 
 School
X-ORIGINAL-URL:https://rjfisher.lgusd.org
X-WR-CALDESC:Events calendar for rjfisher.lgusd.org
X-WR-TIMEZONE:US/Pacific
REFRESH-INTERVAL;VALUE=DURATION:PT1H
X-Robots-Tag:noindex
X-PUBLISHED-TTL:PT1H
BEGIN:VTIMEZONE
TZID:US/Pacific
BEGIN:STANDARD
TZOFFSETFROM:-0700
TZOFFSETTO:-0800
DTSTART:20071104T020000
RRULE:FREQ=YEARLY;BYMONTH=11;BYDAY=1SU
END:STANDARD
BEGIN:DAYLIGHT
TZOFFSETFROM:-0800
TZOFFSETTO:-0700
DTSTART:20070311T020000
RRULE:FREQ=YEARLY;BYMONTH=3;BYDAY=2SU
END:DAYLIGHT
END:VTIMEZONE
BEGIN:VTIMEZONE
TZID:US/East-Indiana
BEGIN:STANDARD
TZOFFSETFROM:-0500
TZOFFSETTO:-0500
DTSTART:19701025T020000
END:STANDARD
END:VTIMEZONE
BEGIN:VTIMEZONE
TZID:US/Eastern
BEGIN:STANDARD
TZOFFSETFROM:-0400
TZOFFSETTO:-0500
DTSTART:19701025T020000
RRULE:FREQ=YEARLY;BYMONTH=10;BYDAY=-1SU;UNTIL=20070311T020000
END:STANDARD
BEGIN:STANDARD
TZOFFSETFROM:-0400
TZOFFSETTO:-0500
DTSTART:20071104T020000
RRULE:FREQ=YEARLY;BYMONTH=11;BYDAY=1SU
END:STANDARD
BEGIN:DAYLIGHT
TZOFFSETFROM:-0500
TZOFFSETTO:-0400
DTSTART:19870405T020000
RRULE:FREQ=YEARLY;BYMONTH=4;BYDAY=1SU;UNTIL=20061029T020000
END:DAYLIGHT
BEGIN:DAYLIGHT
TZOFFSETFROM:-0500
TZOFFSETTO:-0400
DTSTART:20070311T020000
RRULE:FREQ=YEARLY;BYMONTH=3;BYDAY=2SU
END:DAYLIGHT
END:VTIMEZONE
BEGIN:VTIMEZONE
TZID:US/Michigan
BEGIN:STANDARD
TZOFFSETFROM:-0400
TZOFFSETTO:-0500
DTSTART:19701025T020000
RRULE:FREQ=YEARLY;BYMONTH=10;BYDAY=-1SU;UNTIL=20070311T020000
END:STANDARD
BEGIN:STANDARD
TZOFFSETFROM:-0400
TZOFFSETTO:-0500
DTSTART:20071104T020000
RRULE:FREQ=YEARLY;BYMONTH=11;BYDAY=1SU
END:STANDARD
BEGIN:DAYLIGHT
TZOFFSETFROM:-0500
TZOFFSETTO:-0400
DTSTART:19870405T020000
RRULE:FREQ=YEARLY;BYMONTH=4;BYDAY=1SU;UNTIL=20061029T020000
END:DAYLIGHT
BEGIN:DAYLIGHT
TZOFFSETFROM:-0500
TZOFFSETTO:-0400
DTSTART:20070311T020000
RRULE:FREQ=YEARLY;BYMONTH=3;BYDAY=2SU
END:DAYLIGHT
END:VTIMEZONE
BEGIN:VTIMEZONE
TZID:US/Central
BEGIN:STANDARD
TZOFFSETFROM:-0500
TZOFFSETTO:-0600
DTSTART:19701025T020000
RRULE:FREQ=YEARLY;BYMONTH=10;BYDAY=-1SU;UNTIL=20070311T020000
END:STANDARD
BEGIN:STANDARD
TZOFFSETFROM:-0500
TZOFFSETTO:-0600
DTSTART:20071104T020000
RRULE:FREQ=YEARLY;BYMONTH=11;BYDAY=1SU
END:STANDARD
BEGIN:DAYLIGHT
TZOFFSETFROM:-0600
TZOFFSETTO:-0500
DTSTART:19870405T020000
RRULE:FREQ=YEARLY;BYMONTH=4;BYDAY=1SU;UNTIL=20061029T020000
END:DAYLIGHT
BEGIN:DAYLIGHT
TZOFFSETFROM:-0600
TZOFFSETTO:-0500
DTSTART:20070311T020000
RRULE:FREQ=YEARLY;BYMONTH=3;BYDAY=2SU
END:DAYLIGHT
END:VTIMEZONE
BEGIN:VTIMEZONE
TZID:US/Mountain
BEGIN:STANDARD
TZOFFSETFROM:-0600
TZOFFSETTO:-0700
DTSTART:19701025T020000
RRULE:FREQ=YEARLY;BYMONTH=10;BYDAY=-1SU;UNTIL=20070311T020000
END:STANDARD
BEGIN:STANDARD
TZOFFSETFROM:-0600
TZOFFSETTO:-0700
DTSTART:20071104T020000
RRULE:FREQ=YEARLY;BYMONTH=11;BYDAY=1SU
END:STANDARD
BEGIN:DAYLIGHT
TZOFFSETFROM:-0700
TZOFFSETTO:-0600
DTSTART:19870405T020000
RRULE:FREQ=YEARLY;BYMONTH=4;BYDAY=1SU;UNTIL=20061029T020000
END:DAYLIGHT
BEGIN:DAYLIGHT
TZOFFSETFROM:-0700
TZOFFSETTO:-0600
DTSTART:20070311T020000
RRULE:FREQ=YEARLY;BYMONTH=3;BYDAY=2SU
END:DAYLIGHT
END:VTIMEZONE
BEGIN:VTIMEZONE
TZID:US/Arizona
BEGIN:STANDARD
TZOFFSETFROM:-0700
TZOFFSETTO:-0700
DTSTART:19701025T020000
END:STANDARD
END:VTIMEZONE
BEGIN:VTIMEZONE
TZID:US/Pacific
BEGIN:STANDARD
TZOFFSETFROM:-0700
TZOFFSETTO:-0800
DTSTART:19701025T020000
RRULE:FREQ=YEARLY;BYMONTH=10;BYDAY=-1SU;UNTIL=20070311T020000
END:STANDARD
BEGIN:STANDARD
TZOFFSETFROM:-0700
TZOFFSETTO:-0800
DTSTART:20071104T020000
RRULE:FREQ=YEARLY;BYMONTH=11;BYDAY=1SU
END:STANDARD
BEGIN:DAYLIGHT
TZOFFSETFROM:-0800
TZOFFSETTO:-0700
DTSTART:19870405T020000
RRULE:FREQ=YEARLY;BYMONTH=4;BYDAY=1SU;UNTIL=20061029T020000
END:DAYLIGHT
BEGIN:DAYLIGHT
TZOFFSETFROM:-0800
TZOFFSETTO:-0700
DTSTART:20070311T020000
RRULE:FREQ=YEARLY;BYMONTH=3;BYDAY=2SU
END:DAYLIGHT
END:VTIMEZONE
BEGIN:VTIMEZONE
TZID:US/Alaska
BEGIN:STANDARD
TZOFFSETFROM:-0800
TZOFFSETTO:-0900
DTSTART:19701025T020000
RRULE:FREQ=YEARLY;BYMONTH=10;BYDAY=-1SU;UNTIL=20070311T020000
END:STANDARD
BEGIN:STANDARD
TZOFFSETFROM:-0800
TZOFFSETTO:-0900
DTSTART:20071104T020000
RRULE:FREQ=YEARLY;BYMONTH=11;BYDAY=1SU
END:STANDARD
BEGIN:DAYLIGHT
TZOFFSETFROM:-0900
TZOFFSETTO:-0800
DTSTART:19870405T020000
RRULE:FREQ=YEARLY;BYMONTH=4;BYDAY=1SU;UNTIL=20061029T020000
END:DAYLIGHT
BEGIN:DAYLIGHT
TZOFFSETFROM:-0900
TZOFFSETTO:-0800
DTSTART:20070311T020000
RRULE:FREQ=YEARLY;BYMONTH=3;BYDAY=2SU
END:DAYLIGHT
END:VTIMEZONE
BEGIN:VTIMEZONE
TZID:US/Hawaii
BEGIN:STANDARD
TZOFFSETFROM:-1000
TZOFFSETTO:-1000
DTSTART:19701025T020000
END:STANDARD
END:VTIMEZONE
BEGIN:VTIMEZONE
TZID:US/Aleutian
BEGIN:STANDARD
TZOFFSETFROM:-1000
TZOFFSETTO:-1000
DTSTART:19701025T020000
END:STANDARD
END:VTIMEZONE
BEGIN:VTIMEZONE
TZID:US/Samoa
BEGIN:STANDARD
TZOFFSETFROM:-1100
TZOFFSETTO:-1100
DTSTART:19701025T020000
END:STANDARD
END:VTIMEZONE
BEGIN:VEVENT
UID:11754894@rjfisher.lgusd.org#20270317
SEQUENCE:0
CREATED:20260421T011610Z
LAST-MODIFIED:20260421T011610Z
DTSTART;TZID=US/Pacific:20270317T062700
DTEND;TZID=US/Pacific:20270317T062800
SUMMARY:Assignment: Measurement Practice (optional)
DESCRIPTION:Click on the link below to start the game\n<a href=' https://rj
 fisher.lgusd.org/apps/classes/1061681/assignments/#hw-11754894'>Read more<
 /a>
URL:https://rjfisher.lgusd.org/apps/classes/1061681/assignments/#hw-1175489
 4
ORGANIZER;CN="Edlio Calendar":MAILTO:noreply@rjfisher.lgusd.org
DTSTAMP:20260423T061432Z
END:VEVENT
BEGIN:VEVENT
UID:11754971@rjfisher.lgusd.org#20270317
SEQUENCE:0
CREATED:20260421T011611Z
LAST-MODIFIED:20260421T011611Z
DTSTART;TZID=US/Pacific:20270317T062700
DTEND;TZID=US/Pacific:20270317T062800
SUMMARY:Assignment: Measurement Practice (optional)
DESCRIPTION:Click on the link below to start the game\n<a href=' https://rj
 fisher.lgusd.org/apps/classes/1061681/assignments/#hw-11754971'>Read more<
 /a>
URL:https://rjfisher.lgusd.org/apps/classes/1061681/assignments/#hw-1175497
 1
ORGANIZER;CN="Edlio Calendar":MAILTO:noreply@rjfisher.lgusd.org
DTSTAMP:20260423T061432Z
END:VEVENT
BEGIN:VEVENT
UID:11755018@rjfisher.lgusd.org#20270317
SEQUENCE:0
CREATED:20260421T011611Z
LAST-MODIFIED:20260421T011611Z
DTSTART;TZID=US/Pacific:20270317T062700
DTEND;TZID=US/Pacific:20270317T062800
SUMMARY:Assignment: Measurement Practice (optional)
DESCRIPTION:Click on the link below to start the game\n<a href=' https://rj
 fisher.lgusd.org/apps/classes/1061681/assignments/#hw-11755018'>Read more<
 /a>
URL:https://rjfisher.lgusd.org/apps/classes/1061681/assignments/#hw-1175501
 8
ORGANIZER;CN="Edlio Calendar":MAILTO:noreply@rjfisher.lgusd.org
DTSTAMP:20260423T061432Z
END:VEVENT
BEGIN:VEVENT
UID:11754762@rjfisher.lgusd.org#20260922
SEQUENCE:0
CREATED:20260421T011608Z
LAST-MODIFIED:20260421T011608Z
DTSTART;TZID=US/Pacific:20260922T082500
DTEND;TZID=US/Pacific:20260922T082600
SUMMARY:Assignment: Realize Login
DESCRIPTION:Please use the below link to connect your Google Classroom acco
 unt to your Realize Account.\n<a href=' https://rjfisher.lgusd.org/apps/cl
 asses/1061681/assignments/#hw-11754762'>Read more</a>
URL:https://rjfisher.lgusd.org/apps/classes/1061681/assignments/#hw-1175476
 2
ORGANIZER;CN="Edlio Calendar":MAILTO:noreply@rjfisher.lgusd.org
DTSTAMP:20260423T061432Z
END:VEVENT
BEGIN:VEVENT
UID:11754857@rjfisher.lgusd.org#20260922
SEQUENCE:0
CREATED:20260421T011609Z
LAST-MODIFIED:20260421T011609Z
DTSTART;TZID=US/Pacific:20260922T082500
DTEND;TZID=US/Pacific:20260922T082600
SUMMARY:Assignment: Realize Login
DESCRIPTION:Please use the below link to connect your Google Classroom acco
 unt to your Realize Account.\n<a href=' https://rjfisher.lgusd.org/apps/cl
 asses/1061681/assignments/#hw-11754857'>Read more</a>
URL:https://rjfisher.lgusd.org/apps/classes/1061681/assignments/#hw-1175485
 7
ORGANIZER;CN="Edlio Calendar":MAILTO:noreply@rjfisher.lgusd.org
DTSTAMP:20260423T061432Z
END:VEVENT
BEGIN:VEVENT
UID:11754895@rjfisher.lgusd.org#20260922
SEQUENCE:0
CREATED:20260421T011610Z
LAST-MODIFIED:20260421T011610Z
DTSTART;TZID=US/Pacific:20260922T082500
DTEND;TZID=US/Pacific:20260922T082600
SUMMARY:Assignment: Realize Login
DESCRIPTION:Please use the below link to connect your Google Classroom acco
 unt to your Realize Account.\n<a href=' https://rjfisher.lgusd.org/apps/cl
 asses/1061681/assignments/#hw-11754895'>Read more</a>
URL:https://rjfisher.lgusd.org/apps/classes/1061681/assignments/#hw-1175489
 5
ORGANIZER;CN="Edlio Calendar":MAILTO:noreply@rjfisher.lgusd.org
DTSTAMP:20260423T061432Z
END:VEVENT
BEGIN:VEVENT
UID:11762659@rjfisher.lgusd.org#20260421
SEQUENCE:0
CREATED:20260421T154215Z
LAST-MODIFIED:20260421T154215Z
DTSTART;TZID=US/Pacific:20260421T235800
DTEND;TZID=US/Pacific:20260421T235900
SUMMARY:Assignment: Bellwork: M/T
DESCRIPTION:Take 7 minutes to answer each question in complete sentences. A
 s soon as class begins\, quietly make that keyboard dance!<br><br>1. Have 
 you learned/know anything about genetics? List some topics you know or wan
 t to learn more about?<br>(1. I have/haven’t learned about genetics\, the 
 topics I want t\n<a href=' https://rjfisher.lgusd.org/apps/classes/1061681
 /assignments/#hw-11762659'>Read more</a>
URL:https://rjfisher.lgusd.org/apps/classes/1061681/assignments/#hw-1176265
 9
ORGANIZER;CN="Edlio Calendar":MAILTO:noreply@rjfisher.lgusd.org
DTSTAMP:20260423T061432Z
END:VEVENT
BEGIN:VEVENT
UID:11762660@rjfisher.lgusd.org#20260421
SEQUENCE:0
CREATED:20260421T154217Z
LAST-MODIFIED:20260421T154217Z
DTSTART;TZID=US/Pacific:20260421T235800
DTEND;TZID=US/Pacific:20260421T235900
SUMMARY:Assignment: Bellwork: M/T
DESCRIPTION:Take 7 minutes to answer each question in complete sentences. A
 s soon as class begins\, quietly make that keyboard dance!<br><br>1. Have 
 you learned/know anything about genetics? List some topics you know or wan
 t to learn more about?<br>(1. I have/haven’t learned about genetics\, the 
 topics I want t\n<a href=' https://rjfisher.lgusd.org/apps/classes/1061681
 /assignments/#hw-11762660'>Read more</a>
URL:https://rjfisher.lgusd.org/apps/classes/1061681/assignments/#hw-1176266
 0
ORGANIZER;CN="Edlio Calendar":MAILTO:noreply@rjfisher.lgusd.org
DTSTAMP:20260423T061432Z
END:VEVENT
BEGIN:VEVENT
UID:11762661@rjfisher.lgusd.org#20260421
SEQUENCE:0
CREATED:20260421T154217Z
LAST-MODIFIED:20260421T154217Z
DTSTART;TZID=US/Pacific:20260421T235800
DTEND;TZID=US/Pacific:20260421T235900
SUMMARY:Assignment: Bellwork: M/T
DESCRIPTION:Take 7 minutes to answer each question in complete sentences. A
 s soon as class begins\, quietly make that keyboard dance!<br><br>1. Have 
 you learned/know anything about genetics? List some topics you know or wan
 t to learn more about?<br>(1. I have/haven’t learned about genetics\, the 
 topics I want t\n<a href=' https://rjfisher.lgusd.org/apps/classes/1061681
 /assignments/#hw-11762661'>Read more</a>
URL:https://rjfisher.lgusd.org/apps/classes/1061681/assignments/#hw-1176266
 1
ORGANIZER;CN="Edlio Calendar":MAILTO:noreply@rjfisher.lgusd.org
DTSTAMP:20260423T061432Z
END:VEVENT
BEGIN:VEVENT
UID:11784228@rjfisher.lgusd.org#20260422
SEQUENCE:0
CREATED:20260422T174324Z
LAST-MODIFIED:20260422T174324Z
DTSTART;TZID=US/Pacific:20260422T235800
DTEND;TZID=US/Pacific:20260422T235900
SUMMARY:Assignment: Earth Day Facts - Earth Pixel Art Activity
URL:https://rjfisher.lgusd.org/apps/classes/1061681/assignments/#hw-1178422
 8
ORGANIZER;CN="Edlio Calendar":MAILTO:noreply@rjfisher.lgusd.org
DTSTAMP:20260423T061432Z
END:VEVENT
BEGIN:VEVENT
UID:11784229@rjfisher.lgusd.org#20260422
SEQUENCE:0
CREATED:20260422T174324Z
LAST-MODIFIED:20260422T174324Z
DTSTART;TZID=US/Pacific:20260422T235800
DTEND;TZID=US/Pacific:20260422T235900
SUMMARY:Assignment: Earth Day Facts - Earth Pixel Art Activity
URL:https://rjfisher.lgusd.org/apps/classes/1061681/assignments/#hw-1178422
 9
ORGANIZER;CN="Edlio Calendar":MAILTO:noreply@rjfisher.lgusd.org
DTSTAMP:20260423T061432Z
END:VEVENT
BEGIN:VEVENT
UID:11784230@rjfisher.lgusd.org#20260422
SEQUENCE:0
CREATED:20260422T174324Z
LAST-MODIFIED:20260422T174324Z
DTSTART;TZID=US/Pacific:20260422T235800
DTEND;TZID=US/Pacific:20260422T235900
SUMMARY:Assignment: Earth Day Facts - Earth Pixel Art Activity
URL:https://rjfisher.lgusd.org/apps/classes/1061681/assignments/#hw-1178423
 0
ORGANIZER;CN="Edlio Calendar":MAILTO:noreply@rjfisher.lgusd.org
DTSTAMP:20260423T061432Z
END:VEVENT
BEGIN:VEVENT
UID:11784231@rjfisher.lgusd.org#20260422
SEQUENCE:0
CREATED:20260422T174325Z
LAST-MODIFIED:20260422T174325Z
DTSTART;TZID=US/Pacific:20260422T235800
DTEND;TZID=US/Pacific:20260422T235900
SUMMARY:Assignment: Earth Day Facts - Earth Pixel Art Activity
URL:https://rjfisher.lgusd.org/apps/classes/1061681/assignments/#hw-1178423
 1
ORGANIZER;CN="Edlio Calendar":MAILTO:noreply@rjfisher.lgusd.org
DTSTAMP:20260423T061432Z
END:VEVENT
END:VCALENDAR
