BEGIN:VCALENDAR
VERSION:2.0
PRODID:-//Edlio Inc//Edlio Calendar//EN
CALSCALE:GREGORIAN
METHOD:PUBLISH
X-WR-CALNAME:1st Period-English 7 - Raymond J. Fisher Middle School
X-ORIGINAL-URL:https://rjfisher.lgusd.org
X-WR-CALDESC:Events calendar for rjfisher.lgusd.org
X-WR-TIMEZONE:US/Pacific
REFRESH-INTERVAL;VALUE=DURATION:PT1H
X-Robots-Tag:noindex
X-PUBLISHED-TTL:PT1H
BEGIN:VTIMEZONE
TZID:US/Pacific
BEGIN:STANDARD
TZOFFSETFROM:-0700
TZOFFSETTO:-0800
DTSTART:20071104T020000
RRULE:FREQ=YEARLY;BYMONTH=11;BYDAY=1SU
END:STANDARD
BEGIN:DAYLIGHT
TZOFFSETFROM:-0800
TZOFFSETTO:-0700
DTSTART:20070311T020000
RRULE:FREQ=YEARLY;BYMONTH=3;BYDAY=2SU
END:DAYLIGHT
END:VTIMEZONE
BEGIN:VTIMEZONE
TZID:US/East-Indiana
BEGIN:STANDARD
TZOFFSETFROM:-0500
TZOFFSETTO:-0500
DTSTART:19701025T020000
END:STANDARD
END:VTIMEZONE
BEGIN:VTIMEZONE
TZID:US/Eastern
BEGIN:STANDARD
TZOFFSETFROM:-0400
TZOFFSETTO:-0500
DTSTART:19701025T020000
RRULE:FREQ=YEARLY;BYMONTH=10;BYDAY=-1SU;UNTIL=20070311T020000
END:STANDARD
BEGIN:STANDARD
TZOFFSETFROM:-0400
TZOFFSETTO:-0500
DTSTART:20071104T020000
RRULE:FREQ=YEARLY;BYMONTH=11;BYDAY=1SU
END:STANDARD
BEGIN:DAYLIGHT
TZOFFSETFROM:-0500
TZOFFSETTO:-0400
DTSTART:19870405T020000
RRULE:FREQ=YEARLY;BYMONTH=4;BYDAY=1SU;UNTIL=20061029T020000
END:DAYLIGHT
BEGIN:DAYLIGHT
TZOFFSETFROM:-0500
TZOFFSETTO:-0400
DTSTART:20070311T020000
RRULE:FREQ=YEARLY;BYMONTH=3;BYDAY=2SU
END:DAYLIGHT
END:VTIMEZONE
BEGIN:VTIMEZONE
TZID:US/Michigan
BEGIN:STANDARD
TZOFFSETFROM:-0400
TZOFFSETTO:-0500
DTSTART:19701025T020000
RRULE:FREQ=YEARLY;BYMONTH=10;BYDAY=-1SU;UNTIL=20070311T020000
END:STANDARD
BEGIN:STANDARD
TZOFFSETFROM:-0400
TZOFFSETTO:-0500
DTSTART:20071104T020000
RRULE:FREQ=YEARLY;BYMONTH=11;BYDAY=1SU
END:STANDARD
BEGIN:DAYLIGHT
TZOFFSETFROM:-0500
TZOFFSETTO:-0400
DTSTART:19870405T020000
RRULE:FREQ=YEARLY;BYMONTH=4;BYDAY=1SU;UNTIL=20061029T020000
END:DAYLIGHT
BEGIN:DAYLIGHT
TZOFFSETFROM:-0500
TZOFFSETTO:-0400
DTSTART:20070311T020000
RRULE:FREQ=YEARLY;BYMONTH=3;BYDAY=2SU
END:DAYLIGHT
END:VTIMEZONE
BEGIN:VTIMEZONE
TZID:US/Central
BEGIN:STANDARD
TZOFFSETFROM:-0500
TZOFFSETTO:-0600
DTSTART:19701025T020000
RRULE:FREQ=YEARLY;BYMONTH=10;BYDAY=-1SU;UNTIL=20070311T020000
END:STANDARD
BEGIN:STANDARD
TZOFFSETFROM:-0500
TZOFFSETTO:-0600
DTSTART:20071104T020000
RRULE:FREQ=YEARLY;BYMONTH=11;BYDAY=1SU
END:STANDARD
BEGIN:DAYLIGHT
TZOFFSETFROM:-0600
TZOFFSETTO:-0500
DTSTART:19870405T020000
RRULE:FREQ=YEARLY;BYMONTH=4;BYDAY=1SU;UNTIL=20061029T020000
END:DAYLIGHT
BEGIN:DAYLIGHT
TZOFFSETFROM:-0600
TZOFFSETTO:-0500
DTSTART:20070311T020000
RRULE:FREQ=YEARLY;BYMONTH=3;BYDAY=2SU
END:DAYLIGHT
END:VTIMEZONE
BEGIN:VTIMEZONE
TZID:US/Mountain
BEGIN:STANDARD
TZOFFSETFROM:-0600
TZOFFSETTO:-0700
DTSTART:19701025T020000
RRULE:FREQ=YEARLY;BYMONTH=10;BYDAY=-1SU;UNTIL=20070311T020000
END:STANDARD
BEGIN:STANDARD
TZOFFSETFROM:-0600
TZOFFSETTO:-0700
DTSTART:20071104T020000
RRULE:FREQ=YEARLY;BYMONTH=11;BYDAY=1SU
END:STANDARD
BEGIN:DAYLIGHT
TZOFFSETFROM:-0700
TZOFFSETTO:-0600
DTSTART:19870405T020000
RRULE:FREQ=YEARLY;BYMONTH=4;BYDAY=1SU;UNTIL=20061029T020000
END:DAYLIGHT
BEGIN:DAYLIGHT
TZOFFSETFROM:-0700
TZOFFSETTO:-0600
DTSTART:20070311T020000
RRULE:FREQ=YEARLY;BYMONTH=3;BYDAY=2SU
END:DAYLIGHT
END:VTIMEZONE
BEGIN:VTIMEZONE
TZID:US/Arizona
BEGIN:STANDARD
TZOFFSETFROM:-0700
TZOFFSETTO:-0700
DTSTART:19701025T020000
END:STANDARD
END:VTIMEZONE
BEGIN:VTIMEZONE
TZID:US/Pacific
BEGIN:STANDARD
TZOFFSETFROM:-0700
TZOFFSETTO:-0800
DTSTART:19701025T020000
RRULE:FREQ=YEARLY;BYMONTH=10;BYDAY=-1SU;UNTIL=20070311T020000
END:STANDARD
BEGIN:STANDARD
TZOFFSETFROM:-0700
TZOFFSETTO:-0800
DTSTART:20071104T020000
RRULE:FREQ=YEARLY;BYMONTH=11;BYDAY=1SU
END:STANDARD
BEGIN:DAYLIGHT
TZOFFSETFROM:-0800
TZOFFSETTO:-0700
DTSTART:19870405T020000
RRULE:FREQ=YEARLY;BYMONTH=4;BYDAY=1SU;UNTIL=20061029T020000
END:DAYLIGHT
BEGIN:DAYLIGHT
TZOFFSETFROM:-0800
TZOFFSETTO:-0700
DTSTART:20070311T020000
RRULE:FREQ=YEARLY;BYMONTH=3;BYDAY=2SU
END:DAYLIGHT
END:VTIMEZONE
BEGIN:VTIMEZONE
TZID:US/Alaska
BEGIN:STANDARD
TZOFFSETFROM:-0800
TZOFFSETTO:-0900
DTSTART:19701025T020000
RRULE:FREQ=YEARLY;BYMONTH=10;BYDAY=-1SU;UNTIL=20070311T020000
END:STANDARD
BEGIN:STANDARD
TZOFFSETFROM:-0800
TZOFFSETTO:-0900
DTSTART:20071104T020000
RRULE:FREQ=YEARLY;BYMONTH=11;BYDAY=1SU
END:STANDARD
BEGIN:DAYLIGHT
TZOFFSETFROM:-0900
TZOFFSETTO:-0800
DTSTART:19870405T020000
RRULE:FREQ=YEARLY;BYMONTH=4;BYDAY=1SU;UNTIL=20061029T020000
END:DAYLIGHT
BEGIN:DAYLIGHT
TZOFFSETFROM:-0900
TZOFFSETTO:-0800
DTSTART:20070311T020000
RRULE:FREQ=YEARLY;BYMONTH=3;BYDAY=2SU
END:DAYLIGHT
END:VTIMEZONE
BEGIN:VTIMEZONE
TZID:US/Hawaii
BEGIN:STANDARD
TZOFFSETFROM:-1000
TZOFFSETTO:-1000
DTSTART:19701025T020000
END:STANDARD
END:VTIMEZONE
BEGIN:VTIMEZONE
TZID:US/Aleutian
BEGIN:STANDARD
TZOFFSETFROM:-1000
TZOFFSETTO:-1000
DTSTART:19701025T020000
END:STANDARD
END:VTIMEZONE
BEGIN:VTIMEZONE
TZID:US/Samoa
BEGIN:STANDARD
TZOFFSETFROM:-1100
TZOFFSETTO:-1100
DTSTART:19701025T020000
END:STANDARD
END:VTIMEZONE
BEGIN:VEVENT
UID:11793740@rjfisher.lgusd.org#20260427
SEQUENCE:0
CREATED:20260423T173250Z
LAST-MODIFIED:20260423T173250Z
DTSTART;TZID=US/Pacific:20260427T075900
DTEND;TZID=US/Pacific:20260427T080000
SUMMARY:Assignment: Bring THE GIVER novel to class MONDAY
DESCRIPTION:We will return Giver books during our library visit Monday.\n<a
  href=' https://rjfisher.lgusd.org/apps/classes/1061686/assignments/#hw-11
 793740'>Read more</a>
URL:https://rjfisher.lgusd.org/apps/classes/1061686/assignments/#hw-1179374
 0
ORGANIZER;CN="Edlio Calendar":MAILTO:noreply@rjfisher.lgusd.org
DTSTAMP:20260424T090824Z
END:VEVENT
BEGIN:VEVENT
UID:11793741@rjfisher.lgusd.org#20260427
SEQUENCE:0
CREATED:20260423T173250Z
LAST-MODIFIED:20260423T173250Z
DTSTART;TZID=US/Pacific:20260427T075900
DTEND;TZID=US/Pacific:20260427T080000
SUMMARY:Assignment: Bring THE GIVER novel to class MONDAY
DESCRIPTION:We will return Giver books during our library visit Monday.\n<a
  href=' https://rjfisher.lgusd.org/apps/classes/1061686/assignments/#hw-11
 793741'>Read more</a>
URL:https://rjfisher.lgusd.org/apps/classes/1061686/assignments/#hw-1179374
 1
ORGANIZER;CN="Edlio Calendar":MAILTO:noreply@rjfisher.lgusd.org
DTSTAMP:20260424T090824Z
END:VEVENT
BEGIN:VEVENT
UID:11793744@rjfisher.lgusd.org#20260427
SEQUENCE:0
CREATED:20260423T173250Z
LAST-MODIFIED:20260423T173250Z
DTSTART;TZID=US/Pacific:20260427T075900
DTEND;TZID=US/Pacific:20260427T080000
SUMMARY:Assignment: Bring THE GIVER novel to class MONDAY
DESCRIPTION:We will return Giver books during our library visit Monday.\n<a
  href=' https://rjfisher.lgusd.org/apps/classes/1061686/assignments/#hw-11
 793744'>Read more</a>
URL:https://rjfisher.lgusd.org/apps/classes/1061686/assignments/#hw-1179374
 4
ORGANIZER;CN="Edlio Calendar":MAILTO:noreply@rjfisher.lgusd.org
DTSTAMP:20260424T090824Z
END:VEVENT
BEGIN:VEVENT
UID:11793738@rjfisher.lgusd.org#20260427
SEQUENCE:0
CREATED:20260423T173250Z
LAST-MODIFIED:20260423T173250Z
DTSTART;TZID=US/Pacific:20260427T075900
DTEND;TZID=US/Pacific:20260427T080000
SUMMARY:Assignment: 🗣️ Spring Speech - Brainstorm Topics
URL:https://rjfisher.lgusd.org/apps/classes/1061686/assignments/#hw-1179373
 8
ORGANIZER;CN="Edlio Calendar":MAILTO:noreply@rjfisher.lgusd.org
DTSTAMP:20260424T090824Z
END:VEVENT
BEGIN:VEVENT
UID:11793739@rjfisher.lgusd.org#20260427
SEQUENCE:0
CREATED:20260423T173250Z
LAST-MODIFIED:20260423T173250Z
DTSTART;TZID=US/Pacific:20260427T075900
DTEND;TZID=US/Pacific:20260427T080000
SUMMARY:Assignment: 🗣️ Spring Speech - Brainstorm Topics
URL:https://rjfisher.lgusd.org/apps/classes/1061686/assignments/#hw-1179373
 9
ORGANIZER;CN="Edlio Calendar":MAILTO:noreply@rjfisher.lgusd.org
DTSTAMP:20260424T090824Z
END:VEVENT
BEGIN:VEVENT
UID:11793742@rjfisher.lgusd.org#20260427
SEQUENCE:0
CREATED:20260423T221301Z
LAST-MODIFIED:20260423T221301Z
DTSTART;TZID=US/Pacific:20260427T075900
DTEND;TZID=US/Pacific:20260427T080000
SUMMARY:Assignment: 🗣️ Spring Speech - Brainstorm Topics
DESCRIPTION:You will need to finalize your topic by the end of 1st period M
 onday.\n<a href=' https://rjfisher.lgusd.org/apps/classes/1061686/assignme
 nts/#hw-11793742'>Read more</a>
URL:https://rjfisher.lgusd.org/apps/classes/1061686/assignments/#hw-1179374
 2
ORGANIZER;CN="Edlio Calendar":MAILTO:noreply@rjfisher.lgusd.org
DTSTAMP:20260424T090824Z
END:VEVENT
BEGIN:VEVENT
UID:11681579@rjfisher.lgusd.org#20260427
SEQUENCE:0
CREATED:20260418T011257Z
LAST-MODIFIED:20260418T011257Z
DTSTART;TZID=US/Pacific:20260427T082900
DTEND;TZID=US/Pacific:20260427T083000
SUMMARY:Assignment: 🍎 The Giver Project: Everything Has Its Cost
URL:https://rjfisher.lgusd.org/apps/classes/1061686/assignments/#hw-1168157
 9
ORGANIZER;CN="Edlio Calendar":MAILTO:noreply@rjfisher.lgusd.org
DTSTAMP:20260424T090824Z
END:VEVENT
BEGIN:VEVENT
UID:11706692@rjfisher.lgusd.org#20260527
SEQUENCE:0
CREATED:20260418T221243Z
LAST-MODIFIED:20260418T221243Z
DTSTART;TZID=US/Pacific:20260527T195900
DTEND;TZID=US/Pacific:20260527T200000
SUMMARY:Assignment: 📚 Reading Record
DESCRIPTION:All books for Q3 must be entered by Tuesday evening at 8pm.  Us
 e integrity as you finalize your list\, and remember that I'll be checking
  in with you about one of your Q3 books.\n<a href=' https://rjfisher.lgusd
 .org/apps/classes/1061686/assignments/#hw-11706692'>Read more</a>
URL:https://rjfisher.lgusd.org/apps/classes/1061686/assignments/#hw-1170669
 2
ORGANIZER;CN="Edlio Calendar":MAILTO:noreply@rjfisher.lgusd.org
DTSTAMP:20260424T090824Z
END:VEVENT
BEGIN:VEVENT
UID:11706693@rjfisher.lgusd.org#20260527
SEQUENCE:0
CREATED:20260418T221243Z
LAST-MODIFIED:20260418T221243Z
DTSTART;TZID=US/Pacific:20260527T195900
DTEND;TZID=US/Pacific:20260527T200000
SUMMARY:Assignment: 📚 Reading Record
DESCRIPTION:All books for Q3 must be entered by Tuesday evening at 8pm.  Us
 e integrity as you finalize your list\, and remember that I'll be checking
  in with you about one of your Q3 books.\n<a href=' https://rjfisher.lgusd
 .org/apps/classes/1061686/assignments/#hw-11706693'>Read more</a>
URL:https://rjfisher.lgusd.org/apps/classes/1061686/assignments/#hw-1170669
 3
ORGANIZER;CN="Edlio Calendar":MAILTO:noreply@rjfisher.lgusd.org
DTSTAMP:20260424T090824Z
END:VEVENT
BEGIN:VEVENT
UID:11793462@rjfisher.lgusd.org#20260423
SEQUENCE:0
CREATED:20260423T144618Z
LAST-MODIFIED:20260423T144618Z
DTSTART;TZID=US/Pacific:20260423T235800
DTEND;TZID=US/Pacific:20260423T235900
SUMMARY:Assignment: ✂️ Work on Your Giver Project Symbol- Thursday
URL:https://rjfisher.lgusd.org/apps/classes/1061686/assignments/#hw-1179346
 2
ORGANIZER;CN="Edlio Calendar":MAILTO:noreply@rjfisher.lgusd.org
DTSTAMP:20260424T090824Z
END:VEVENT
BEGIN:VEVENT
UID:11793463@rjfisher.lgusd.org#20260423
SEQUENCE:0
CREATED:20260423T144618Z
LAST-MODIFIED:20260423T144618Z
DTSTART;TZID=US/Pacific:20260423T235800
DTEND;TZID=US/Pacific:20260423T235900
SUMMARY:Assignment: ✂️ Work on Your Giver Project Symbol- Thursday
URL:https://rjfisher.lgusd.org/apps/classes/1061686/assignments/#hw-1179346
 3
ORGANIZER;CN="Edlio Calendar":MAILTO:noreply@rjfisher.lgusd.org
DTSTAMP:20260424T090824Z
END:VEVENT
BEGIN:VEVENT
UID:11793459@rjfisher.lgusd.org#20260423
SEQUENCE:0
CREATED:20260423T144618Z
LAST-MODIFIED:20260423T144618Z
DTSTART;TZID=US/Pacific:20260423T235800
DTEND;TZID=US/Pacific:20260423T235900
SUMMARY:Assignment: 📙 Read for 30 Minutes on Thursday
URL:https://rjfisher.lgusd.org/apps/classes/1061686/assignments/#hw-1179345
 9
ORGANIZER;CN="Edlio Calendar":MAILTO:noreply@rjfisher.lgusd.org
DTSTAMP:20260424T090824Z
END:VEVENT
BEGIN:VEVENT
UID:11793460@rjfisher.lgusd.org#20260423
SEQUENCE:0
CREATED:20260423T144618Z
LAST-MODIFIED:20260423T144618Z
DTSTART;TZID=US/Pacific:20260423T235800
DTEND;TZID=US/Pacific:20260423T235900
SUMMARY:Assignment: 📙 Read for 30 Minutes on Thursday
URL:https://rjfisher.lgusd.org/apps/classes/1061686/assignments/#hw-1179346
 0
ORGANIZER;CN="Edlio Calendar":MAILTO:noreply@rjfisher.lgusd.org
DTSTAMP:20260424T090824Z
END:VEVENT
END:VCALENDAR
