BEGIN:VCALENDAR
VERSION:2.0
PRODID:-//Edlio Inc//Edlio Calendar//EN
CALSCALE:GREGORIAN
METHOD:PUBLISH
X-WR-CALNAME:Period 1 French 1 GAGE-8th grade French 1 - Raymond J. Fisher 
 Middle School
X-ORIGINAL-URL:https://rjfisher.lgusd.org
X-WR-CALDESC:Events calendar for rjfisher.lgusd.org
X-WR-TIMEZONE:US/Pacific
REFRESH-INTERVAL;VALUE=DURATION:PT1H
X-Robots-Tag:noindex
X-PUBLISHED-TTL:PT1H
BEGIN:VTIMEZONE
TZID:US/Pacific
BEGIN:STANDARD
TZOFFSETFROM:-0700
TZOFFSETTO:-0800
DTSTART:20071104T020000
RRULE:FREQ=YEARLY;BYMONTH=11;BYDAY=1SU
END:STANDARD
BEGIN:DAYLIGHT
TZOFFSETFROM:-0800
TZOFFSETTO:-0700
DTSTART:20070311T020000
RRULE:FREQ=YEARLY;BYMONTH=3;BYDAY=2SU
END:DAYLIGHT
END:VTIMEZONE
BEGIN:VTIMEZONE
TZID:US/East-Indiana
BEGIN:STANDARD
TZOFFSETFROM:-0500
TZOFFSETTO:-0500
DTSTART:19701025T020000
END:STANDARD
END:VTIMEZONE
BEGIN:VTIMEZONE
TZID:US/Eastern
BEGIN:STANDARD
TZOFFSETFROM:-0400
TZOFFSETTO:-0500
DTSTART:19701025T020000
RRULE:FREQ=YEARLY;BYMONTH=10;BYDAY=-1SU;UNTIL=20070311T020000
END:STANDARD
BEGIN:STANDARD
TZOFFSETFROM:-0400
TZOFFSETTO:-0500
DTSTART:20071104T020000
RRULE:FREQ=YEARLY;BYMONTH=11;BYDAY=1SU
END:STANDARD
BEGIN:DAYLIGHT
TZOFFSETFROM:-0500
TZOFFSETTO:-0400
DTSTART:19870405T020000
RRULE:FREQ=YEARLY;BYMONTH=4;BYDAY=1SU;UNTIL=20061029T020000
END:DAYLIGHT
BEGIN:DAYLIGHT
TZOFFSETFROM:-0500
TZOFFSETTO:-0400
DTSTART:20070311T020000
RRULE:FREQ=YEARLY;BYMONTH=3;BYDAY=2SU
END:DAYLIGHT
END:VTIMEZONE
BEGIN:VTIMEZONE
TZID:US/Michigan
BEGIN:STANDARD
TZOFFSETFROM:-0400
TZOFFSETTO:-0500
DTSTART:19701025T020000
RRULE:FREQ=YEARLY;BYMONTH=10;BYDAY=-1SU;UNTIL=20070311T020000
END:STANDARD
BEGIN:STANDARD
TZOFFSETFROM:-0400
TZOFFSETTO:-0500
DTSTART:20071104T020000
RRULE:FREQ=YEARLY;BYMONTH=11;BYDAY=1SU
END:STANDARD
BEGIN:DAYLIGHT
TZOFFSETFROM:-0500
TZOFFSETTO:-0400
DTSTART:19870405T020000
RRULE:FREQ=YEARLY;BYMONTH=4;BYDAY=1SU;UNTIL=20061029T020000
END:DAYLIGHT
BEGIN:DAYLIGHT
TZOFFSETFROM:-0500
TZOFFSETTO:-0400
DTSTART:20070311T020000
RRULE:FREQ=YEARLY;BYMONTH=3;BYDAY=2SU
END:DAYLIGHT
END:VTIMEZONE
BEGIN:VTIMEZONE
TZID:US/Central
BEGIN:STANDARD
TZOFFSETFROM:-0500
TZOFFSETTO:-0600
DTSTART:19701025T020000
RRULE:FREQ=YEARLY;BYMONTH=10;BYDAY=-1SU;UNTIL=20070311T020000
END:STANDARD
BEGIN:STANDARD
TZOFFSETFROM:-0500
TZOFFSETTO:-0600
DTSTART:20071104T020000
RRULE:FREQ=YEARLY;BYMONTH=11;BYDAY=1SU
END:STANDARD
BEGIN:DAYLIGHT
TZOFFSETFROM:-0600
TZOFFSETTO:-0500
DTSTART:19870405T020000
RRULE:FREQ=YEARLY;BYMONTH=4;BYDAY=1SU;UNTIL=20061029T020000
END:DAYLIGHT
BEGIN:DAYLIGHT
TZOFFSETFROM:-0600
TZOFFSETTO:-0500
DTSTART:20070311T020000
RRULE:FREQ=YEARLY;BYMONTH=3;BYDAY=2SU
END:DAYLIGHT
END:VTIMEZONE
BEGIN:VTIMEZONE
TZID:US/Mountain
BEGIN:STANDARD
TZOFFSETFROM:-0600
TZOFFSETTO:-0700
DTSTART:19701025T020000
RRULE:FREQ=YEARLY;BYMONTH=10;BYDAY=-1SU;UNTIL=20070311T020000
END:STANDARD
BEGIN:STANDARD
TZOFFSETFROM:-0600
TZOFFSETTO:-0700
DTSTART:20071104T020000
RRULE:FREQ=YEARLY;BYMONTH=11;BYDAY=1SU
END:STANDARD
BEGIN:DAYLIGHT
TZOFFSETFROM:-0700
TZOFFSETTO:-0600
DTSTART:19870405T020000
RRULE:FREQ=YEARLY;BYMONTH=4;BYDAY=1SU;UNTIL=20061029T020000
END:DAYLIGHT
BEGIN:DAYLIGHT
TZOFFSETFROM:-0700
TZOFFSETTO:-0600
DTSTART:20070311T020000
RRULE:FREQ=YEARLY;BYMONTH=3;BYDAY=2SU
END:DAYLIGHT
END:VTIMEZONE
BEGIN:VTIMEZONE
TZID:US/Arizona
BEGIN:STANDARD
TZOFFSETFROM:-0700
TZOFFSETTO:-0700
DTSTART:19701025T020000
END:STANDARD
END:VTIMEZONE
BEGIN:VTIMEZONE
TZID:US/Pacific
BEGIN:STANDARD
TZOFFSETFROM:-0700
TZOFFSETTO:-0800
DTSTART:19701025T020000
RRULE:FREQ=YEARLY;BYMONTH=10;BYDAY=-1SU;UNTIL=20070311T020000
END:STANDARD
BEGIN:STANDARD
TZOFFSETFROM:-0700
TZOFFSETTO:-0800
DTSTART:20071104T020000
RRULE:FREQ=YEARLY;BYMONTH=11;BYDAY=1SU
END:STANDARD
BEGIN:DAYLIGHT
TZOFFSETFROM:-0800
TZOFFSETTO:-0700
DTSTART:19870405T020000
RRULE:FREQ=YEARLY;BYMONTH=4;BYDAY=1SU;UNTIL=20061029T020000
END:DAYLIGHT
BEGIN:DAYLIGHT
TZOFFSETFROM:-0800
TZOFFSETTO:-0700
DTSTART:20070311T020000
RRULE:FREQ=YEARLY;BYMONTH=3;BYDAY=2SU
END:DAYLIGHT
END:VTIMEZONE
BEGIN:VTIMEZONE
TZID:US/Alaska
BEGIN:STANDARD
TZOFFSETFROM:-0800
TZOFFSETTO:-0900
DTSTART:19701025T020000
RRULE:FREQ=YEARLY;BYMONTH=10;BYDAY=-1SU;UNTIL=20070311T020000
END:STANDARD
BEGIN:STANDARD
TZOFFSETFROM:-0800
TZOFFSETTO:-0900
DTSTART:20071104T020000
RRULE:FREQ=YEARLY;BYMONTH=11;BYDAY=1SU
END:STANDARD
BEGIN:DAYLIGHT
TZOFFSETFROM:-0900
TZOFFSETTO:-0800
DTSTART:19870405T020000
RRULE:FREQ=YEARLY;BYMONTH=4;BYDAY=1SU;UNTIL=20061029T020000
END:DAYLIGHT
BEGIN:DAYLIGHT
TZOFFSETFROM:-0900
TZOFFSETTO:-0800
DTSTART:20070311T020000
RRULE:FREQ=YEARLY;BYMONTH=3;BYDAY=2SU
END:DAYLIGHT
END:VTIMEZONE
BEGIN:VTIMEZONE
TZID:US/Hawaii
BEGIN:STANDARD
TZOFFSETFROM:-1000
TZOFFSETTO:-1000
DTSTART:19701025T020000
END:STANDARD
END:VTIMEZONE
BEGIN:VTIMEZONE
TZID:US/Aleutian
BEGIN:STANDARD
TZOFFSETFROM:-1000
TZOFFSETTO:-1000
DTSTART:19701025T020000
END:STANDARD
END:VTIMEZONE
BEGIN:VTIMEZONE
TZID:US/Samoa
BEGIN:STANDARD
TZOFFSETFROM:-1100
TZOFFSETTO:-1100
DTSTART:19701025T020000
END:STANDARD
END:VTIMEZONE
BEGIN:VEVENT
UID:11793720@rjfisher.lgusd.org#20260427
SEQUENCE:0
CREATED:20260423T173206Z
LAST-MODIFIED:20260423T173206Z
DTSTART;TZID=US/Pacific:20260427T082900
DTEND;TZID=US/Pacific:20260427T083000
SUMMARY:Assignment: Chapitre 4 La France en Danger
DESCRIPTION:Here is chapter 4. Read it for homework. You should have alread
 y completed the review of chapters 1\,2\,3 if you haven't\, do it too. \n<
 a href=' https://rjfisher.lgusd.org/apps/classes/1061713/assignments/#hw-1
 1793720'>Read more</a>
URL:https://rjfisher.lgusd.org/apps/classes/1061713/assignments/#hw-1179372
 0
ORGANIZER;CN="Edlio Calendar":MAILTO:noreply@rjfisher.lgusd.org
DTSTAMP:20260426T004245Z
END:VEVENT
BEGIN:VEVENT
UID:11793722@rjfisher.lgusd.org#20260427
SEQUENCE:0
CREATED:20260423T173207Z
LAST-MODIFIED:20260423T173207Z
DTSTART;TZID=US/Pacific:20260427T082900
DTEND;TZID=US/Pacific:20260427T083000
SUMMARY:Assignment: Chapitre 4 La France en Danger
DESCRIPTION:Here is chapter 4. Read it for homework. You should have alread
 y completed the review of chapters 1\,2\,3 if you haven't\, do it too. \n<
 a href=' https://rjfisher.lgusd.org/apps/classes/1061713/assignments/#hw-1
 1793722'>Read more</a>
URL:https://rjfisher.lgusd.org/apps/classes/1061713/assignments/#hw-1179372
 2
ORGANIZER;CN="Edlio Calendar":MAILTO:noreply@rjfisher.lgusd.org
DTSTAMP:20260426T004245Z
END:VEVENT
BEGIN:VEVENT
UID:11793724@rjfisher.lgusd.org#20260427
SEQUENCE:0
CREATED:20260423T173207Z
LAST-MODIFIED:20260423T173207Z
DTSTART;TZID=US/Pacific:20260427T082900
DTEND;TZID=US/Pacific:20260427T083000
SUMMARY:Assignment: Chapitre 4 La France en Danger
DESCRIPTION:Here is chapter 4. Read it for homework. You should have alread
 y completed the review of chapters 1\,2\,3 if you haven't\, do it too. \n<
 a href=' https://rjfisher.lgusd.org/apps/classes/1061713/assignments/#hw-1
 1793724'>Read more</a>
URL:https://rjfisher.lgusd.org/apps/classes/1061713/assignments/#hw-1179372
 4
ORGANIZER;CN="Edlio Calendar":MAILTO:noreply@rjfisher.lgusd.org
DTSTAMP:20260426T004245Z
END:VEVENT
BEGIN:VEVENT
UID:11793726@rjfisher.lgusd.org#20260427
SEQUENCE:0
CREATED:20260423T173208Z
LAST-MODIFIED:20260423T173208Z
DTSTART;TZID=US/Pacific:20260427T082900
DTEND;TZID=US/Pacific:20260427T083000
SUMMARY:Assignment: Chapitre 4 La France en Danger
DESCRIPTION:Here is chapter 4. Read it for homework. You should have alread
 y completed the review of chapters 1\,2\,3 if you haven't\, do it too. \n<
 a href=' https://rjfisher.lgusd.org/apps/classes/1061713/assignments/#hw-1
 1793726'>Read more</a>
URL:https://rjfisher.lgusd.org/apps/classes/1061713/assignments/#hw-1179372
 6
ORGANIZER;CN="Edlio Calendar":MAILTO:noreply@rjfisher.lgusd.org
DTSTAMP:20260426T004245Z
END:VEVENT
BEGIN:VEVENT
UID:11746800@rjfisher.lgusd.org#20260427
SEQUENCE:0
CREATED:20260420T191119Z
LAST-MODIFIED:20260420T191119Z
DTSTART;TZID=US/Pacific:20260427T082900
DTEND;TZID=US/Pacific:20260427T083000
SUMMARY:Assignment: Edpuzzle - le petit nicolas le football
DESCRIPTION:Regarder le film et répondre aux questions<br>\n<a href=' https
 ://rjfisher.lgusd.org/apps/classes/1061713/assignments/#hw-11746800'>Read 
 more</a>
URL:https://rjfisher.lgusd.org/apps/classes/1061713/assignments/#hw-1174680
 0
ORGANIZER;CN="Edlio Calendar":MAILTO:noreply@rjfisher.lgusd.org
DTSTAMP:20260426T004245Z
END:VEVENT
BEGIN:VEVENT
UID:11746801@rjfisher.lgusd.org#20260427
SEQUENCE:0
CREATED:20260420T191120Z
LAST-MODIFIED:20260420T191120Z
DTSTART;TZID=US/Pacific:20260427T082900
DTEND;TZID=US/Pacific:20260427T083000
SUMMARY:Assignment: Edpuzzle - le petit nicolas le football
DESCRIPTION:Regarder le film et répondre aux questions<br>\n<a href=' https
 ://rjfisher.lgusd.org/apps/classes/1061713/assignments/#hw-11746801'>Read 
 more</a>
URL:https://rjfisher.lgusd.org/apps/classes/1061713/assignments/#hw-1174680
 1
ORGANIZER;CN="Edlio Calendar":MAILTO:noreply@rjfisher.lgusd.org
DTSTAMP:20260426T004245Z
END:VEVENT
BEGIN:VEVENT
UID:11793719@rjfisher.lgusd.org#20260429
SEQUENCE:0
CREATED:20260423T173206Z
LAST-MODIFIED:20260423T173206Z
DTSTART;TZID=US/Pacific:20260429T082900
DTEND;TZID=US/Pacific:20260429T083000
SUMMARY:Assignment: Gimkit - passé au composé 
DESCRIPTION:Finish 40 questions to have full credit.\n<a href=' https://rjf
 isher.lgusd.org/apps/classes/1061713/assignments/#hw-11793719'>Read more</
 a>
URL:https://rjfisher.lgusd.org/apps/classes/1061713/assignments/#hw-1179371
 9
ORGANIZER;CN="Edlio Calendar":MAILTO:noreply@rjfisher.lgusd.org
DTSTAMP:20260426T004245Z
END:VEVENT
BEGIN:VEVENT
UID:11793721@rjfisher.lgusd.org#20260429
SEQUENCE:0
CREATED:20260423T173207Z
LAST-MODIFIED:20260423T173207Z
DTSTART;TZID=US/Pacific:20260429T082900
DTEND;TZID=US/Pacific:20260429T083000
SUMMARY:Assignment: Gimkit - passé au composé 
DESCRIPTION:Finish 40 questions to have full credit.\n<a href=' https://rjf
 isher.lgusd.org/apps/classes/1061713/assignments/#hw-11793721'>Read more</
 a>
URL:https://rjfisher.lgusd.org/apps/classes/1061713/assignments/#hw-1179372
 1
ORGANIZER;CN="Edlio Calendar":MAILTO:noreply@rjfisher.lgusd.org
DTSTAMP:20260426T004245Z
END:VEVENT
BEGIN:VEVENT
UID:11793723@rjfisher.lgusd.org#20260429
SEQUENCE:0
CREATED:20260423T173207Z
LAST-MODIFIED:20260423T173207Z
DTSTART;TZID=US/Pacific:20260429T082900
DTEND;TZID=US/Pacific:20260429T083000
SUMMARY:Assignment: Gimkit - passé au composé 
DESCRIPTION:Finish 40 questions to have full credit.\n<a href=' https://rjf
 isher.lgusd.org/apps/classes/1061713/assignments/#hw-11793723'>Read more</
 a>
URL:https://rjfisher.lgusd.org/apps/classes/1061713/assignments/#hw-1179372
 3
ORGANIZER;CN="Edlio Calendar":MAILTO:noreply@rjfisher.lgusd.org
DTSTAMP:20260426T004245Z
END:VEVENT
BEGIN:VEVENT
UID:11793725@rjfisher.lgusd.org#20260429
SEQUENCE:0
CREATED:20260423T173208Z
LAST-MODIFIED:20260423T173208Z
DTSTART;TZID=US/Pacific:20260429T082900
DTEND;TZID=US/Pacific:20260429T083000
SUMMARY:Assignment: Gimkit - passé au composé 
DESCRIPTION:Finish 40 questions to have full credit.\n<a href=' https://rjf
 isher.lgusd.org/apps/classes/1061713/assignments/#hw-11793725'>Read more</
 a>
URL:https://rjfisher.lgusd.org/apps/classes/1061713/assignments/#hw-1179372
 5
ORGANIZER;CN="Edlio Calendar":MAILTO:noreply@rjfisher.lgusd.org
DTSTAMP:20260426T004245Z
END:VEVENT
BEGIN:VEVENT
UID:11784193@rjfisher.lgusd.org#20260427
SEQUENCE:0
CREATED:20260425T214302Z
LAST-MODIFIED:20260425T214302Z
DTSTART;TZID=US/Pacific:20260427T082900
DTEND;TZID=US/Pacific:20260427T083000
SUMMARY:Assignment: Human Bingo verbes en IR\, RE et irréguliers
DESCRIPTION:Write the definitions and be prepared to act them out. Use the 
 copy I give you in class.\n<a href=' https://rjfisher.lgusd.org/apps/class
 es/1061713/assignments/#hw-11784193'>Read more</a>
URL:https://rjfisher.lgusd.org/apps/classes/1061713/assignments/#hw-1178419
 3
ORGANIZER;CN="Edlio Calendar":MAILTO:noreply@rjfisher.lgusd.org
DTSTAMP:20260426T004245Z
END:VEVENT
BEGIN:VEVENT
UID:11793506@rjfisher.lgusd.org#20260427
SEQUENCE:0
CREATED:20260423T155050Z
LAST-MODIFIED:20260423T155050Z
DTSTART;TZID=US/Pacific:20260427T235800
DTEND;TZID=US/Pacific:20260427T235900
SUMMARY:Assignment: Revise chapitre 1\,2\, 3 La France en Danger
DESCRIPTION:After you finish the quiz\, start working on this homework to r
 eview for the next chapter\n<a href=' https://rjfisher.lgusd.org/apps/clas
 ses/1061713/assignments/#hw-11793506'>Read more</a>
URL:https://rjfisher.lgusd.org/apps/classes/1061713/assignments/#hw-1179350
 6
ORGANIZER;CN="Edlio Calendar":MAILTO:noreply@rjfisher.lgusd.org
DTSTAMP:20260426T004245Z
END:VEVENT
BEGIN:VEVENT
UID:11793507@rjfisher.lgusd.org#20260427
SEQUENCE:0
CREATED:20260423T155050Z
LAST-MODIFIED:20260423T155050Z
DTSTART;TZID=US/Pacific:20260427T235800
DTEND;TZID=US/Pacific:20260427T235900
SUMMARY:Assignment: Revise chapitre 1\,2\, 3 La France en Danger
DESCRIPTION:After you finish the quiz\, start working on this homework to r
 eview for the next chapter\n<a href=' https://rjfisher.lgusd.org/apps/clas
 ses/1061713/assignments/#hw-11793507'>Read more</a>
URL:https://rjfisher.lgusd.org/apps/classes/1061713/assignments/#hw-1179350
 7
ORGANIZER;CN="Edlio Calendar":MAILTO:noreply@rjfisher.lgusd.org
DTSTAMP:20260426T004245Z
END:VEVENT
BEGIN:VEVENT
UID:11793509@rjfisher.lgusd.org#20260427
SEQUENCE:0
CREATED:20260423T155050Z
LAST-MODIFIED:20260423T155050Z
DTSTART;TZID=US/Pacific:20260427T235800
DTEND;TZID=US/Pacific:20260427T235900
SUMMARY:Assignment: Revise chapitre 1\,2\, 3 La France en Danger
DESCRIPTION:After you finish the quiz\, start working on this homework to r
 eview for the next chapter\n<a href=' https://rjfisher.lgusd.org/apps/clas
 ses/1061713/assignments/#hw-11793509'>Read more</a>
URL:https://rjfisher.lgusd.org/apps/classes/1061713/assignments/#hw-1179350
 9
ORGANIZER;CN="Edlio Calendar":MAILTO:noreply@rjfisher.lgusd.org
DTSTAMP:20260426T004245Z
END:VEVENT
END:VCALENDAR
