BEGIN:VCALENDAR
VERSION:2.0
PRODID:-//Edlio Inc//Edlio Calendar//EN
CALSCALE:GREGORIAN
METHOD:PUBLISH
X-WR-CALNAME:Symphonic Band-1 - Raymond J. Fisher Middle School
X-ORIGINAL-URL:https://rjfisher.lgusd.org
X-WR-CALDESC:Events calendar for rjfisher.lgusd.org
X-WR-TIMEZONE:US/Pacific
REFRESH-INTERVAL;VALUE=DURATION:PT1H
X-Robots-Tag:noindex
X-PUBLISHED-TTL:PT1H
BEGIN:VTIMEZONE
TZID:US/Pacific
BEGIN:STANDARD
TZOFFSETFROM:-0700
TZOFFSETTO:-0800
DTSTART:20071104T020000
RRULE:FREQ=YEARLY;BYMONTH=11;BYDAY=1SU
END:STANDARD
BEGIN:DAYLIGHT
TZOFFSETFROM:-0800
TZOFFSETTO:-0700
DTSTART:20070311T020000
RRULE:FREQ=YEARLY;BYMONTH=3;BYDAY=2SU
END:DAYLIGHT
END:VTIMEZONE
BEGIN:VTIMEZONE
TZID:US/East-Indiana
BEGIN:STANDARD
TZOFFSETFROM:-0500
TZOFFSETTO:-0500
DTSTART:19701025T020000
END:STANDARD
END:VTIMEZONE
BEGIN:VTIMEZONE
TZID:US/Eastern
BEGIN:STANDARD
TZOFFSETFROM:-0400
TZOFFSETTO:-0500
DTSTART:19701025T020000
RRULE:FREQ=YEARLY;BYMONTH=10;BYDAY=-1SU;UNTIL=20070311T020000
END:STANDARD
BEGIN:STANDARD
TZOFFSETFROM:-0400
TZOFFSETTO:-0500
DTSTART:20071104T020000
RRULE:FREQ=YEARLY;BYMONTH=11;BYDAY=1SU
END:STANDARD
BEGIN:DAYLIGHT
TZOFFSETFROM:-0500
TZOFFSETTO:-0400
DTSTART:19870405T020000
RRULE:FREQ=YEARLY;BYMONTH=4;BYDAY=1SU;UNTIL=20061029T020000
END:DAYLIGHT
BEGIN:DAYLIGHT
TZOFFSETFROM:-0500
TZOFFSETTO:-0400
DTSTART:20070311T020000
RRULE:FREQ=YEARLY;BYMONTH=3;BYDAY=2SU
END:DAYLIGHT
END:VTIMEZONE
BEGIN:VTIMEZONE
TZID:US/Michigan
BEGIN:STANDARD
TZOFFSETFROM:-0400
TZOFFSETTO:-0500
DTSTART:19701025T020000
RRULE:FREQ=YEARLY;BYMONTH=10;BYDAY=-1SU;UNTIL=20070311T020000
END:STANDARD
BEGIN:STANDARD
TZOFFSETFROM:-0400
TZOFFSETTO:-0500
DTSTART:20071104T020000
RRULE:FREQ=YEARLY;BYMONTH=11;BYDAY=1SU
END:STANDARD
BEGIN:DAYLIGHT
TZOFFSETFROM:-0500
TZOFFSETTO:-0400
DTSTART:19870405T020000
RRULE:FREQ=YEARLY;BYMONTH=4;BYDAY=1SU;UNTIL=20061029T020000
END:DAYLIGHT
BEGIN:DAYLIGHT
TZOFFSETFROM:-0500
TZOFFSETTO:-0400
DTSTART:20070311T020000
RRULE:FREQ=YEARLY;BYMONTH=3;BYDAY=2SU
END:DAYLIGHT
END:VTIMEZONE
BEGIN:VTIMEZONE
TZID:US/Central
BEGIN:STANDARD
TZOFFSETFROM:-0500
TZOFFSETTO:-0600
DTSTART:19701025T020000
RRULE:FREQ=YEARLY;BYMONTH=10;BYDAY=-1SU;UNTIL=20070311T020000
END:STANDARD
BEGIN:STANDARD
TZOFFSETFROM:-0500
TZOFFSETTO:-0600
DTSTART:20071104T020000
RRULE:FREQ=YEARLY;BYMONTH=11;BYDAY=1SU
END:STANDARD
BEGIN:DAYLIGHT
TZOFFSETFROM:-0600
TZOFFSETTO:-0500
DTSTART:19870405T020000
RRULE:FREQ=YEARLY;BYMONTH=4;BYDAY=1SU;UNTIL=20061029T020000
END:DAYLIGHT
BEGIN:DAYLIGHT
TZOFFSETFROM:-0600
TZOFFSETTO:-0500
DTSTART:20070311T020000
RRULE:FREQ=YEARLY;BYMONTH=3;BYDAY=2SU
END:DAYLIGHT
END:VTIMEZONE
BEGIN:VTIMEZONE
TZID:US/Mountain
BEGIN:STANDARD
TZOFFSETFROM:-0600
TZOFFSETTO:-0700
DTSTART:19701025T020000
RRULE:FREQ=YEARLY;BYMONTH=10;BYDAY=-1SU;UNTIL=20070311T020000
END:STANDARD
BEGIN:STANDARD
TZOFFSETFROM:-0600
TZOFFSETTO:-0700
DTSTART:20071104T020000
RRULE:FREQ=YEARLY;BYMONTH=11;BYDAY=1SU
END:STANDARD
BEGIN:DAYLIGHT
TZOFFSETFROM:-0700
TZOFFSETTO:-0600
DTSTART:19870405T020000
RRULE:FREQ=YEARLY;BYMONTH=4;BYDAY=1SU;UNTIL=20061029T020000
END:DAYLIGHT
BEGIN:DAYLIGHT
TZOFFSETFROM:-0700
TZOFFSETTO:-0600
DTSTART:20070311T020000
RRULE:FREQ=YEARLY;BYMONTH=3;BYDAY=2SU
END:DAYLIGHT
END:VTIMEZONE
BEGIN:VTIMEZONE
TZID:US/Arizona
BEGIN:STANDARD
TZOFFSETFROM:-0700
TZOFFSETTO:-0700
DTSTART:19701025T020000
END:STANDARD
END:VTIMEZONE
BEGIN:VTIMEZONE
TZID:US/Pacific
BEGIN:STANDARD
TZOFFSETFROM:-0700
TZOFFSETTO:-0800
DTSTART:19701025T020000
RRULE:FREQ=YEARLY;BYMONTH=10;BYDAY=-1SU;UNTIL=20070311T020000
END:STANDARD
BEGIN:STANDARD
TZOFFSETFROM:-0700
TZOFFSETTO:-0800
DTSTART:20071104T020000
RRULE:FREQ=YEARLY;BYMONTH=11;BYDAY=1SU
END:STANDARD
BEGIN:DAYLIGHT
TZOFFSETFROM:-0800
TZOFFSETTO:-0700
DTSTART:19870405T020000
RRULE:FREQ=YEARLY;BYMONTH=4;BYDAY=1SU;UNTIL=20061029T020000
END:DAYLIGHT
BEGIN:DAYLIGHT
TZOFFSETFROM:-0800
TZOFFSETTO:-0700
DTSTART:20070311T020000
RRULE:FREQ=YEARLY;BYMONTH=3;BYDAY=2SU
END:DAYLIGHT
END:VTIMEZONE
BEGIN:VTIMEZONE
TZID:US/Alaska
BEGIN:STANDARD
TZOFFSETFROM:-0800
TZOFFSETTO:-0900
DTSTART:19701025T020000
RRULE:FREQ=YEARLY;BYMONTH=10;BYDAY=-1SU;UNTIL=20070311T020000
END:STANDARD
BEGIN:STANDARD
TZOFFSETFROM:-0800
TZOFFSETTO:-0900
DTSTART:20071104T020000
RRULE:FREQ=YEARLY;BYMONTH=11;BYDAY=1SU
END:STANDARD
BEGIN:DAYLIGHT
TZOFFSETFROM:-0900
TZOFFSETTO:-0800
DTSTART:19870405T020000
RRULE:FREQ=YEARLY;BYMONTH=4;BYDAY=1SU;UNTIL=20061029T020000
END:DAYLIGHT
BEGIN:DAYLIGHT
TZOFFSETFROM:-0900
TZOFFSETTO:-0800
DTSTART:20070311T020000
RRULE:FREQ=YEARLY;BYMONTH=3;BYDAY=2SU
END:DAYLIGHT
END:VTIMEZONE
BEGIN:VTIMEZONE
TZID:US/Hawaii
BEGIN:STANDARD
TZOFFSETFROM:-1000
TZOFFSETTO:-1000
DTSTART:19701025T020000
END:STANDARD
END:VTIMEZONE
BEGIN:VTIMEZONE
TZID:US/Aleutian
BEGIN:STANDARD
TZOFFSETFROM:-1000
TZOFFSETTO:-1000
DTSTART:19701025T020000
END:STANDARD
END:VTIMEZONE
BEGIN:VTIMEZONE
TZID:US/Samoa
BEGIN:STANDARD
TZOFFSETFROM:-1100
TZOFFSETTO:-1100
DTSTART:19701025T020000
END:STANDARD
END:VTIMEZONE
BEGIN:VEVENT
UID:11744265@rjfisher.lgusd.org#20260430
SEQUENCE:0
CREATED:20260420T101630Z
LAST-MODIFIED:20260420T101630Z
DTSTART;TZID=US/Pacific:20260430T235800
DTEND;TZID=US/Pacific:20260430T235900
SUMMARY:Assignment: Playing Test #2
DESCRIPTION:You will play two scales from pages 42-43  (not including the c
 hromatic scale IN CLASS on Thursday\, April 30th. You need to learn them a
 ll\, but will have a random scales chosen to play for the test. <br><br>If
  you would prefer to record yourself\, and turn in a video\, you must reco
 rd ALL SCALES (\n<a href=' https://rjfisher.lgusd.org/apps/classes/1061761
 /assignments/#hw-11744265'>Read more</a>
URL:https://rjfisher.lgusd.org/apps/classes/1061761/assignments/#hw-1174426
 5
ORGANIZER;CN="Edlio Calendar":MAILTO:noreply@rjfisher.lgusd.org
DTSTAMP:20260423T091423Z
END:VEVENT
BEGIN:VEVENT
UID:11744281@rjfisher.lgusd.org#20260430
SEQUENCE:0
CREATED:20260420T101630Z
LAST-MODIFIED:20260420T101630Z
DTSTART;TZID=US/Pacific:20260430T235800
DTEND;TZID=US/Pacific:20260430T235900
SUMMARY:Assignment: Playing Test #2
DESCRIPTION:You will play two scales from pages 42-43  (not including the c
 hromatic scale IN CLASS on Thursday\, April 30th. You need to learn them a
 ll\, but will have a random scales chosen to play for the test. <br><br>If
  you would prefer to record yourself\, and turn in a video\, you must reco
 rd ALL SCALES (\n<a href=' https://rjfisher.lgusd.org/apps/classes/1061761
 /assignments/#hw-11744281'>Read more</a>
URL:https://rjfisher.lgusd.org/apps/classes/1061761/assignments/#hw-1174428
 1
ORGANIZER;CN="Edlio Calendar":MAILTO:noreply@rjfisher.lgusd.org
DTSTAMP:20260423T091423Z
END:VEVENT
BEGIN:VEVENT
UID:11744283@rjfisher.lgusd.org#20260430
SEQUENCE:0
CREATED:20260420T101630Z
LAST-MODIFIED:20260420T101630Z
DTSTART;TZID=US/Pacific:20260430T235800
DTEND;TZID=US/Pacific:20260430T235900
SUMMARY:Assignment: Playing Test #2
DESCRIPTION:You will play two scales from pages 42-43  (not including the c
 hromatic scale IN CLASS on Thursday\, April 30th. You need to learn them a
 ll\, but will have a random scales chosen to play for the test. <br><br>If
  you would prefer to record yourself\, and turn in a video\, you must reco
 rd ALL SCALES (\n<a href=' https://rjfisher.lgusd.org/apps/classes/1061761
 /assignments/#hw-11744283'>Read more</a>
URL:https://rjfisher.lgusd.org/apps/classes/1061761/assignments/#hw-1174428
 3
ORGANIZER;CN="Edlio Calendar":MAILTO:noreply@rjfisher.lgusd.org
DTSTAMP:20260423T091423Z
END:VEVENT
BEGIN:VEVENT
UID:11762703@rjfisher.lgusd.org#20260430
SEQUENCE:0
CREATED:20260421T154347Z
LAST-MODIFIED:20260421T154347Z
DTSTART;TZID=US/Pacific:20260430T235800
DTEND;TZID=US/Pacific:20260430T235900
SUMMARY:Assignment: Practice- AFTER School Thursday 4/30 12:30-2:00 PM
DESCRIPTION:We will provide pizza for lunch\, and then practice with choir 
 and strings in the gym. \n<a href=' https://rjfisher.lgusd.org/apps/classe
 s/1061761/assignments/#hw-11762703'>Read more</a>
URL:https://rjfisher.lgusd.org/apps/classes/1061761/assignments/#hw-1176270
 3
ORGANIZER;CN="Edlio Calendar":MAILTO:noreply@rjfisher.lgusd.org
DTSTAMP:20260423T091423Z
END:VEVENT
BEGIN:VEVENT
UID:11762705@rjfisher.lgusd.org#20260430
SEQUENCE:0
CREATED:20260421T154348Z
LAST-MODIFIED:20260421T154348Z
DTSTART;TZID=US/Pacific:20260430T235800
DTEND;TZID=US/Pacific:20260430T235900
SUMMARY:Assignment: Practice- AFTER School Thursday 4/30 12:30-2:00 PM
DESCRIPTION:We will provide pizza for lunch\, and then practice with choir 
 and strings in the gym. \n<a href=' https://rjfisher.lgusd.org/apps/classe
 s/1061761/assignments/#hw-11762705'>Read more</a>
URL:https://rjfisher.lgusd.org/apps/classes/1061761/assignments/#hw-1176270
 5
ORGANIZER;CN="Edlio Calendar":MAILTO:noreply@rjfisher.lgusd.org
DTSTAMP:20260423T091423Z
END:VEVENT
BEGIN:VEVENT
UID:11762713@rjfisher.lgusd.org#20260430
SEQUENCE:0
CREATED:20260421T154351Z
LAST-MODIFIED:20260421T154351Z
DTSTART;TZID=US/Pacific:20260430T235800
DTEND;TZID=US/Pacific:20260430T235900
SUMMARY:Assignment: Practice- AFTER School Thursday 4/30 12:30-2:00 PM
DESCRIPTION:We will provide pizza for lunch\, and then practice with choir 
 and strings in the gym. \n<a href=' https://rjfisher.lgusd.org/apps/classe
 s/1061761/assignments/#hw-11762713'>Read more</a>
URL:https://rjfisher.lgusd.org/apps/classes/1061761/assignments/#hw-1176271
 3
ORGANIZER;CN="Edlio Calendar":MAILTO:noreply@rjfisher.lgusd.org
DTSTAMP:20260423T091423Z
END:VEVENT
BEGIN:VEVENT
UID:11762717@rjfisher.lgusd.org#20260430
SEQUENCE:0
CREATED:20260421T154352Z
LAST-MODIFIED:20260421T154352Z
DTSTART;TZID=US/Pacific:20260430T235800
DTEND;TZID=US/Pacific:20260430T235900
SUMMARY:Assignment: Practice- AFTER School Thursday 4/30 12:30-2:00 PM
DESCRIPTION:We will provide pizza for lunch\, and then practice with choir 
 and strings in the gym. \n<a href=' https://rjfisher.lgusd.org/apps/classe
 s/1061761/assignments/#hw-11762717'>Read more</a>
URL:https://rjfisher.lgusd.org/apps/classes/1061761/assignments/#hw-1176271
 7
ORGANIZER;CN="Edlio Calendar":MAILTO:noreply@rjfisher.lgusd.org
DTSTAMP:20260423T091423Z
END:VEVENT
BEGIN:VEVENT
UID:11762702@rjfisher.lgusd.org#20260423
SEQUENCE:0
CREATED:20260421T154347Z
LAST-MODIFIED:20260421T154347Z
DTSTART;TZID=US/Pacific:20260423T235800
DTEND;TZID=US/Pacific:20260423T235900
SUMMARY:Assignment: Practice- BEFORE SCHOOL Thursday 4/23 7:45-8:20 AM
DESCRIPTION:Zero Period PE students should go to PE at the normal time\, th
 en come to rehearsal when you are excused. \n<a href=' https://rjfisher.lg
 usd.org/apps/classes/1061761/assignments/#hw-11762702'>Read more</a>
URL:https://rjfisher.lgusd.org/apps/classes/1061761/assignments/#hw-1176270
 2
ORGANIZER;CN="Edlio Calendar":MAILTO:noreply@rjfisher.lgusd.org
DTSTAMP:20260423T091423Z
END:VEVENT
BEGIN:VEVENT
UID:11762704@rjfisher.lgusd.org#20260423
SEQUENCE:0
CREATED:20260421T154348Z
LAST-MODIFIED:20260421T154348Z
DTSTART;TZID=US/Pacific:20260423T235800
DTEND;TZID=US/Pacific:20260423T235900
SUMMARY:Assignment: Practice- BEFORE SCHOOL Thursday 4/23 7:45-8:20 AM
DESCRIPTION:Zero Period PE students should go to PE at the normal time\, th
 en come to rehearsal when you are excused. \n<a href=' https://rjfisher.lg
 usd.org/apps/classes/1061761/assignments/#hw-11762704'>Read more</a>
URL:https://rjfisher.lgusd.org/apps/classes/1061761/assignments/#hw-1176270
 4
ORGANIZER;CN="Edlio Calendar":MAILTO:noreply@rjfisher.lgusd.org
DTSTAMP:20260423T091423Z
END:VEVENT
BEGIN:VEVENT
UID:11762712@rjfisher.lgusd.org#20260423
SEQUENCE:0
CREATED:20260421T154351Z
LAST-MODIFIED:20260421T154351Z
DTSTART;TZID=US/Pacific:20260423T235800
DTEND;TZID=US/Pacific:20260423T235900
SUMMARY:Assignment: Practice- BEFORE SCHOOL Thursday 4/23 7:45-8:20 AM
DESCRIPTION:Zero Period PE students should go to PE at the normal time\, th
 en come to rehearsal when you are excused. \n<a href=' https://rjfisher.lg
 usd.org/apps/classes/1061761/assignments/#hw-11762712'>Read more</a>
URL:https://rjfisher.lgusd.org/apps/classes/1061761/assignments/#hw-1176271
 2
ORGANIZER;CN="Edlio Calendar":MAILTO:noreply@rjfisher.lgusd.org
DTSTAMP:20260423T091423Z
END:VEVENT
BEGIN:VEVENT
UID:11762716@rjfisher.lgusd.org#20260423
SEQUENCE:0
CREATED:20260421T154352Z
LAST-MODIFIED:20260421T154352Z
DTSTART;TZID=US/Pacific:20260423T235800
DTEND;TZID=US/Pacific:20260423T235900
SUMMARY:Assignment: Practice- BEFORE SCHOOL Thursday 4/23 7:45-8:20 AM
DESCRIPTION:Zero Period PE students should go to PE at the normal time\, th
 en come to rehearsal when you are excused. \n<a href=' https://rjfisher.lg
 usd.org/apps/classes/1061761/assignments/#hw-11762716'>Read more</a>
URL:https://rjfisher.lgusd.org/apps/classes/1061761/assignments/#hw-1176271
 6
ORGANIZER;CN="Edlio Calendar":MAILTO:noreply@rjfisher.lgusd.org
DTSTAMP:20260423T091423Z
END:VEVENT
END:VCALENDAR
