BEGIN:VCALENDAR
VERSION:2.0
PRODID:-//Edlio Inc//Edlio Calendar//EN
CALSCALE:GREGORIAN
METHOD:PUBLISH
X-WR-CALNAME:P5 Math- Ms. Samra - Raymond J. Fisher Middle School
X-ORIGINAL-URL:https://rjfisher.lgusd.org
X-WR-CALDESC:Events calendar for rjfisher.lgusd.org
X-WR-TIMEZONE:US/Pacific
REFRESH-INTERVAL;VALUE=DURATION:PT1H
X-Robots-Tag:noindex
X-PUBLISHED-TTL:PT1H
BEGIN:VTIMEZONE
TZID:US/Pacific
BEGIN:STANDARD
TZOFFSETFROM:-0700
TZOFFSETTO:-0800
DTSTART:20071104T020000
RRULE:FREQ=YEARLY;BYMONTH=11;BYDAY=1SU
END:STANDARD
BEGIN:DAYLIGHT
TZOFFSETFROM:-0800
TZOFFSETTO:-0700
DTSTART:20070311T020000
RRULE:FREQ=YEARLY;BYMONTH=3;BYDAY=2SU
END:DAYLIGHT
END:VTIMEZONE
BEGIN:VTIMEZONE
TZID:US/East-Indiana
BEGIN:STANDARD
TZOFFSETFROM:-0500
TZOFFSETTO:-0500
DTSTART:19701025T020000
END:STANDARD
END:VTIMEZONE
BEGIN:VTIMEZONE
TZID:US/Eastern
BEGIN:STANDARD
TZOFFSETFROM:-0400
TZOFFSETTO:-0500
DTSTART:19701025T020000
RRULE:FREQ=YEARLY;BYMONTH=10;BYDAY=-1SU;UNTIL=20070311T020000
END:STANDARD
BEGIN:STANDARD
TZOFFSETFROM:-0400
TZOFFSETTO:-0500
DTSTART:20071104T020000
RRULE:FREQ=YEARLY;BYMONTH=11;BYDAY=1SU
END:STANDARD
BEGIN:DAYLIGHT
TZOFFSETFROM:-0500
TZOFFSETTO:-0400
DTSTART:19870405T020000
RRULE:FREQ=YEARLY;BYMONTH=4;BYDAY=1SU;UNTIL=20061029T020000
END:DAYLIGHT
BEGIN:DAYLIGHT
TZOFFSETFROM:-0500
TZOFFSETTO:-0400
DTSTART:20070311T020000
RRULE:FREQ=YEARLY;BYMONTH=3;BYDAY=2SU
END:DAYLIGHT
END:VTIMEZONE
BEGIN:VTIMEZONE
TZID:US/Michigan
BEGIN:STANDARD
TZOFFSETFROM:-0400
TZOFFSETTO:-0500
DTSTART:19701025T020000
RRULE:FREQ=YEARLY;BYMONTH=10;BYDAY=-1SU;UNTIL=20070311T020000
END:STANDARD
BEGIN:STANDARD
TZOFFSETFROM:-0400
TZOFFSETTO:-0500
DTSTART:20071104T020000
RRULE:FREQ=YEARLY;BYMONTH=11;BYDAY=1SU
END:STANDARD
BEGIN:DAYLIGHT
TZOFFSETFROM:-0500
TZOFFSETTO:-0400
DTSTART:19870405T020000
RRULE:FREQ=YEARLY;BYMONTH=4;BYDAY=1SU;UNTIL=20061029T020000
END:DAYLIGHT
BEGIN:DAYLIGHT
TZOFFSETFROM:-0500
TZOFFSETTO:-0400
DTSTART:20070311T020000
RRULE:FREQ=YEARLY;BYMONTH=3;BYDAY=2SU
END:DAYLIGHT
END:VTIMEZONE
BEGIN:VTIMEZONE
TZID:US/Central
BEGIN:STANDARD
TZOFFSETFROM:-0500
TZOFFSETTO:-0600
DTSTART:19701025T020000
RRULE:FREQ=YEARLY;BYMONTH=10;BYDAY=-1SU;UNTIL=20070311T020000
END:STANDARD
BEGIN:STANDARD
TZOFFSETFROM:-0500
TZOFFSETTO:-0600
DTSTART:20071104T020000
RRULE:FREQ=YEARLY;BYMONTH=11;BYDAY=1SU
END:STANDARD
BEGIN:DAYLIGHT
TZOFFSETFROM:-0600
TZOFFSETTO:-0500
DTSTART:19870405T020000
RRULE:FREQ=YEARLY;BYMONTH=4;BYDAY=1SU;UNTIL=20061029T020000
END:DAYLIGHT
BEGIN:DAYLIGHT
TZOFFSETFROM:-0600
TZOFFSETTO:-0500
DTSTART:20070311T020000
RRULE:FREQ=YEARLY;BYMONTH=3;BYDAY=2SU
END:DAYLIGHT
END:VTIMEZONE
BEGIN:VTIMEZONE
TZID:US/Mountain
BEGIN:STANDARD
TZOFFSETFROM:-0600
TZOFFSETTO:-0700
DTSTART:19701025T020000
RRULE:FREQ=YEARLY;BYMONTH=10;BYDAY=-1SU;UNTIL=20070311T020000
END:STANDARD
BEGIN:STANDARD
TZOFFSETFROM:-0600
TZOFFSETTO:-0700
DTSTART:20071104T020000
RRULE:FREQ=YEARLY;BYMONTH=11;BYDAY=1SU
END:STANDARD
BEGIN:DAYLIGHT
TZOFFSETFROM:-0700
TZOFFSETTO:-0600
DTSTART:19870405T020000
RRULE:FREQ=YEARLY;BYMONTH=4;BYDAY=1SU;UNTIL=20061029T020000
END:DAYLIGHT
BEGIN:DAYLIGHT
TZOFFSETFROM:-0700
TZOFFSETTO:-0600
DTSTART:20070311T020000
RRULE:FREQ=YEARLY;BYMONTH=3;BYDAY=2SU
END:DAYLIGHT
END:VTIMEZONE
BEGIN:VTIMEZONE
TZID:US/Arizona
BEGIN:STANDARD
TZOFFSETFROM:-0700
TZOFFSETTO:-0700
DTSTART:19701025T020000
END:STANDARD
END:VTIMEZONE
BEGIN:VTIMEZONE
TZID:US/Pacific
BEGIN:STANDARD
TZOFFSETFROM:-0700
TZOFFSETTO:-0800
DTSTART:19701025T020000
RRULE:FREQ=YEARLY;BYMONTH=10;BYDAY=-1SU;UNTIL=20070311T020000
END:STANDARD
BEGIN:STANDARD
TZOFFSETFROM:-0700
TZOFFSETTO:-0800
DTSTART:20071104T020000
RRULE:FREQ=YEARLY;BYMONTH=11;BYDAY=1SU
END:STANDARD
BEGIN:DAYLIGHT
TZOFFSETFROM:-0800
TZOFFSETTO:-0700
DTSTART:19870405T020000
RRULE:FREQ=YEARLY;BYMONTH=4;BYDAY=1SU;UNTIL=20061029T020000
END:DAYLIGHT
BEGIN:DAYLIGHT
TZOFFSETFROM:-0800
TZOFFSETTO:-0700
DTSTART:20070311T020000
RRULE:FREQ=YEARLY;BYMONTH=3;BYDAY=2SU
END:DAYLIGHT
END:VTIMEZONE
BEGIN:VTIMEZONE
TZID:US/Alaska
BEGIN:STANDARD
TZOFFSETFROM:-0800
TZOFFSETTO:-0900
DTSTART:19701025T020000
RRULE:FREQ=YEARLY;BYMONTH=10;BYDAY=-1SU;UNTIL=20070311T020000
END:STANDARD
BEGIN:STANDARD
TZOFFSETFROM:-0800
TZOFFSETTO:-0900
DTSTART:20071104T020000
RRULE:FREQ=YEARLY;BYMONTH=11;BYDAY=1SU
END:STANDARD
BEGIN:DAYLIGHT
TZOFFSETFROM:-0900
TZOFFSETTO:-0800
DTSTART:19870405T020000
RRULE:FREQ=YEARLY;BYMONTH=4;BYDAY=1SU;UNTIL=20061029T020000
END:DAYLIGHT
BEGIN:DAYLIGHT
TZOFFSETFROM:-0900
TZOFFSETTO:-0800
DTSTART:20070311T020000
RRULE:FREQ=YEARLY;BYMONTH=3;BYDAY=2SU
END:DAYLIGHT
END:VTIMEZONE
BEGIN:VTIMEZONE
TZID:US/Hawaii
BEGIN:STANDARD
TZOFFSETFROM:-1000
TZOFFSETTO:-1000
DTSTART:19701025T020000
END:STANDARD
END:VTIMEZONE
BEGIN:VTIMEZONE
TZID:US/Aleutian
BEGIN:STANDARD
TZOFFSETFROM:-1000
TZOFFSETTO:-1000
DTSTART:19701025T020000
END:STANDARD
END:VTIMEZONE
BEGIN:VTIMEZONE
TZID:US/Samoa
BEGIN:STANDARD
TZOFFSETFROM:-1100
TZOFFSETTO:-1100
DTSTART:19701025T020000
END:STANDARD
END:VTIMEZONE
BEGIN:VEVENT
UID:11784480@rjfisher.lgusd.org#20260424
SEQUENCE:0
CREATED:20260422T204257Z
LAST-MODIFIED:20260422T204257Z
DTSTART;TZID=US/Pacific:20260424T235800
DTEND;TZID=US/Pacific:20260424T235900
SUMMARY:Assignment: 4/22 HW IXL 
DESCRIPTION:You only need to get to a score of 80. Please reach out to me i
 ncase you need help\n<a href=' https://rjfisher.lgusd.org/apps/classes/106
 1784/assignments/#hw-11784480'>Read more</a>
URL:https://rjfisher.lgusd.org/apps/classes/1061784/assignments/#hw-1178448
 0
ORGANIZER;CN="Edlio Calendar":MAILTO:noreply@rjfisher.lgusd.org
DTSTAMP:20260423T124724Z
END:VEVENT
BEGIN:VEVENT
UID:11784481@rjfisher.lgusd.org#20260424
SEQUENCE:0
CREATED:20260422T204257Z
LAST-MODIFIED:20260422T204257Z
DTSTART;TZID=US/Pacific:20260424T235800
DTEND;TZID=US/Pacific:20260424T235900
SUMMARY:Assignment: 4/22 HW IXL 
DESCRIPTION:You only need to get to a score of 80. Please reach out to me i
 ncase you need help\n<a href=' https://rjfisher.lgusd.org/apps/classes/106
 1784/assignments/#hw-11784481'>Read more</a>
URL:https://rjfisher.lgusd.org/apps/classes/1061784/assignments/#hw-1178448
 1
ORGANIZER;CN="Edlio Calendar":MAILTO:noreply@rjfisher.lgusd.org
DTSTAMP:20260423T124724Z
END:VEVENT
BEGIN:VEVENT
UID:11784482@rjfisher.lgusd.org#20260424
SEQUENCE:0
CREATED:20260422T204257Z
LAST-MODIFIED:20260422T204257Z
DTSTART;TZID=US/Pacific:20260424T235800
DTEND;TZID=US/Pacific:20260424T235900
SUMMARY:Assignment: 4/22 HW IXL 
DESCRIPTION:You only need to get to a score of 80. Please reach out to me i
 ncase you need help\n<a href=' https://rjfisher.lgusd.org/apps/classes/106
 1784/assignments/#hw-11784482'>Read more</a>
URL:https://rjfisher.lgusd.org/apps/classes/1061784/assignments/#hw-1178448
 2
ORGANIZER;CN="Edlio Calendar":MAILTO:noreply@rjfisher.lgusd.org
DTSTAMP:20260423T124724Z
END:VEVENT
BEGIN:VEVENT
UID:11770254@rjfisher.lgusd.org#20260424
SEQUENCE:0
CREATED:20260421T174517Z
LAST-MODIFIED:20260421T174517Z
DTSTART;TZID=US/Pacific:20260424T235800
DTEND;TZID=US/Pacific:20260424T235900
SUMMARY:Assignment: IReady week of 4/20
DESCRIPTION:Please remember to pass 1 lesson for this week.\n<a href=' http
 s://rjfisher.lgusd.org/apps/classes/1061784/assignments/#hw-11770254'>Read
  more</a>
URL:https://rjfisher.lgusd.org/apps/classes/1061784/assignments/#hw-1177025
 4
ORGANIZER;CN="Edlio Calendar":MAILTO:noreply@rjfisher.lgusd.org
DTSTAMP:20260423T124724Z
END:VEVENT
BEGIN:VEVENT
UID:11770255@rjfisher.lgusd.org#20260424
SEQUENCE:0
CREATED:20260421T174517Z
LAST-MODIFIED:20260421T174517Z
DTSTART;TZID=US/Pacific:20260424T235800
DTEND;TZID=US/Pacific:20260424T235900
SUMMARY:Assignment: IReady week of 4/20
DESCRIPTION:Please remember to pass 1 lesson for this week.\n<a href=' http
 s://rjfisher.lgusd.org/apps/classes/1061784/assignments/#hw-11770255'>Read
  more</a>
URL:https://rjfisher.lgusd.org/apps/classes/1061784/assignments/#hw-1177025
 5
ORGANIZER;CN="Edlio Calendar":MAILTO:noreply@rjfisher.lgusd.org
DTSTAMP:20260423T124724Z
END:VEVENT
BEGIN:VEVENT
UID:11770256@rjfisher.lgusd.org#20260424
SEQUENCE:0
CREATED:20260421T174517Z
LAST-MODIFIED:20260421T174517Z
DTSTART;TZID=US/Pacific:20260424T235800
DTEND;TZID=US/Pacific:20260424T235900
SUMMARY:Assignment: IReady week of 4/20
DESCRIPTION:Please remember to pass 1 lesson for this week.\n<a href=' http
 s://rjfisher.lgusd.org/apps/classes/1061784/assignments/#hw-11770256'>Read
  more</a>
URL:https://rjfisher.lgusd.org/apps/classes/1061784/assignments/#hw-1177025
 6
ORGANIZER;CN="Edlio Calendar":MAILTO:noreply@rjfisher.lgusd.org
DTSTAMP:20260423T124724Z
END:VEVENT
BEGIN:VEVENT
UID:11739487@rjfisher.lgusd.org#20260423
SEQUENCE:0
CREATED:20260420T071532Z
LAST-MODIFIED:20260420T071532Z
DTSTART;TZID=US/Pacific:20260423T235800
DTEND;TZID=US/Pacific:20260423T235900
SUMMARY:Assignment: Quiz #10 optional retake
DESCRIPTION:To be eligible for the Quiz #10 retake\, please follow the inst
 ructions in the attached retake packet.<br><br><br>Also\, feel free to wat
 ch the videos to prepare for the retake\n<a href=' https://rjfisher.lgusd.
 org/apps/classes/1061784/assignments/#hw-11739487'>Read more</a>
URL:https://rjfisher.lgusd.org/apps/classes/1061784/assignments/#hw-1173948
 7
ORGANIZER;CN="Edlio Calendar":MAILTO:noreply@rjfisher.lgusd.org
DTSTAMP:20260423T124724Z
END:VEVENT
BEGIN:VEVENT
UID:11739488@rjfisher.lgusd.org#20260423
SEQUENCE:0
CREATED:20260420T071532Z
LAST-MODIFIED:20260420T071532Z
DTSTART;TZID=US/Pacific:20260423T235800
DTEND;TZID=US/Pacific:20260423T235900
SUMMARY:Assignment: Quiz #10 optional retake
DESCRIPTION:To be eligible for the Quiz #10 retake\, please follow the inst
 ructions in the attached retake packet.<br><br><br>Also\, feel free to wat
 ch the videos to prepare for the retake\n<a href=' https://rjfisher.lgusd.
 org/apps/classes/1061784/assignments/#hw-11739488'>Read more</a>
URL:https://rjfisher.lgusd.org/apps/classes/1061784/assignments/#hw-1173948
 8
ORGANIZER;CN="Edlio Calendar":MAILTO:noreply@rjfisher.lgusd.org
DTSTAMP:20260423T124724Z
END:VEVENT
BEGIN:VEVENT
UID:11739555@rjfisher.lgusd.org#20260423
SEQUENCE:0
CREATED:20260420T071533Z
LAST-MODIFIED:20260420T071533Z
DTSTART;TZID=US/Pacific:20260423T235800
DTEND;TZID=US/Pacific:20260423T235900
SUMMARY:Assignment: Quiz #10 optional retake
DESCRIPTION:To be eligible for the Quiz #10 retake\, please follow the inst
 ructions in the attached retake packet.<br><br><br>Also\, feel free to wat
 ch the videos to prepare for the retake\n<a href=' https://rjfisher.lgusd.
 org/apps/classes/1061784/assignments/#hw-11739555'>Read more</a>
URL:https://rjfisher.lgusd.org/apps/classes/1061784/assignments/#hw-1173955
 5
ORGANIZER;CN="Edlio Calendar":MAILTO:noreply@rjfisher.lgusd.org
DTSTAMP:20260423T124724Z
END:VEVENT
BEGIN:VEVENT
UID:11734169@rjfisher.lgusd.org#20260423
SEQUENCE:0
CREATED:20260420T011453Z
LAST-MODIFIED:20260420T011453Z
DTSTART;TZID=US/Pacific:20260423T235800
DTEND;TZID=US/Pacific:20260423T235900
SUMMARY:Assignment: Quiz #11
DESCRIPTION:We will have a quiz on volume and surface area. I have attached
  an optional study guide as well as videos that you can watch. This could 
 help you prepare for the quiz. <br><br>Please reach out to me incase you n
 eed any help preparing for the quiz\n<a href=' https://rjfisher.lgusd.org/
 apps/classes/1061784/assignments/#hw-11734169'>Read more</a>
URL:https://rjfisher.lgusd.org/apps/classes/1061784/assignments/#hw-1173416
 9
ORGANIZER;CN="Edlio Calendar":MAILTO:noreply@rjfisher.lgusd.org
DTSTAMP:20260423T124724Z
END:VEVENT
BEGIN:VEVENT
UID:11734175@rjfisher.lgusd.org#20260423
SEQUENCE:0
CREATED:20260420T011453Z
LAST-MODIFIED:20260420T011453Z
DTSTART;TZID=US/Pacific:20260423T235800
DTEND;TZID=US/Pacific:20260423T235900
SUMMARY:Assignment: Quiz #11
DESCRIPTION:We will have a quiz on volume and surface area. I have attached
  an optional study guide as well as videos that you can watch. This could 
 help you prepare for the quiz. <br><br>Please reach out to me incase you n
 eed any help preparing for the quiz\n<a href=' https://rjfisher.lgusd.org/
 apps/classes/1061784/assignments/#hw-11734175'>Read more</a>
URL:https://rjfisher.lgusd.org/apps/classes/1061784/assignments/#hw-1173417
 5
ORGANIZER;CN="Edlio Calendar":MAILTO:noreply@rjfisher.lgusd.org
DTSTAMP:20260423T124724Z
END:VEVENT
END:VCALENDAR
