BEGIN:VCALENDAR
VERSION:2.0
PRODID:-//Edlio Inc//Edlio Calendar//EN
CALSCALE:GREGORIAN
METHOD:PUBLISH
X-WR-CALNAME:P6 Math- Ms. Samra - Raymond J. Fisher Middle School
X-ORIGINAL-URL:https://rjfisher.lgusd.org
X-WR-CALDESC:Events calendar for rjfisher.lgusd.org
X-WR-TIMEZONE:US/Pacific
REFRESH-INTERVAL;VALUE=DURATION:PT1H
X-Robots-Tag:noindex
X-PUBLISHED-TTL:PT1H
BEGIN:VTIMEZONE
TZID:US/Pacific
BEGIN:STANDARD
TZOFFSETFROM:-0700
TZOFFSETTO:-0800
DTSTART:20071104T020000
RRULE:FREQ=YEARLY;BYMONTH=11;BYDAY=1SU
END:STANDARD
BEGIN:DAYLIGHT
TZOFFSETFROM:-0800
TZOFFSETTO:-0700
DTSTART:20070311T020000
RRULE:FREQ=YEARLY;BYMONTH=3;BYDAY=2SU
END:DAYLIGHT
END:VTIMEZONE
BEGIN:VTIMEZONE
TZID:US/East-Indiana
BEGIN:STANDARD
TZOFFSETFROM:-0500
TZOFFSETTO:-0500
DTSTART:19701025T020000
END:STANDARD
END:VTIMEZONE
BEGIN:VTIMEZONE
TZID:US/Eastern
BEGIN:STANDARD
TZOFFSETFROM:-0400
TZOFFSETTO:-0500
DTSTART:19701025T020000
RRULE:FREQ=YEARLY;BYMONTH=10;BYDAY=-1SU;UNTIL=20070311T020000
END:STANDARD
BEGIN:STANDARD
TZOFFSETFROM:-0400
TZOFFSETTO:-0500
DTSTART:20071104T020000
RRULE:FREQ=YEARLY;BYMONTH=11;BYDAY=1SU
END:STANDARD
BEGIN:DAYLIGHT
TZOFFSETFROM:-0500
TZOFFSETTO:-0400
DTSTART:19870405T020000
RRULE:FREQ=YEARLY;BYMONTH=4;BYDAY=1SU;UNTIL=20061029T020000
END:DAYLIGHT
BEGIN:DAYLIGHT
TZOFFSETFROM:-0500
TZOFFSETTO:-0400
DTSTART:20070311T020000
RRULE:FREQ=YEARLY;BYMONTH=3;BYDAY=2SU
END:DAYLIGHT
END:VTIMEZONE
BEGIN:VTIMEZONE
TZID:US/Michigan
BEGIN:STANDARD
TZOFFSETFROM:-0400
TZOFFSETTO:-0500
DTSTART:19701025T020000
RRULE:FREQ=YEARLY;BYMONTH=10;BYDAY=-1SU;UNTIL=20070311T020000
END:STANDARD
BEGIN:STANDARD
TZOFFSETFROM:-0400
TZOFFSETTO:-0500
DTSTART:20071104T020000
RRULE:FREQ=YEARLY;BYMONTH=11;BYDAY=1SU
END:STANDARD
BEGIN:DAYLIGHT
TZOFFSETFROM:-0500
TZOFFSETTO:-0400
DTSTART:19870405T020000
RRULE:FREQ=YEARLY;BYMONTH=4;BYDAY=1SU;UNTIL=20061029T020000
END:DAYLIGHT
BEGIN:DAYLIGHT
TZOFFSETFROM:-0500
TZOFFSETTO:-0400
DTSTART:20070311T020000
RRULE:FREQ=YEARLY;BYMONTH=3;BYDAY=2SU
END:DAYLIGHT
END:VTIMEZONE
BEGIN:VTIMEZONE
TZID:US/Central
BEGIN:STANDARD
TZOFFSETFROM:-0500
TZOFFSETTO:-0600
DTSTART:19701025T020000
RRULE:FREQ=YEARLY;BYMONTH=10;BYDAY=-1SU;UNTIL=20070311T020000
END:STANDARD
BEGIN:STANDARD
TZOFFSETFROM:-0500
TZOFFSETTO:-0600
DTSTART:20071104T020000
RRULE:FREQ=YEARLY;BYMONTH=11;BYDAY=1SU
END:STANDARD
BEGIN:DAYLIGHT
TZOFFSETFROM:-0600
TZOFFSETTO:-0500
DTSTART:19870405T020000
RRULE:FREQ=YEARLY;BYMONTH=4;BYDAY=1SU;UNTIL=20061029T020000
END:DAYLIGHT
BEGIN:DAYLIGHT
TZOFFSETFROM:-0600
TZOFFSETTO:-0500
DTSTART:20070311T020000
RRULE:FREQ=YEARLY;BYMONTH=3;BYDAY=2SU
END:DAYLIGHT
END:VTIMEZONE
BEGIN:VTIMEZONE
TZID:US/Mountain
BEGIN:STANDARD
TZOFFSETFROM:-0600
TZOFFSETTO:-0700
DTSTART:19701025T020000
RRULE:FREQ=YEARLY;BYMONTH=10;BYDAY=-1SU;UNTIL=20070311T020000
END:STANDARD
BEGIN:STANDARD
TZOFFSETFROM:-0600
TZOFFSETTO:-0700
DTSTART:20071104T020000
RRULE:FREQ=YEARLY;BYMONTH=11;BYDAY=1SU
END:STANDARD
BEGIN:DAYLIGHT
TZOFFSETFROM:-0700
TZOFFSETTO:-0600
DTSTART:19870405T020000
RRULE:FREQ=YEARLY;BYMONTH=4;BYDAY=1SU;UNTIL=20061029T020000
END:DAYLIGHT
BEGIN:DAYLIGHT
TZOFFSETFROM:-0700
TZOFFSETTO:-0600
DTSTART:20070311T020000
RRULE:FREQ=YEARLY;BYMONTH=3;BYDAY=2SU
END:DAYLIGHT
END:VTIMEZONE
BEGIN:VTIMEZONE
TZID:US/Arizona
BEGIN:STANDARD
TZOFFSETFROM:-0700
TZOFFSETTO:-0700
DTSTART:19701025T020000
END:STANDARD
END:VTIMEZONE
BEGIN:VTIMEZONE
TZID:US/Pacific
BEGIN:STANDARD
TZOFFSETFROM:-0700
TZOFFSETTO:-0800
DTSTART:19701025T020000
RRULE:FREQ=YEARLY;BYMONTH=10;BYDAY=-1SU;UNTIL=20070311T020000
END:STANDARD
BEGIN:STANDARD
TZOFFSETFROM:-0700
TZOFFSETTO:-0800
DTSTART:20071104T020000
RRULE:FREQ=YEARLY;BYMONTH=11;BYDAY=1SU
END:STANDARD
BEGIN:DAYLIGHT
TZOFFSETFROM:-0800
TZOFFSETTO:-0700
DTSTART:19870405T020000
RRULE:FREQ=YEARLY;BYMONTH=4;BYDAY=1SU;UNTIL=20061029T020000
END:DAYLIGHT
BEGIN:DAYLIGHT
TZOFFSETFROM:-0800
TZOFFSETTO:-0700
DTSTART:20070311T020000
RRULE:FREQ=YEARLY;BYMONTH=3;BYDAY=2SU
END:DAYLIGHT
END:VTIMEZONE
BEGIN:VTIMEZONE
TZID:US/Alaska
BEGIN:STANDARD
TZOFFSETFROM:-0800
TZOFFSETTO:-0900
DTSTART:19701025T020000
RRULE:FREQ=YEARLY;BYMONTH=10;BYDAY=-1SU;UNTIL=20070311T020000
END:STANDARD
BEGIN:STANDARD
TZOFFSETFROM:-0800
TZOFFSETTO:-0900
DTSTART:20071104T020000
RRULE:FREQ=YEARLY;BYMONTH=11;BYDAY=1SU
END:STANDARD
BEGIN:DAYLIGHT
TZOFFSETFROM:-0900
TZOFFSETTO:-0800
DTSTART:19870405T020000
RRULE:FREQ=YEARLY;BYMONTH=4;BYDAY=1SU;UNTIL=20061029T020000
END:DAYLIGHT
BEGIN:DAYLIGHT
TZOFFSETFROM:-0900
TZOFFSETTO:-0800
DTSTART:20070311T020000
RRULE:FREQ=YEARLY;BYMONTH=3;BYDAY=2SU
END:DAYLIGHT
END:VTIMEZONE
BEGIN:VTIMEZONE
TZID:US/Hawaii
BEGIN:STANDARD
TZOFFSETFROM:-1000
TZOFFSETTO:-1000
DTSTART:19701025T020000
END:STANDARD
END:VTIMEZONE
BEGIN:VTIMEZONE
TZID:US/Aleutian
BEGIN:STANDARD
TZOFFSETFROM:-1000
TZOFFSETTO:-1000
DTSTART:19701025T020000
END:STANDARD
END:VTIMEZONE
BEGIN:VTIMEZONE
TZID:US/Samoa
BEGIN:STANDARD
TZOFFSETFROM:-1100
TZOFFSETTO:-1100
DTSTART:19701025T020000
END:STANDARD
END:VTIMEZONE
BEGIN:VEVENT
UID:11756453@rjfisher.lgusd.org#20260421
SEQUENCE:0
CREATED:20260421T011718Z
LAST-MODIFIED:20260421T011718Z
DTSTART;TZID=US/Pacific:20260421T235800
DTEND;TZID=US/Pacific:20260421T235900
SUMMARY:Assignment: 4/17 HW
URL:https://rjfisher.lgusd.org/apps/classes/1061785/assignments/#hw-1175645
 3
ORGANIZER;CN="Edlio Calendar":MAILTO:noreply@rjfisher.lgusd.org
DTSTAMP:20260422T175148Z
END:VEVENT
BEGIN:VEVENT
UID:11756454@rjfisher.lgusd.org#20260421
SEQUENCE:0
CREATED:20260421T011718Z
LAST-MODIFIED:20260421T011718Z
DTSTART;TZID=US/Pacific:20260421T235800
DTEND;TZID=US/Pacific:20260421T235900
SUMMARY:Assignment: 4/17 HW
URL:https://rjfisher.lgusd.org/apps/classes/1061785/assignments/#hw-1175645
 4
ORGANIZER;CN="Edlio Calendar":MAILTO:noreply@rjfisher.lgusd.org
DTSTAMP:20260422T175148Z
END:VEVENT
BEGIN:VEVENT
UID:11756455@rjfisher.lgusd.org#20260421
SEQUENCE:0
CREATED:20260421T011718Z
LAST-MODIFIED:20260421T011718Z
DTSTART;TZID=US/Pacific:20260421T235800
DTEND;TZID=US/Pacific:20260421T235900
SUMMARY:Assignment: 4/17 HW
URL:https://rjfisher.lgusd.org/apps/classes/1061785/assignments/#hw-1175645
 5
ORGANIZER;CN="Edlio Calendar":MAILTO:noreply@rjfisher.lgusd.org
DTSTAMP:20260422T175148Z
END:VEVENT
BEGIN:VEVENT
UID:11756456@rjfisher.lgusd.org#20260421
SEQUENCE:0
CREATED:20260421T011718Z
LAST-MODIFIED:20260421T011718Z
DTSTART;TZID=US/Pacific:20260421T235800
DTEND;TZID=US/Pacific:20260421T235900
SUMMARY:Assignment: 4/17 HW
URL:https://rjfisher.lgusd.org/apps/classes/1061785/assignments/#hw-1175645
 6
ORGANIZER;CN="Edlio Calendar":MAILTO:noreply@rjfisher.lgusd.org
DTSTAMP:20260422T175148Z
END:VEVENT
BEGIN:VEVENT
UID:11770245@rjfisher.lgusd.org#20260424
SEQUENCE:0
CREATED:20260421T174515Z
LAST-MODIFIED:20260421T174515Z
DTSTART;TZID=US/Pacific:20260424T235800
DTEND;TZID=US/Pacific:20260424T235900
SUMMARY:Assignment: IReady week of 4/20
DESCRIPTION:Please remember to pass 1 lesson for this week.\n<a href=' http
 s://rjfisher.lgusd.org/apps/classes/1061785/assignments/#hw-11770245'>Read
  more</a>
URL:https://rjfisher.lgusd.org/apps/classes/1061785/assignments/#hw-1177024
 5
ORGANIZER;CN="Edlio Calendar":MAILTO:noreply@rjfisher.lgusd.org
DTSTAMP:20260422T175148Z
END:VEVENT
BEGIN:VEVENT
UID:11770246@rjfisher.lgusd.org#20260424
SEQUENCE:0
CREATED:20260421T174515Z
LAST-MODIFIED:20260421T174515Z
DTSTART;TZID=US/Pacific:20260424T235800
DTEND;TZID=US/Pacific:20260424T235900
SUMMARY:Assignment: IReady week of 4/20
DESCRIPTION:Please remember to pass 1 lesson for this week.\n<a href=' http
 s://rjfisher.lgusd.org/apps/classes/1061785/assignments/#hw-11770246'>Read
  more</a>
URL:https://rjfisher.lgusd.org/apps/classes/1061785/assignments/#hw-1177024
 6
ORGANIZER;CN="Edlio Calendar":MAILTO:noreply@rjfisher.lgusd.org
DTSTAMP:20260422T175148Z
END:VEVENT
BEGIN:VEVENT
UID:11770247@rjfisher.lgusd.org#20260424
SEQUENCE:0
CREATED:20260421T174515Z
LAST-MODIFIED:20260421T174515Z
DTSTART;TZID=US/Pacific:20260424T235800
DTEND;TZID=US/Pacific:20260424T235900
SUMMARY:Assignment: IReady week of 4/20
DESCRIPTION:Please remember to pass 1 lesson for this week.\n<a href=' http
 s://rjfisher.lgusd.org/apps/classes/1061785/assignments/#hw-11770247'>Read
  more</a>
URL:https://rjfisher.lgusd.org/apps/classes/1061785/assignments/#hw-1177024
 7
ORGANIZER;CN="Edlio Calendar":MAILTO:noreply@rjfisher.lgusd.org
DTSTAMP:20260422T175148Z
END:VEVENT
BEGIN:VEVENT
UID:11770538@rjfisher.lgusd.org#20260421
SEQUENCE:0
CREATED:20260421T204224Z
LAST-MODIFIED:20260421T204224Z
DTSTART;TZID=US/Pacific:20260421T235800
DTEND;TZID=US/Pacific:20260421T235900
SUMMARY:Assignment: Practice quiz #11
URL:https://rjfisher.lgusd.org/apps/classes/1061785/assignments/#hw-1177053
 8
ORGANIZER;CN="Edlio Calendar":MAILTO:noreply@rjfisher.lgusd.org
DTSTAMP:20260422T175148Z
END:VEVENT
BEGIN:VEVENT
UID:11770539@rjfisher.lgusd.org#20260421
SEQUENCE:0
CREATED:20260421T204225Z
LAST-MODIFIED:20260421T204225Z
DTSTART;TZID=US/Pacific:20260421T235800
DTEND;TZID=US/Pacific:20260421T235900
SUMMARY:Assignment: Practice quiz #11
URL:https://rjfisher.lgusd.org/apps/classes/1061785/assignments/#hw-1177053
 9
ORGANIZER;CN="Edlio Calendar":MAILTO:noreply@rjfisher.lgusd.org
DTSTAMP:20260422T175148Z
END:VEVENT
BEGIN:VEVENT
UID:11770540@rjfisher.lgusd.org#20260421
SEQUENCE:0
CREATED:20260421T204227Z
LAST-MODIFIED:20260421T204227Z
DTSTART;TZID=US/Pacific:20260421T235800
DTEND;TZID=US/Pacific:20260421T235900
SUMMARY:Assignment: Practice quiz #11
URL:https://rjfisher.lgusd.org/apps/classes/1061785/assignments/#hw-1177054
 0
ORGANIZER;CN="Edlio Calendar":MAILTO:noreply@rjfisher.lgusd.org
DTSTAMP:20260422T175148Z
END:VEVENT
BEGIN:VEVENT
UID:11700522@rjfisher.lgusd.org#20260423
SEQUENCE:0
CREATED:20260418T101618Z
LAST-MODIFIED:20260418T101618Z
DTSTART;TZID=US/Pacific:20260423T235800
DTEND;TZID=US/Pacific:20260423T235900
SUMMARY:Assignment: Quiz #10 optional retake
DESCRIPTION:To be eligible for the Quiz #10 retake\, please follow the inst
 ructions in the attached retake packet.<br><br><br>Also\, feel free to wat
 ch the videos to prepare for the retake\n<a href=' https://rjfisher.lgusd.
 org/apps/classes/1061785/assignments/#hw-11700522'>Read more</a>
URL:https://rjfisher.lgusd.org/apps/classes/1061785/assignments/#hw-1170052
 2
ORGANIZER;CN="Edlio Calendar":MAILTO:noreply@rjfisher.lgusd.org
DTSTAMP:20260422T175148Z
END:VEVENT
BEGIN:VEVENT
UID:11756449@rjfisher.lgusd.org#20260424
SEQUENCE:0
CREATED:20260421T011718Z
LAST-MODIFIED:20260421T011718Z
DTSTART;TZID=US/Pacific:20260424T235800
DTEND;TZID=US/Pacific:20260424T235900
SUMMARY:Assignment: Quiz #11
DESCRIPTION:We will have a quiz on volume and surface area. I have attached
  an optional study guide as well as videos that you can watch. This could 
 help you prepare for the quiz. <br><br>Please reach out to me incase you n
 eed any help preparing for the quiz\n<a href=' https://rjfisher.lgusd.org/
 apps/classes/1061785/assignments/#hw-11756449'>Read more</a>
URL:https://rjfisher.lgusd.org/apps/classes/1061785/assignments/#hw-1175644
 9
ORGANIZER;CN="Edlio Calendar":MAILTO:noreply@rjfisher.lgusd.org
DTSTAMP:20260422T175148Z
END:VEVENT
BEGIN:VEVENT
UID:11756450@rjfisher.lgusd.org#20260424
SEQUENCE:0
CREATED:20260421T011718Z
LAST-MODIFIED:20260421T011718Z
DTSTART;TZID=US/Pacific:20260424T235800
DTEND;TZID=US/Pacific:20260424T235900
SUMMARY:Assignment: Quiz #11
DESCRIPTION:We will have a quiz on volume and surface area. I have attached
  an optional study guide as well as videos that you can watch. This could 
 help you prepare for the quiz. <br><br>Please reach out to me incase you n
 eed any help preparing for the quiz\n<a href=' https://rjfisher.lgusd.org/
 apps/classes/1061785/assignments/#hw-11756450'>Read more</a>
URL:https://rjfisher.lgusd.org/apps/classes/1061785/assignments/#hw-1175645
 0
ORGANIZER;CN="Edlio Calendar":MAILTO:noreply@rjfisher.lgusd.org
DTSTAMP:20260422T175148Z
END:VEVENT
BEGIN:VEVENT
UID:11756451@rjfisher.lgusd.org#20260424
SEQUENCE:0
CREATED:20260421T011718Z
LAST-MODIFIED:20260421T011718Z
DTSTART;TZID=US/Pacific:20260424T235800
DTEND;TZID=US/Pacific:20260424T235900
SUMMARY:Assignment: Quiz #11
DESCRIPTION:We will have a quiz on volume and surface area. I have attached
  an optional study guide as well as videos that you can watch. This could 
 help you prepare for the quiz. <br><br>Please reach out to me incase you n
 eed any help preparing for the quiz\n<a href=' https://rjfisher.lgusd.org/
 apps/classes/1061785/assignments/#hw-11756451'>Read more</a>
URL:https://rjfisher.lgusd.org/apps/classes/1061785/assignments/#hw-1175645
 1
ORGANIZER;CN="Edlio Calendar":MAILTO:noreply@rjfisher.lgusd.org
DTSTAMP:20260422T175148Z
END:VEVENT
BEGIN:VEVENT
UID:11756452@rjfisher.lgusd.org#20260424
SEQUENCE:0
CREATED:20260421T011718Z
LAST-MODIFIED:20260421T011718Z
DTSTART;TZID=US/Pacific:20260424T235800
DTEND;TZID=US/Pacific:20260424T235900
SUMMARY:Assignment: Quiz #11
DESCRIPTION:We will have a quiz on volume and surface area. I have attached
  an optional study guide as well as videos that you can watch. This could 
 help you prepare for the quiz. <br><br>Please reach out to me incase you n
 eed any help preparing for the quiz\n<a href=' https://rjfisher.lgusd.org/
 apps/classes/1061785/assignments/#hw-11756452'>Read more</a>
URL:https://rjfisher.lgusd.org/apps/classes/1061785/assignments/#hw-1175645
 2
ORGANIZER;CN="Edlio Calendar":MAILTO:noreply@rjfisher.lgusd.org
DTSTAMP:20260422T175148Z
END:VEVENT
END:VCALENDAR
