BEGIN:VCALENDAR
VERSION:2.0
PRODID:-//Edlio Inc//Edlio Calendar//EN
CALSCALE:GREGORIAN
METHOD:PUBLISH
X-WR-CALNAME:PERIOD 2 (ART 7/8)-2025-2026 (Q4) - Raymond J. Fisher Middle S
 chool
X-ORIGINAL-URL:https://rjfisher.lgusd.org
X-WR-CALDESC:Events calendar for rjfisher.lgusd.org
X-WR-TIMEZONE:US/Pacific
REFRESH-INTERVAL;VALUE=DURATION:PT1H
X-Robots-Tag:noindex
X-PUBLISHED-TTL:PT1H
BEGIN:VTIMEZONE
TZID:US/Pacific
BEGIN:STANDARD
TZOFFSETFROM:-0700
TZOFFSETTO:-0800
DTSTART:20071104T020000
RRULE:FREQ=YEARLY;BYMONTH=11;BYDAY=1SU
END:STANDARD
BEGIN:DAYLIGHT
TZOFFSETFROM:-0800
TZOFFSETTO:-0700
DTSTART:20070311T020000
RRULE:FREQ=YEARLY;BYMONTH=3;BYDAY=2SU
END:DAYLIGHT
END:VTIMEZONE
BEGIN:VTIMEZONE
TZID:US/East-Indiana
BEGIN:STANDARD
TZOFFSETFROM:-0500
TZOFFSETTO:-0500
DTSTART:19701025T020000
END:STANDARD
END:VTIMEZONE
BEGIN:VTIMEZONE
TZID:US/Eastern
BEGIN:STANDARD
TZOFFSETFROM:-0400
TZOFFSETTO:-0500
DTSTART:19701025T020000
RRULE:FREQ=YEARLY;BYMONTH=10;BYDAY=-1SU;UNTIL=20070311T020000
END:STANDARD
BEGIN:STANDARD
TZOFFSETFROM:-0400
TZOFFSETTO:-0500
DTSTART:20071104T020000
RRULE:FREQ=YEARLY;BYMONTH=11;BYDAY=1SU
END:STANDARD
BEGIN:DAYLIGHT
TZOFFSETFROM:-0500
TZOFFSETTO:-0400
DTSTART:19870405T020000
RRULE:FREQ=YEARLY;BYMONTH=4;BYDAY=1SU;UNTIL=20061029T020000
END:DAYLIGHT
BEGIN:DAYLIGHT
TZOFFSETFROM:-0500
TZOFFSETTO:-0400
DTSTART:20070311T020000
RRULE:FREQ=YEARLY;BYMONTH=3;BYDAY=2SU
END:DAYLIGHT
END:VTIMEZONE
BEGIN:VTIMEZONE
TZID:US/Michigan
BEGIN:STANDARD
TZOFFSETFROM:-0400
TZOFFSETTO:-0500
DTSTART:19701025T020000
RRULE:FREQ=YEARLY;BYMONTH=10;BYDAY=-1SU;UNTIL=20070311T020000
END:STANDARD
BEGIN:STANDARD
TZOFFSETFROM:-0400
TZOFFSETTO:-0500
DTSTART:20071104T020000
RRULE:FREQ=YEARLY;BYMONTH=11;BYDAY=1SU
END:STANDARD
BEGIN:DAYLIGHT
TZOFFSETFROM:-0500
TZOFFSETTO:-0400
DTSTART:19870405T020000
RRULE:FREQ=YEARLY;BYMONTH=4;BYDAY=1SU;UNTIL=20061029T020000
END:DAYLIGHT
BEGIN:DAYLIGHT
TZOFFSETFROM:-0500
TZOFFSETTO:-0400
DTSTART:20070311T020000
RRULE:FREQ=YEARLY;BYMONTH=3;BYDAY=2SU
END:DAYLIGHT
END:VTIMEZONE
BEGIN:VTIMEZONE
TZID:US/Central
BEGIN:STANDARD
TZOFFSETFROM:-0500
TZOFFSETTO:-0600
DTSTART:19701025T020000
RRULE:FREQ=YEARLY;BYMONTH=10;BYDAY=-1SU;UNTIL=20070311T020000
END:STANDARD
BEGIN:STANDARD
TZOFFSETFROM:-0500
TZOFFSETTO:-0600
DTSTART:20071104T020000
RRULE:FREQ=YEARLY;BYMONTH=11;BYDAY=1SU
END:STANDARD
BEGIN:DAYLIGHT
TZOFFSETFROM:-0600
TZOFFSETTO:-0500
DTSTART:19870405T020000
RRULE:FREQ=YEARLY;BYMONTH=4;BYDAY=1SU;UNTIL=20061029T020000
END:DAYLIGHT
BEGIN:DAYLIGHT
TZOFFSETFROM:-0600
TZOFFSETTO:-0500
DTSTART:20070311T020000
RRULE:FREQ=YEARLY;BYMONTH=3;BYDAY=2SU
END:DAYLIGHT
END:VTIMEZONE
BEGIN:VTIMEZONE
TZID:US/Mountain
BEGIN:STANDARD
TZOFFSETFROM:-0600
TZOFFSETTO:-0700
DTSTART:19701025T020000
RRULE:FREQ=YEARLY;BYMONTH=10;BYDAY=-1SU;UNTIL=20070311T020000
END:STANDARD
BEGIN:STANDARD
TZOFFSETFROM:-0600
TZOFFSETTO:-0700
DTSTART:20071104T020000
RRULE:FREQ=YEARLY;BYMONTH=11;BYDAY=1SU
END:STANDARD
BEGIN:DAYLIGHT
TZOFFSETFROM:-0700
TZOFFSETTO:-0600
DTSTART:19870405T020000
RRULE:FREQ=YEARLY;BYMONTH=4;BYDAY=1SU;UNTIL=20061029T020000
END:DAYLIGHT
BEGIN:DAYLIGHT
TZOFFSETFROM:-0700
TZOFFSETTO:-0600
DTSTART:20070311T020000
RRULE:FREQ=YEARLY;BYMONTH=3;BYDAY=2SU
END:DAYLIGHT
END:VTIMEZONE
BEGIN:VTIMEZONE
TZID:US/Arizona
BEGIN:STANDARD
TZOFFSETFROM:-0700
TZOFFSETTO:-0700
DTSTART:19701025T020000
END:STANDARD
END:VTIMEZONE
BEGIN:VTIMEZONE
TZID:US/Pacific
BEGIN:STANDARD
TZOFFSETFROM:-0700
TZOFFSETTO:-0800
DTSTART:19701025T020000
RRULE:FREQ=YEARLY;BYMONTH=10;BYDAY=-1SU;UNTIL=20070311T020000
END:STANDARD
BEGIN:STANDARD
TZOFFSETFROM:-0700
TZOFFSETTO:-0800
DTSTART:20071104T020000
RRULE:FREQ=YEARLY;BYMONTH=11;BYDAY=1SU
END:STANDARD
BEGIN:DAYLIGHT
TZOFFSETFROM:-0800
TZOFFSETTO:-0700
DTSTART:19870405T020000
RRULE:FREQ=YEARLY;BYMONTH=4;BYDAY=1SU;UNTIL=20061029T020000
END:DAYLIGHT
BEGIN:DAYLIGHT
TZOFFSETFROM:-0800
TZOFFSETTO:-0700
DTSTART:20070311T020000
RRULE:FREQ=YEARLY;BYMONTH=3;BYDAY=2SU
END:DAYLIGHT
END:VTIMEZONE
BEGIN:VTIMEZONE
TZID:US/Alaska
BEGIN:STANDARD
TZOFFSETFROM:-0800
TZOFFSETTO:-0900
DTSTART:19701025T020000
RRULE:FREQ=YEARLY;BYMONTH=10;BYDAY=-1SU;UNTIL=20070311T020000
END:STANDARD
BEGIN:STANDARD
TZOFFSETFROM:-0800
TZOFFSETTO:-0900
DTSTART:20071104T020000
RRULE:FREQ=YEARLY;BYMONTH=11;BYDAY=1SU
END:STANDARD
BEGIN:DAYLIGHT
TZOFFSETFROM:-0900
TZOFFSETTO:-0800
DTSTART:19870405T020000
RRULE:FREQ=YEARLY;BYMONTH=4;BYDAY=1SU;UNTIL=20061029T020000
END:DAYLIGHT
BEGIN:DAYLIGHT
TZOFFSETFROM:-0900
TZOFFSETTO:-0800
DTSTART:20070311T020000
RRULE:FREQ=YEARLY;BYMONTH=3;BYDAY=2SU
END:DAYLIGHT
END:VTIMEZONE
BEGIN:VTIMEZONE
TZID:US/Hawaii
BEGIN:STANDARD
TZOFFSETFROM:-1000
TZOFFSETTO:-1000
DTSTART:19701025T020000
END:STANDARD
END:VTIMEZONE
BEGIN:VTIMEZONE
TZID:US/Aleutian
BEGIN:STANDARD
TZOFFSETFROM:-1000
TZOFFSETTO:-1000
DTSTART:19701025T020000
END:STANDARD
END:VTIMEZONE
BEGIN:VTIMEZONE
TZID:US/Samoa
BEGIN:STANDARD
TZOFFSETFROM:-1100
TZOFFSETTO:-1100
DTSTART:19701025T020000
END:STANDARD
END:VTIMEZONE
BEGIN:VEVENT
UID:11746448@rjfisher.lgusd.org#20260424
SEQUENCE:0
CREATED:20260420T161321Z
LAST-MODIFIED:20260420T161321Z
DTSTART;TZID=US/Pacific:20260424T235800
DTEND;TZID=US/Pacific:20260424T235900
SUMMARY:Assignment: Clean-up Assignments (Week of April 20)
URL:https://rjfisher.lgusd.org/apps/classes/1061801/assignments/#hw-1174644
 8
ORGANIZER;CN="Edlio Calendar":MAILTO:noreply@rjfisher.lgusd.org
DTSTAMP:20260423T091428Z
END:VEVENT
BEGIN:VEVENT
UID:11746452@rjfisher.lgusd.org#20260424
SEQUENCE:0
CREATED:20260420T161322Z
LAST-MODIFIED:20260420T161322Z
DTSTART;TZID=US/Pacific:20260424T235800
DTEND;TZID=US/Pacific:20260424T235900
SUMMARY:Assignment: Clean-up Assignments (Week of April 20)
URL:https://rjfisher.lgusd.org/apps/classes/1061801/assignments/#hw-1174645
 2
ORGANIZER;CN="Edlio Calendar":MAILTO:noreply@rjfisher.lgusd.org
DTSTAMP:20260423T091428Z
END:VEVENT
BEGIN:VEVENT
UID:11746456@rjfisher.lgusd.org#20260424
SEQUENCE:0
CREATED:20260420T161322Z
LAST-MODIFIED:20260420T161322Z
DTSTART;TZID=US/Pacific:20260424T235800
DTEND;TZID=US/Pacific:20260424T235900
SUMMARY:Assignment: Clean-up Assignments (Week of April 20)
URL:https://rjfisher.lgusd.org/apps/classes/1061801/assignments/#hw-1174645
 6
ORGANIZER;CN="Edlio Calendar":MAILTO:noreply@rjfisher.lgusd.org
DTSTAMP:20260423T091428Z
END:VEVENT
BEGIN:VEVENT
UID:11746447@rjfisher.lgusd.org#20260424
SEQUENCE:0
CREATED:20260420T161321Z
LAST-MODIFIED:20260420T161321Z
DTSTART;TZID=US/Pacific:20260424T235800
DTEND;TZID=US/Pacific:20260424T235900
SUMMARY:Assignment: Famous Artist notes for the Week of April 20
DESCRIPTION:Please keep the Famous Artist notes in your sketchbook.\n<a hre
 f=' https://rjfisher.lgusd.org/apps/classes/1061801/assignments/#hw-117464
 47'>Read more</a>
URL:https://rjfisher.lgusd.org/apps/classes/1061801/assignments/#hw-1174644
 7
ORGANIZER;CN="Edlio Calendar":MAILTO:noreply@rjfisher.lgusd.org
DTSTAMP:20260423T091428Z
END:VEVENT
BEGIN:VEVENT
UID:11746450@rjfisher.lgusd.org#20260424
SEQUENCE:0
CREATED:20260420T161322Z
LAST-MODIFIED:20260420T161322Z
DTSTART;TZID=US/Pacific:20260424T235800
DTEND;TZID=US/Pacific:20260424T235900
SUMMARY:Assignment: Famous Artist notes for the Week of April 20
DESCRIPTION:Please keep the Famous Artist notes in your sketchbook.\n<a hre
 f=' https://rjfisher.lgusd.org/apps/classes/1061801/assignments/#hw-117464
 50'>Read more</a>
URL:https://rjfisher.lgusd.org/apps/classes/1061801/assignments/#hw-1174645
 0
ORGANIZER;CN="Edlio Calendar":MAILTO:noreply@rjfisher.lgusd.org
DTSTAMP:20260423T091428Z
END:VEVENT
BEGIN:VEVENT
UID:11746455@rjfisher.lgusd.org#20260424
SEQUENCE:0
CREATED:20260420T161322Z
LAST-MODIFIED:20260420T161322Z
DTSTART;TZID=US/Pacific:20260424T235800
DTEND;TZID=US/Pacific:20260424T235900
SUMMARY:Assignment: Famous Artist notes for the Week of April 20
DESCRIPTION:Please keep the Famous Artist notes in your sketchbook.\n<a hre
 f=' https://rjfisher.lgusd.org/apps/classes/1061801/assignments/#hw-117464
 55'>Read more</a>
URL:https://rjfisher.lgusd.org/apps/classes/1061801/assignments/#hw-1174645
 5
ORGANIZER;CN="Edlio Calendar":MAILTO:noreply@rjfisher.lgusd.org
DTSTAMP:20260423T091428Z
END:VEVENT
BEGIN:VEVENT
UID:11746451@rjfisher.lgusd.org#20260428
SEQUENCE:0
CREATED:20260420T161322Z
LAST-MODIFIED:20260420T161322Z
DTSTART;TZID=US/Pacific:20260428T235800
DTEND;TZID=US/Pacific:20260428T235900
SUMMARY:Assignment: Pop Art Sculpture
DESCRIPTION:Students will complete this project in class.\n<a href=' https:
 //rjfisher.lgusd.org/apps/classes/1061801/assignments/#hw-11746451'>Read m
 ore</a>
URL:https://rjfisher.lgusd.org/apps/classes/1061801/assignments/#hw-1174645
 1
ORGANIZER;CN="Edlio Calendar":MAILTO:noreply@rjfisher.lgusd.org
DTSTAMP:20260423T091428Z
END:VEVENT
BEGIN:VEVENT
UID:11746454@rjfisher.lgusd.org#20260428
SEQUENCE:0
CREATED:20260420T161322Z
LAST-MODIFIED:20260420T161322Z
DTSTART;TZID=US/Pacific:20260428T235800
DTEND;TZID=US/Pacific:20260428T235900
SUMMARY:Assignment: Pop Art Sculpture
DESCRIPTION:Students will complete this project in class.\n<a href=' https:
 //rjfisher.lgusd.org/apps/classes/1061801/assignments/#hw-11746454'>Read m
 ore</a>
URL:https://rjfisher.lgusd.org/apps/classes/1061801/assignments/#hw-1174645
 4
ORGANIZER;CN="Edlio Calendar":MAILTO:noreply@rjfisher.lgusd.org
DTSTAMP:20260423T091428Z
END:VEVENT
BEGIN:VEVENT
UID:11746458@rjfisher.lgusd.org#20260428
SEQUENCE:0
CREATED:20260420T161322Z
LAST-MODIFIED:20260420T161322Z
DTSTART;TZID=US/Pacific:20260428T235800
DTEND;TZID=US/Pacific:20260428T235900
SUMMARY:Assignment: Pop Art Sculpture
DESCRIPTION:Students will complete this project in class.\n<a href=' https:
 //rjfisher.lgusd.org/apps/classes/1061801/assignments/#hw-11746458'>Read m
 ore</a>
URL:https://rjfisher.lgusd.org/apps/classes/1061801/assignments/#hw-1174645
 8
ORGANIZER;CN="Edlio Calendar":MAILTO:noreply@rjfisher.lgusd.org
DTSTAMP:20260423T091428Z
END:VEVENT
BEGIN:VEVENT
UID:11746449@rjfisher.lgusd.org#20260424
SEQUENCE:0
CREATED:20260420T161321Z
LAST-MODIFIED:20260420T161321Z
DTSTART;TZID=US/Pacific:20260424T235800
DTEND;TZID=US/Pacific:20260424T235900
SUMMARY:Assignment: Warm-up's for the Week of April 20
DESCRIPTION:Please draw the warm-up into your sketchbook.\n<a href=' https:
 //rjfisher.lgusd.org/apps/classes/1061801/assignments/#hw-11746449'>Read m
 ore</a>
URL:https://rjfisher.lgusd.org/apps/classes/1061801/assignments/#hw-1174644
 9
ORGANIZER;CN="Edlio Calendar":MAILTO:noreply@rjfisher.lgusd.org
DTSTAMP:20260423T091428Z
END:VEVENT
BEGIN:VEVENT
UID:11746453@rjfisher.lgusd.org#20260424
SEQUENCE:0
CREATED:20260420T161322Z
LAST-MODIFIED:20260420T161322Z
DTSTART;TZID=US/Pacific:20260424T235800
DTEND;TZID=US/Pacific:20260424T235900
SUMMARY:Assignment: Warm-up's for the Week of April 20
DESCRIPTION:Please draw the warm-up into your sketchbook.\n<a href=' https:
 //rjfisher.lgusd.org/apps/classes/1061801/assignments/#hw-11746453'>Read m
 ore</a>
URL:https://rjfisher.lgusd.org/apps/classes/1061801/assignments/#hw-1174645
 3
ORGANIZER;CN="Edlio Calendar":MAILTO:noreply@rjfisher.lgusd.org
DTSTAMP:20260423T091428Z
END:VEVENT
BEGIN:VEVENT
UID:11746457@rjfisher.lgusd.org#20260424
SEQUENCE:0
CREATED:20260420T161322Z
LAST-MODIFIED:20260420T161322Z
DTSTART;TZID=US/Pacific:20260424T235800
DTEND;TZID=US/Pacific:20260424T235900
SUMMARY:Assignment: Warm-up's for the Week of April 20
DESCRIPTION:Please draw the warm-up into your sketchbook.\n<a href=' https:
 //rjfisher.lgusd.org/apps/classes/1061801/assignments/#hw-11746457'>Read m
 ore</a>
URL:https://rjfisher.lgusd.org/apps/classes/1061801/assignments/#hw-1174645
 7
ORGANIZER;CN="Edlio Calendar":MAILTO:noreply@rjfisher.lgusd.org
DTSTAMP:20260423T091428Z
END:VEVENT
END:VCALENDAR
