BEGIN:VCALENDAR
VERSION:2.0
PRODID:-//Edlio Inc//Edlio Calendar//EN
CALSCALE:GREGORIAN
METHOD:PUBLISH
X-WR-CALNAME:5 | English 8-25.26 - Raymond J. Fisher Middle School
X-ORIGINAL-URL:https://rjfisher.lgusd.org
X-WR-CALDESC:Events calendar for rjfisher.lgusd.org
X-WR-TIMEZONE:US/Pacific
REFRESH-INTERVAL;VALUE=DURATION:PT1H
X-Robots-Tag:noindex
X-PUBLISHED-TTL:PT1H
BEGIN:VTIMEZONE
TZID:US/Pacific
BEGIN:STANDARD
TZOFFSETFROM:-0700
TZOFFSETTO:-0800
DTSTART:20071104T020000
RRULE:FREQ=YEARLY;BYMONTH=11;BYDAY=1SU
END:STANDARD
BEGIN:DAYLIGHT
TZOFFSETFROM:-0800
TZOFFSETTO:-0700
DTSTART:20070311T020000
RRULE:FREQ=YEARLY;BYMONTH=3;BYDAY=2SU
END:DAYLIGHT
END:VTIMEZONE
BEGIN:VTIMEZONE
TZID:US/East-Indiana
BEGIN:STANDARD
TZOFFSETFROM:-0500
TZOFFSETTO:-0500
DTSTART:19701025T020000
END:STANDARD
END:VTIMEZONE
BEGIN:VTIMEZONE
TZID:US/Eastern
BEGIN:STANDARD
TZOFFSETFROM:-0400
TZOFFSETTO:-0500
DTSTART:19701025T020000
RRULE:FREQ=YEARLY;BYMONTH=10;BYDAY=-1SU;UNTIL=20070311T020000
END:STANDARD
BEGIN:STANDARD
TZOFFSETFROM:-0400
TZOFFSETTO:-0500
DTSTART:20071104T020000
RRULE:FREQ=YEARLY;BYMONTH=11;BYDAY=1SU
END:STANDARD
BEGIN:DAYLIGHT
TZOFFSETFROM:-0500
TZOFFSETTO:-0400
DTSTART:19870405T020000
RRULE:FREQ=YEARLY;BYMONTH=4;BYDAY=1SU;UNTIL=20061029T020000
END:DAYLIGHT
BEGIN:DAYLIGHT
TZOFFSETFROM:-0500
TZOFFSETTO:-0400
DTSTART:20070311T020000
RRULE:FREQ=YEARLY;BYMONTH=3;BYDAY=2SU
END:DAYLIGHT
END:VTIMEZONE
BEGIN:VTIMEZONE
TZID:US/Michigan
BEGIN:STANDARD
TZOFFSETFROM:-0400
TZOFFSETTO:-0500
DTSTART:19701025T020000
RRULE:FREQ=YEARLY;BYMONTH=10;BYDAY=-1SU;UNTIL=20070311T020000
END:STANDARD
BEGIN:STANDARD
TZOFFSETFROM:-0400
TZOFFSETTO:-0500
DTSTART:20071104T020000
RRULE:FREQ=YEARLY;BYMONTH=11;BYDAY=1SU
END:STANDARD
BEGIN:DAYLIGHT
TZOFFSETFROM:-0500
TZOFFSETTO:-0400
DTSTART:19870405T020000
RRULE:FREQ=YEARLY;BYMONTH=4;BYDAY=1SU;UNTIL=20061029T020000
END:DAYLIGHT
BEGIN:DAYLIGHT
TZOFFSETFROM:-0500
TZOFFSETTO:-0400
DTSTART:20070311T020000
RRULE:FREQ=YEARLY;BYMONTH=3;BYDAY=2SU
END:DAYLIGHT
END:VTIMEZONE
BEGIN:VTIMEZONE
TZID:US/Central
BEGIN:STANDARD
TZOFFSETFROM:-0500
TZOFFSETTO:-0600
DTSTART:19701025T020000
RRULE:FREQ=YEARLY;BYMONTH=10;BYDAY=-1SU;UNTIL=20070311T020000
END:STANDARD
BEGIN:STANDARD
TZOFFSETFROM:-0500
TZOFFSETTO:-0600
DTSTART:20071104T020000
RRULE:FREQ=YEARLY;BYMONTH=11;BYDAY=1SU
END:STANDARD
BEGIN:DAYLIGHT
TZOFFSETFROM:-0600
TZOFFSETTO:-0500
DTSTART:19870405T020000
RRULE:FREQ=YEARLY;BYMONTH=4;BYDAY=1SU;UNTIL=20061029T020000
END:DAYLIGHT
BEGIN:DAYLIGHT
TZOFFSETFROM:-0600
TZOFFSETTO:-0500
DTSTART:20070311T020000
RRULE:FREQ=YEARLY;BYMONTH=3;BYDAY=2SU
END:DAYLIGHT
END:VTIMEZONE
BEGIN:VTIMEZONE
TZID:US/Mountain
BEGIN:STANDARD
TZOFFSETFROM:-0600
TZOFFSETTO:-0700
DTSTART:19701025T020000
RRULE:FREQ=YEARLY;BYMONTH=10;BYDAY=-1SU;UNTIL=20070311T020000
END:STANDARD
BEGIN:STANDARD
TZOFFSETFROM:-0600
TZOFFSETTO:-0700
DTSTART:20071104T020000
RRULE:FREQ=YEARLY;BYMONTH=11;BYDAY=1SU
END:STANDARD
BEGIN:DAYLIGHT
TZOFFSETFROM:-0700
TZOFFSETTO:-0600
DTSTART:19870405T020000
RRULE:FREQ=YEARLY;BYMONTH=4;BYDAY=1SU;UNTIL=20061029T020000
END:DAYLIGHT
BEGIN:DAYLIGHT
TZOFFSETFROM:-0700
TZOFFSETTO:-0600
DTSTART:20070311T020000
RRULE:FREQ=YEARLY;BYMONTH=3;BYDAY=2SU
END:DAYLIGHT
END:VTIMEZONE
BEGIN:VTIMEZONE
TZID:US/Arizona
BEGIN:STANDARD
TZOFFSETFROM:-0700
TZOFFSETTO:-0700
DTSTART:19701025T020000
END:STANDARD
END:VTIMEZONE
BEGIN:VTIMEZONE
TZID:US/Pacific
BEGIN:STANDARD
TZOFFSETFROM:-0700
TZOFFSETTO:-0800
DTSTART:19701025T020000
RRULE:FREQ=YEARLY;BYMONTH=10;BYDAY=-1SU;UNTIL=20070311T020000
END:STANDARD
BEGIN:STANDARD
TZOFFSETFROM:-0700
TZOFFSETTO:-0800
DTSTART:20071104T020000
RRULE:FREQ=YEARLY;BYMONTH=11;BYDAY=1SU
END:STANDARD
BEGIN:DAYLIGHT
TZOFFSETFROM:-0800
TZOFFSETTO:-0700
DTSTART:19870405T020000
RRULE:FREQ=YEARLY;BYMONTH=4;BYDAY=1SU;UNTIL=20061029T020000
END:DAYLIGHT
BEGIN:DAYLIGHT
TZOFFSETFROM:-0800
TZOFFSETTO:-0700
DTSTART:20070311T020000
RRULE:FREQ=YEARLY;BYMONTH=3;BYDAY=2SU
END:DAYLIGHT
END:VTIMEZONE
BEGIN:VTIMEZONE
TZID:US/Alaska
BEGIN:STANDARD
TZOFFSETFROM:-0800
TZOFFSETTO:-0900
DTSTART:19701025T020000
RRULE:FREQ=YEARLY;BYMONTH=10;BYDAY=-1SU;UNTIL=20070311T020000
END:STANDARD
BEGIN:STANDARD
TZOFFSETFROM:-0800
TZOFFSETTO:-0900
DTSTART:20071104T020000
RRULE:FREQ=YEARLY;BYMONTH=11;BYDAY=1SU
END:STANDARD
BEGIN:DAYLIGHT
TZOFFSETFROM:-0900
TZOFFSETTO:-0800
DTSTART:19870405T020000
RRULE:FREQ=YEARLY;BYMONTH=4;BYDAY=1SU;UNTIL=20061029T020000
END:DAYLIGHT
BEGIN:DAYLIGHT
TZOFFSETFROM:-0900
TZOFFSETTO:-0800
DTSTART:20070311T020000
RRULE:FREQ=YEARLY;BYMONTH=3;BYDAY=2SU
END:DAYLIGHT
END:VTIMEZONE
BEGIN:VTIMEZONE
TZID:US/Hawaii
BEGIN:STANDARD
TZOFFSETFROM:-1000
TZOFFSETTO:-1000
DTSTART:19701025T020000
END:STANDARD
END:VTIMEZONE
BEGIN:VTIMEZONE
TZID:US/Aleutian
BEGIN:STANDARD
TZOFFSETFROM:-1000
TZOFFSETTO:-1000
DTSTART:19701025T020000
END:STANDARD
END:VTIMEZONE
BEGIN:VTIMEZONE
TZID:US/Samoa
BEGIN:STANDARD
TZOFFSETFROM:-1100
TZOFFSETTO:-1100
DTSTART:19701025T020000
END:STANDARD
END:VTIMEZONE
BEGIN:VEVENT
UID:11747033@rjfisher.lgusd.org#20260423
SEQUENCE:0
CREATED:20260420T214317Z
LAST-MODIFIED:20260420T214317Z
DTSTART;TZID=US/Pacific:20260423T131900
DTEND;TZID=US/Pacific:20260423T132000
SUMMARY:Assignment: I.2 - Personal "Where I'm From" Poem
DESCRIPTION:Please write a Where I'm From Poem in the attached doc. Be sure
  to add your name in the by-line and delete the directions when you're don
 e so that the first words in the document are "Where I'm From" with your n
 ame on the next line.<br><br>Consider accessing the linked Board for resou
 rces!\n<a href=' https://rjfisher.lgusd.org/apps/classes/1061878/assignmen
 ts/#hw-11747033'>Read more</a>
URL:https://rjfisher.lgusd.org/apps/classes/1061878/assignments/#hw-1174703
 3
ORGANIZER;CN="Edlio Calendar":MAILTO:noreply@rjfisher.lgusd.org
DTSTAMP:20260423T061423Z
END:VEVENT
BEGIN:VEVENT
UID:11747034@rjfisher.lgusd.org#20260423
SEQUENCE:0
CREATED:20260420T214317Z
LAST-MODIFIED:20260420T214317Z
DTSTART;TZID=US/Pacific:20260423T131900
DTEND;TZID=US/Pacific:20260423T132000
SUMMARY:Assignment: I.2 - Personal "Where I'm From" Poem
DESCRIPTION:Please write a Where I'm From Poem in the attached doc. Be sure
  to add your name in the by-line and delete the directions when you're don
 e so that the first words in the document are "Where I'm From" with your n
 ame on the next line.<br><br>Consider accessing the linked Board for resou
 rces!\n<a href=' https://rjfisher.lgusd.org/apps/classes/1061878/assignmen
 ts/#hw-11747034'>Read more</a>
URL:https://rjfisher.lgusd.org/apps/classes/1061878/assignments/#hw-1174703
 4
ORGANIZER;CN="Edlio Calendar":MAILTO:noreply@rjfisher.lgusd.org
DTSTAMP:20260423T061423Z
END:VEVENT
BEGIN:VEVENT
UID:11747905@rjfisher.lgusd.org#20260423
SEQUENCE:0
CREATED:20260420T221400Z
LAST-MODIFIED:20260420T221400Z
DTSTART;TZID=US/Pacific:20260423T131900
DTEND;TZID=US/Pacific:20260423T132000
SUMMARY:Assignment: I.3 - Plan Your Where I'm From Artifact
DESCRIPTION:At the end of the week\, we're going to try to make a 3-D Where
  I'm From Artifact. Be thinking about what you will make and come to class
  with an idea!<br><br>I'll have plenty of art supplies for you\, but if yo
 u need any non-standard supplies\, plan ahead and bring what you will need
  to bring to cl\n<a href=' https://rjfisher.lgusd.org/apps/classes/1061878
 /assignments/#hw-11747905'>Read more</a>
URL:https://rjfisher.lgusd.org/apps/classes/1061878/assignments/#hw-1174790
 5
ORGANIZER;CN="Edlio Calendar":MAILTO:noreply@rjfisher.lgusd.org
DTSTAMP:20260423T061423Z
END:VEVENT
BEGIN:VEVENT
UID:11747906@rjfisher.lgusd.org#20260423
SEQUENCE:0
CREATED:20260420T221400Z
LAST-MODIFIED:20260420T221400Z
DTSTART;TZID=US/Pacific:20260423T131900
DTEND;TZID=US/Pacific:20260423T132000
SUMMARY:Assignment: I.3 - Plan Your Where I'm From Artifact
DESCRIPTION:At the end of the week\, we're going to try to make a 3-D Where
  I'm From Artifact. Be thinking about what you will make and come to class
  with an idea!<br><br>I'll have plenty of art supplies for you\, but if yo
 u need any non-standard supplies\, plan ahead and bring what you will need
  to bring to cl\n<a href=' https://rjfisher.lgusd.org/apps/classes/1061878
 /assignments/#hw-11747906'>Read more</a>
URL:https://rjfisher.lgusd.org/apps/classes/1061878/assignments/#hw-1174790
 6
ORGANIZER;CN="Edlio Calendar":MAILTO:noreply@rjfisher.lgusd.org
DTSTAMP:20260423T061423Z
END:VEVENT
BEGIN:VEVENT
UID:11753403@rjfisher.lgusd.org#20260424
SEQUENCE:0
CREATED:20260421T011536Z
LAST-MODIFIED:20260421T011536Z
DTSTART;TZID=US/Pacific:20260424T155900
DTEND;TZID=US/Pacific:20260424T160000
SUMMARY:Assignment: H.4 - Speech "Solid" Draft
DESCRIPTION:Please attach the document from assignment H.2 - Speech Outline
  or Plan to this assignment. Then use it to write a draft of your speech i
 n the top tab. All of your digital draft work must be completed in the doc
  you attach to this assignment. Avoid copying and pasting from somewhere e
 lse! You do NOT\n<a href=' https://rjfisher.lgusd.org/apps/classes/1061878
 /assignments/#hw-11753403'>Read more</a>
URL:https://rjfisher.lgusd.org/apps/classes/1061878/assignments/#hw-1175340
 3
ORGANIZER;CN="Edlio Calendar":MAILTO:noreply@rjfisher.lgusd.org
DTSTAMP:20260423T061423Z
END:VEVENT
BEGIN:VEVENT
UID:11753411@rjfisher.lgusd.org#20260424
SEQUENCE:0
CREATED:20260421T011536Z
LAST-MODIFIED:20260421T011536Z
DTSTART;TZID=US/Pacific:20260424T155900
DTEND;TZID=US/Pacific:20260424T160000
SUMMARY:Assignment: H.4 - Speech "Solid" Draft
DESCRIPTION:Please attach the document from assignment H.2 - Speech Outline
  or Plan to this assignment. Then use it to write a draft of your speech i
 n the top tab. All of your digital draft work must be completed in the doc
  you attach to this assignment. Avoid copying and pasting from somewhere e
 lse! You do NOT\n<a href=' https://rjfisher.lgusd.org/apps/classes/1061878
 /assignments/#hw-11753411'>Read more</a>
URL:https://rjfisher.lgusd.org/apps/classes/1061878/assignments/#hw-1175341
 1
ORGANIZER;CN="Edlio Calendar":MAILTO:noreply@rjfisher.lgusd.org
DTSTAMP:20260423T061423Z
END:VEVENT
BEGIN:VEVENT
UID:11753465@rjfisher.lgusd.org#20260424
SEQUENCE:0
CREATED:20260421T011537Z
LAST-MODIFIED:20260421T011537Z
DTSTART;TZID=US/Pacific:20260424T155900
DTEND;TZID=US/Pacific:20260424T160000
SUMMARY:Assignment: H.4 - Speech "Solid" Draft
DESCRIPTION:Please attach the document from assignment H.2 - Speech Outline
  or Plan to this assignment. Then use it to write a draft of your speech i
 n the top tab. All of your digital draft work must be completed in the doc
  you attach to this assignment. Avoid copying and pasting from somewhere e
 lse! You do NOT\n<a href=' https://rjfisher.lgusd.org/apps/classes/1061878
 /assignments/#hw-11753465'>Read more</a>
URL:https://rjfisher.lgusd.org/apps/classes/1061878/assignments/#hw-1175346
 5
ORGANIZER;CN="Edlio Calendar":MAILTO:noreply@rjfisher.lgusd.org
DTSTAMP:20260423T061423Z
END:VEVENT
BEGIN:VEVENT
UID:11753384@rjfisher.lgusd.org#20260422
SEQUENCE:0
CREATED:20260421T011535Z
LAST-MODIFIED:20260421T011535Z
DTSTART;TZID=US/Pacific:20260422T235800
DTEND;TZID=US/Pacific:20260422T235900
SUMMARY:Assignment: H.3 - Finalize your Tiny Memoir for Display
DESCRIPTION:I'll be putting your Tiny Memoirs on display at Open House. Ple
 ase make your way back down to assignment C.9 - Tiny Memoir. Review what y
 ou've written\, and if you want to make any modifications or revisions\, d
 o so! It's okay to unsubmit the assignment.<br><br>Then...<br>Check for er
 rors in spellin\n<a href=' https://rjfisher.lgusd.org/apps/classes/1061878
 /assignments/#hw-11753384'>Read more</a>
URL:https://rjfisher.lgusd.org/apps/classes/1061878/assignments/#hw-1175338
 4
ORGANIZER;CN="Edlio Calendar":MAILTO:noreply@rjfisher.lgusd.org
DTSTAMP:20260423T061423Z
END:VEVENT
BEGIN:VEVENT
UID:11753389@rjfisher.lgusd.org#20260422
SEQUENCE:0
CREATED:20260421T011536Z
LAST-MODIFIED:20260421T011536Z
DTSTART;TZID=US/Pacific:20260422T235800
DTEND;TZID=US/Pacific:20260422T235900
SUMMARY:Assignment: H.3 - Finalize your Tiny Memoir for Display
DESCRIPTION:I'll be putting your Tiny Memoirs on display at Open House. Ple
 ase make your way back down to assignment C.9 - Tiny Memoir. Review what y
 ou've written\, and if you want to make any modifications or revisions\, d
 o so! It's okay to unsubmit the assignment.<br><br>Then...<br>Check for er
 rors in spellin\n<a href=' https://rjfisher.lgusd.org/apps/classes/1061878
 /assignments/#hw-11753389'>Read more</a>
URL:https://rjfisher.lgusd.org/apps/classes/1061878/assignments/#hw-1175338
 9
ORGANIZER;CN="Edlio Calendar":MAILTO:noreply@rjfisher.lgusd.org
DTSTAMP:20260423T061423Z
END:VEVENT
BEGIN:VEVENT
UID:11753434@rjfisher.lgusd.org#20260422
SEQUENCE:0
CREATED:20260421T011537Z
LAST-MODIFIED:20260421T011537Z
DTSTART;TZID=US/Pacific:20260422T235800
DTEND;TZID=US/Pacific:20260422T235900
SUMMARY:Assignment: H.3 - Finalize your Tiny Memoir for Display
DESCRIPTION:I'll be putting your Tiny Memoirs on display at Open House. Ple
 ase make your way back down to assignment C.9 - Tiny Memoir. Review what y
 ou've written\, and if you want to make any modifications or revisions\, d
 o so! It's okay to unsubmit the assignment.<br><br>Then...<br>Check for er
 rors in spellin\n<a href=' https://rjfisher.lgusd.org/apps/classes/1061878
 /assignments/#hw-11753434'>Read more</a>
URL:https://rjfisher.lgusd.org/apps/classes/1061878/assignments/#hw-1175343
 4
ORGANIZER;CN="Edlio Calendar":MAILTO:noreply@rjfisher.lgusd.org
DTSTAMP:20260423T061423Z
END:VEVENT
END:VCALENDAR
