BEGIN:VCALENDAR
VERSION:2.0
PRODID:-//Edlio Inc//Edlio Calendar//EN
CALSCALE:GREGORIAN
METHOD:PUBLISH
X-WR-CALNAME:1 English 7 McClane 25-26-1(A) - Raymond J. Fisher Middle Scho
 ol
X-ORIGINAL-URL:https://rjfisher.lgusd.org
X-WR-CALDESC:Events calendar for rjfisher.lgusd.org
X-WR-TIMEZONE:US/Pacific
REFRESH-INTERVAL;VALUE=DURATION:PT1H
X-Robots-Tag:noindex
X-PUBLISHED-TTL:PT1H
BEGIN:VTIMEZONE
TZID:US/Pacific
BEGIN:STANDARD
TZOFFSETFROM:-0700
TZOFFSETTO:-0800
DTSTART:20071104T020000
RRULE:FREQ=YEARLY;BYMONTH=11;BYDAY=1SU
END:STANDARD
BEGIN:DAYLIGHT
TZOFFSETFROM:-0800
TZOFFSETTO:-0700
DTSTART:20070311T020000
RRULE:FREQ=YEARLY;BYMONTH=3;BYDAY=2SU
END:DAYLIGHT
END:VTIMEZONE
BEGIN:VTIMEZONE
TZID:US/East-Indiana
BEGIN:STANDARD
TZOFFSETFROM:-0500
TZOFFSETTO:-0500
DTSTART:19701025T020000
END:STANDARD
END:VTIMEZONE
BEGIN:VTIMEZONE
TZID:US/Eastern
BEGIN:STANDARD
TZOFFSETFROM:-0400
TZOFFSETTO:-0500
DTSTART:19701025T020000
RRULE:FREQ=YEARLY;BYMONTH=10;BYDAY=-1SU;UNTIL=20070311T020000
END:STANDARD
BEGIN:STANDARD
TZOFFSETFROM:-0400
TZOFFSETTO:-0500
DTSTART:20071104T020000
RRULE:FREQ=YEARLY;BYMONTH=11;BYDAY=1SU
END:STANDARD
BEGIN:DAYLIGHT
TZOFFSETFROM:-0500
TZOFFSETTO:-0400
DTSTART:19870405T020000
RRULE:FREQ=YEARLY;BYMONTH=4;BYDAY=1SU;UNTIL=20061029T020000
END:DAYLIGHT
BEGIN:DAYLIGHT
TZOFFSETFROM:-0500
TZOFFSETTO:-0400
DTSTART:20070311T020000
RRULE:FREQ=YEARLY;BYMONTH=3;BYDAY=2SU
END:DAYLIGHT
END:VTIMEZONE
BEGIN:VTIMEZONE
TZID:US/Michigan
BEGIN:STANDARD
TZOFFSETFROM:-0400
TZOFFSETTO:-0500
DTSTART:19701025T020000
RRULE:FREQ=YEARLY;BYMONTH=10;BYDAY=-1SU;UNTIL=20070311T020000
END:STANDARD
BEGIN:STANDARD
TZOFFSETFROM:-0400
TZOFFSETTO:-0500
DTSTART:20071104T020000
RRULE:FREQ=YEARLY;BYMONTH=11;BYDAY=1SU
END:STANDARD
BEGIN:DAYLIGHT
TZOFFSETFROM:-0500
TZOFFSETTO:-0400
DTSTART:19870405T020000
RRULE:FREQ=YEARLY;BYMONTH=4;BYDAY=1SU;UNTIL=20061029T020000
END:DAYLIGHT
BEGIN:DAYLIGHT
TZOFFSETFROM:-0500
TZOFFSETTO:-0400
DTSTART:20070311T020000
RRULE:FREQ=YEARLY;BYMONTH=3;BYDAY=2SU
END:DAYLIGHT
END:VTIMEZONE
BEGIN:VTIMEZONE
TZID:US/Central
BEGIN:STANDARD
TZOFFSETFROM:-0500
TZOFFSETTO:-0600
DTSTART:19701025T020000
RRULE:FREQ=YEARLY;BYMONTH=10;BYDAY=-1SU;UNTIL=20070311T020000
END:STANDARD
BEGIN:STANDARD
TZOFFSETFROM:-0500
TZOFFSETTO:-0600
DTSTART:20071104T020000
RRULE:FREQ=YEARLY;BYMONTH=11;BYDAY=1SU
END:STANDARD
BEGIN:DAYLIGHT
TZOFFSETFROM:-0600
TZOFFSETTO:-0500
DTSTART:19870405T020000
RRULE:FREQ=YEARLY;BYMONTH=4;BYDAY=1SU;UNTIL=20061029T020000
END:DAYLIGHT
BEGIN:DAYLIGHT
TZOFFSETFROM:-0600
TZOFFSETTO:-0500
DTSTART:20070311T020000
RRULE:FREQ=YEARLY;BYMONTH=3;BYDAY=2SU
END:DAYLIGHT
END:VTIMEZONE
BEGIN:VTIMEZONE
TZID:US/Mountain
BEGIN:STANDARD
TZOFFSETFROM:-0600
TZOFFSETTO:-0700
DTSTART:19701025T020000
RRULE:FREQ=YEARLY;BYMONTH=10;BYDAY=-1SU;UNTIL=20070311T020000
END:STANDARD
BEGIN:STANDARD
TZOFFSETFROM:-0600
TZOFFSETTO:-0700
DTSTART:20071104T020000
RRULE:FREQ=YEARLY;BYMONTH=11;BYDAY=1SU
END:STANDARD
BEGIN:DAYLIGHT
TZOFFSETFROM:-0700
TZOFFSETTO:-0600
DTSTART:19870405T020000
RRULE:FREQ=YEARLY;BYMONTH=4;BYDAY=1SU;UNTIL=20061029T020000
END:DAYLIGHT
BEGIN:DAYLIGHT
TZOFFSETFROM:-0700
TZOFFSETTO:-0600
DTSTART:20070311T020000
RRULE:FREQ=YEARLY;BYMONTH=3;BYDAY=2SU
END:DAYLIGHT
END:VTIMEZONE
BEGIN:VTIMEZONE
TZID:US/Arizona
BEGIN:STANDARD
TZOFFSETFROM:-0700
TZOFFSETTO:-0700
DTSTART:19701025T020000
END:STANDARD
END:VTIMEZONE
BEGIN:VTIMEZONE
TZID:US/Pacific
BEGIN:STANDARD
TZOFFSETFROM:-0700
TZOFFSETTO:-0800
DTSTART:19701025T020000
RRULE:FREQ=YEARLY;BYMONTH=10;BYDAY=-1SU;UNTIL=20070311T020000
END:STANDARD
BEGIN:STANDARD
TZOFFSETFROM:-0700
TZOFFSETTO:-0800
DTSTART:20071104T020000
RRULE:FREQ=YEARLY;BYMONTH=11;BYDAY=1SU
END:STANDARD
BEGIN:DAYLIGHT
TZOFFSETFROM:-0800
TZOFFSETTO:-0700
DTSTART:19870405T020000
RRULE:FREQ=YEARLY;BYMONTH=4;BYDAY=1SU;UNTIL=20061029T020000
END:DAYLIGHT
BEGIN:DAYLIGHT
TZOFFSETFROM:-0800
TZOFFSETTO:-0700
DTSTART:20070311T020000
RRULE:FREQ=YEARLY;BYMONTH=3;BYDAY=2SU
END:DAYLIGHT
END:VTIMEZONE
BEGIN:VTIMEZONE
TZID:US/Alaska
BEGIN:STANDARD
TZOFFSETFROM:-0800
TZOFFSETTO:-0900
DTSTART:19701025T020000
RRULE:FREQ=YEARLY;BYMONTH=10;BYDAY=-1SU;UNTIL=20070311T020000
END:STANDARD
BEGIN:STANDARD
TZOFFSETFROM:-0800
TZOFFSETTO:-0900
DTSTART:20071104T020000
RRULE:FREQ=YEARLY;BYMONTH=11;BYDAY=1SU
END:STANDARD
BEGIN:DAYLIGHT
TZOFFSETFROM:-0900
TZOFFSETTO:-0800
DTSTART:19870405T020000
RRULE:FREQ=YEARLY;BYMONTH=4;BYDAY=1SU;UNTIL=20061029T020000
END:DAYLIGHT
BEGIN:DAYLIGHT
TZOFFSETFROM:-0900
TZOFFSETTO:-0800
DTSTART:20070311T020000
RRULE:FREQ=YEARLY;BYMONTH=3;BYDAY=2SU
END:DAYLIGHT
END:VTIMEZONE
BEGIN:VTIMEZONE
TZID:US/Hawaii
BEGIN:STANDARD
TZOFFSETFROM:-1000
TZOFFSETTO:-1000
DTSTART:19701025T020000
END:STANDARD
END:VTIMEZONE
BEGIN:VTIMEZONE
TZID:US/Aleutian
BEGIN:STANDARD
TZOFFSETFROM:-1000
TZOFFSETTO:-1000
DTSTART:19701025T020000
END:STANDARD
END:VTIMEZONE
BEGIN:VTIMEZONE
TZID:US/Samoa
BEGIN:STANDARD
TZOFFSETFROM:-1100
TZOFFSETTO:-1100
DTSTART:19701025T020000
END:STANDARD
END:VTIMEZONE
BEGIN:VEVENT
UID:11753204@rjfisher.lgusd.org#20260423
SEQUENCE:0
CREATED:20260421T011518Z
LAST-MODIFIED:20260421T011518Z
DTSTART;TZID=US/Pacific:20260423T235800
DTEND;TZID=US/Pacific:20260423T235900
SUMMARY:Assignment: The Giver Chapter 13-16 Vocabulary
URL:https://rjfisher.lgusd.org/apps/classes/1062383/assignments/#hw-1175320
 4
ORGANIZER;CN="Edlio Calendar":MAILTO:noreply@rjfisher.lgusd.org
DTSTAMP:20260423T075803Z
END:VEVENT
BEGIN:VEVENT
UID:11753205@rjfisher.lgusd.org#20260423
SEQUENCE:0
CREATED:20260421T011518Z
LAST-MODIFIED:20260421T011518Z
DTSTART;TZID=US/Pacific:20260423T235800
DTEND;TZID=US/Pacific:20260423T235900
SUMMARY:Assignment: The Giver Chapter 13-16 Vocabulary
URL:https://rjfisher.lgusd.org/apps/classes/1062383/assignments/#hw-1175320
 5
ORGANIZER;CN="Edlio Calendar":MAILTO:noreply@rjfisher.lgusd.org
DTSTAMP:20260423T075803Z
END:VEVENT
BEGIN:VEVENT
UID:11780225@rjfisher.lgusd.org#20260423
SEQUENCE:0
CREATED:20260422T161347Z
LAST-MODIFIED:20260422T161347Z
DTSTART;TZID=US/Pacific:20260423T235800
DTEND;TZID=US/Pacific:20260423T235900
SUMMARY:Assignment: The Giver Chapter 9-10 CER
DESCRIPTION:Please follow directions on the document\n<a href=' https://rjf
 isher.lgusd.org/apps/classes/1062383/assignments/#hw-11780225'>Read more</
 a>
URL:https://rjfisher.lgusd.org/apps/classes/1062383/assignments/#hw-1178022
 5
ORGANIZER;CN="Edlio Calendar":MAILTO:noreply@rjfisher.lgusd.org
DTSTAMP:20260423T075803Z
END:VEVENT
BEGIN:VEVENT
UID:11780226@rjfisher.lgusd.org#20260423
SEQUENCE:0
CREATED:20260422T161347Z
LAST-MODIFIED:20260422T161347Z
DTSTART;TZID=US/Pacific:20260423T235800
DTEND;TZID=US/Pacific:20260423T235900
SUMMARY:Assignment: The Giver Chapter 9-10 CER
DESCRIPTION:Please follow directions on the document\n<a href=' https://rjf
 isher.lgusd.org/apps/classes/1062383/assignments/#hw-11780226'>Read more</
 a>
URL:https://rjfisher.lgusd.org/apps/classes/1062383/assignments/#hw-1178022
 6
ORGANIZER;CN="Edlio Calendar":MAILTO:noreply@rjfisher.lgusd.org
DTSTAMP:20260423T075803Z
END:VEVENT
BEGIN:VEVENT
UID:11780227@rjfisher.lgusd.org#20260423
SEQUENCE:0
CREATED:20260422T161347Z
LAST-MODIFIED:20260422T161347Z
DTSTART;TZID=US/Pacific:20260423T235800
DTEND;TZID=US/Pacific:20260423T235900
SUMMARY:Assignment: The Giver Chapter 9-10 CER
DESCRIPTION:Please follow directions on the document\n<a href=' https://rjf
 isher.lgusd.org/apps/classes/1062383/assignments/#hw-11780227'>Read more</
 a>
URL:https://rjfisher.lgusd.org/apps/classes/1062383/assignments/#hw-1178022
 7
ORGANIZER;CN="Edlio Calendar":MAILTO:noreply@rjfisher.lgusd.org
DTSTAMP:20260423T075803Z
END:VEVENT
BEGIN:VEVENT
UID:11780228@rjfisher.lgusd.org#20260423
SEQUENCE:0
CREATED:20260422T161348Z
LAST-MODIFIED:20260422T161348Z
DTSTART;TZID=US/Pacific:20260423T235800
DTEND;TZID=US/Pacific:20260423T235900
SUMMARY:Assignment: The Giver Chapter 9-10 CER
DESCRIPTION:Please follow directions on the document\n<a href=' https://rjf
 isher.lgusd.org/apps/classes/1062383/assignments/#hw-11780228'>Read more</
 a>
URL:https://rjfisher.lgusd.org/apps/classes/1062383/assignments/#hw-1178022
 8
ORGANIZER;CN="Edlio Calendar":MAILTO:noreply@rjfisher.lgusd.org
DTSTAMP:20260423T075803Z
END:VEVENT
END:VCALENDAR
