BEGIN:VCALENDAR
VERSION:2.0
PRODID:-//Edlio Inc//Edlio Calendar//EN
CALSCALE:GREGORIAN
METHOD:PUBLISH
X-WR-CALNAME:Math 6CC+ - Spyker - 1(A)-1(A) - Raymond J. Fisher Middle Scho
 ol
X-ORIGINAL-URL:https://rjfisher.lgusd.org
X-WR-CALDESC:Events calendar for rjfisher.lgusd.org
X-WR-TIMEZONE:US/Pacific
REFRESH-INTERVAL;VALUE=DURATION:PT1H
X-Robots-Tag:noindex
X-PUBLISHED-TTL:PT1H
BEGIN:VTIMEZONE
TZID:US/Pacific
BEGIN:STANDARD
TZOFFSETFROM:-0700
TZOFFSETTO:-0800
DTSTART:20071104T020000
RRULE:FREQ=YEARLY;BYMONTH=11;BYDAY=1SU
END:STANDARD
BEGIN:DAYLIGHT
TZOFFSETFROM:-0800
TZOFFSETTO:-0700
DTSTART:20070311T020000
RRULE:FREQ=YEARLY;BYMONTH=3;BYDAY=2SU
END:DAYLIGHT
END:VTIMEZONE
BEGIN:VTIMEZONE
TZID:US/East-Indiana
BEGIN:STANDARD
TZOFFSETFROM:-0500
TZOFFSETTO:-0500
DTSTART:19701025T020000
END:STANDARD
END:VTIMEZONE
BEGIN:VTIMEZONE
TZID:US/Eastern
BEGIN:STANDARD
TZOFFSETFROM:-0400
TZOFFSETTO:-0500
DTSTART:19701025T020000
RRULE:FREQ=YEARLY;BYMONTH=10;BYDAY=-1SU;UNTIL=20070311T020000
END:STANDARD
BEGIN:STANDARD
TZOFFSETFROM:-0400
TZOFFSETTO:-0500
DTSTART:20071104T020000
RRULE:FREQ=YEARLY;BYMONTH=11;BYDAY=1SU
END:STANDARD
BEGIN:DAYLIGHT
TZOFFSETFROM:-0500
TZOFFSETTO:-0400
DTSTART:19870405T020000
RRULE:FREQ=YEARLY;BYMONTH=4;BYDAY=1SU;UNTIL=20061029T020000
END:DAYLIGHT
BEGIN:DAYLIGHT
TZOFFSETFROM:-0500
TZOFFSETTO:-0400
DTSTART:20070311T020000
RRULE:FREQ=YEARLY;BYMONTH=3;BYDAY=2SU
END:DAYLIGHT
END:VTIMEZONE
BEGIN:VTIMEZONE
TZID:US/Michigan
BEGIN:STANDARD
TZOFFSETFROM:-0400
TZOFFSETTO:-0500
DTSTART:19701025T020000
RRULE:FREQ=YEARLY;BYMONTH=10;BYDAY=-1SU;UNTIL=20070311T020000
END:STANDARD
BEGIN:STANDARD
TZOFFSETFROM:-0400
TZOFFSETTO:-0500
DTSTART:20071104T020000
RRULE:FREQ=YEARLY;BYMONTH=11;BYDAY=1SU
END:STANDARD
BEGIN:DAYLIGHT
TZOFFSETFROM:-0500
TZOFFSETTO:-0400
DTSTART:19870405T020000
RRULE:FREQ=YEARLY;BYMONTH=4;BYDAY=1SU;UNTIL=20061029T020000
END:DAYLIGHT
BEGIN:DAYLIGHT
TZOFFSETFROM:-0500
TZOFFSETTO:-0400
DTSTART:20070311T020000
RRULE:FREQ=YEARLY;BYMONTH=3;BYDAY=2SU
END:DAYLIGHT
END:VTIMEZONE
BEGIN:VTIMEZONE
TZID:US/Central
BEGIN:STANDARD
TZOFFSETFROM:-0500
TZOFFSETTO:-0600
DTSTART:19701025T020000
RRULE:FREQ=YEARLY;BYMONTH=10;BYDAY=-1SU;UNTIL=20070311T020000
END:STANDARD
BEGIN:STANDARD
TZOFFSETFROM:-0500
TZOFFSETTO:-0600
DTSTART:20071104T020000
RRULE:FREQ=YEARLY;BYMONTH=11;BYDAY=1SU
END:STANDARD
BEGIN:DAYLIGHT
TZOFFSETFROM:-0600
TZOFFSETTO:-0500
DTSTART:19870405T020000
RRULE:FREQ=YEARLY;BYMONTH=4;BYDAY=1SU;UNTIL=20061029T020000
END:DAYLIGHT
BEGIN:DAYLIGHT
TZOFFSETFROM:-0600
TZOFFSETTO:-0500
DTSTART:20070311T020000
RRULE:FREQ=YEARLY;BYMONTH=3;BYDAY=2SU
END:DAYLIGHT
END:VTIMEZONE
BEGIN:VTIMEZONE
TZID:US/Mountain
BEGIN:STANDARD
TZOFFSETFROM:-0600
TZOFFSETTO:-0700
DTSTART:19701025T020000
RRULE:FREQ=YEARLY;BYMONTH=10;BYDAY=-1SU;UNTIL=20070311T020000
END:STANDARD
BEGIN:STANDARD
TZOFFSETFROM:-0600
TZOFFSETTO:-0700
DTSTART:20071104T020000
RRULE:FREQ=YEARLY;BYMONTH=11;BYDAY=1SU
END:STANDARD
BEGIN:DAYLIGHT
TZOFFSETFROM:-0700
TZOFFSETTO:-0600
DTSTART:19870405T020000
RRULE:FREQ=YEARLY;BYMONTH=4;BYDAY=1SU;UNTIL=20061029T020000
END:DAYLIGHT
BEGIN:DAYLIGHT
TZOFFSETFROM:-0700
TZOFFSETTO:-0600
DTSTART:20070311T020000
RRULE:FREQ=YEARLY;BYMONTH=3;BYDAY=2SU
END:DAYLIGHT
END:VTIMEZONE
BEGIN:VTIMEZONE
TZID:US/Arizona
BEGIN:STANDARD
TZOFFSETFROM:-0700
TZOFFSETTO:-0700
DTSTART:19701025T020000
END:STANDARD
END:VTIMEZONE
BEGIN:VTIMEZONE
TZID:US/Pacific
BEGIN:STANDARD
TZOFFSETFROM:-0700
TZOFFSETTO:-0800
DTSTART:19701025T020000
RRULE:FREQ=YEARLY;BYMONTH=10;BYDAY=-1SU;UNTIL=20070311T020000
END:STANDARD
BEGIN:STANDARD
TZOFFSETFROM:-0700
TZOFFSETTO:-0800
DTSTART:20071104T020000
RRULE:FREQ=YEARLY;BYMONTH=11;BYDAY=1SU
END:STANDARD
BEGIN:DAYLIGHT
TZOFFSETFROM:-0800
TZOFFSETTO:-0700
DTSTART:19870405T020000
RRULE:FREQ=YEARLY;BYMONTH=4;BYDAY=1SU;UNTIL=20061029T020000
END:DAYLIGHT
BEGIN:DAYLIGHT
TZOFFSETFROM:-0800
TZOFFSETTO:-0700
DTSTART:20070311T020000
RRULE:FREQ=YEARLY;BYMONTH=3;BYDAY=2SU
END:DAYLIGHT
END:VTIMEZONE
BEGIN:VTIMEZONE
TZID:US/Alaska
BEGIN:STANDARD
TZOFFSETFROM:-0800
TZOFFSETTO:-0900
DTSTART:19701025T020000
RRULE:FREQ=YEARLY;BYMONTH=10;BYDAY=-1SU;UNTIL=20070311T020000
END:STANDARD
BEGIN:STANDARD
TZOFFSETFROM:-0800
TZOFFSETTO:-0900
DTSTART:20071104T020000
RRULE:FREQ=YEARLY;BYMONTH=11;BYDAY=1SU
END:STANDARD
BEGIN:DAYLIGHT
TZOFFSETFROM:-0900
TZOFFSETTO:-0800
DTSTART:19870405T020000
RRULE:FREQ=YEARLY;BYMONTH=4;BYDAY=1SU;UNTIL=20061029T020000
END:DAYLIGHT
BEGIN:DAYLIGHT
TZOFFSETFROM:-0900
TZOFFSETTO:-0800
DTSTART:20070311T020000
RRULE:FREQ=YEARLY;BYMONTH=3;BYDAY=2SU
END:DAYLIGHT
END:VTIMEZONE
BEGIN:VTIMEZONE
TZID:US/Hawaii
BEGIN:STANDARD
TZOFFSETFROM:-1000
TZOFFSETTO:-1000
DTSTART:19701025T020000
END:STANDARD
END:VTIMEZONE
BEGIN:VTIMEZONE
TZID:US/Aleutian
BEGIN:STANDARD
TZOFFSETFROM:-1000
TZOFFSETTO:-1000
DTSTART:19701025T020000
END:STANDARD
END:VTIMEZONE
BEGIN:VTIMEZONE
TZID:US/Samoa
BEGIN:STANDARD
TZOFFSETFROM:-1100
TZOFFSETTO:-1100
DTSTART:19701025T020000
END:STANDARD
END:VTIMEZONE
BEGIN:VEVENT
UID:11808651@rjfisher.lgusd.org#20260423
SEQUENCE:0
CREATED:20260424T011640Z
LAST-MODIFIED:20260424T011640Z
DTSTART;TZID=US/Pacific:20260423T235800
DTEND;TZID=US/Pacific:20260423T235900
SUMMARY:Assignment: Follow Up #2 Geometry Project
DESCRIPTION:Make sure you do the follow up #2 questions to discuss in class
 !\n<a href=' https://rjfisher.lgusd.org/apps/classes/1062391/assignments/#
 hw-11808651'>Read more</a>
URL:https://rjfisher.lgusd.org/apps/classes/1062391/assignments/#hw-1180865
 1
ORGANIZER;CN="Edlio Calendar":MAILTO:noreply@rjfisher.lgusd.org
DTSTAMP:20260424T125158Z
END:VEVENT
BEGIN:VEVENT
UID:11808652@rjfisher.lgusd.org#20260423
SEQUENCE:0
CREATED:20260424T011640Z
LAST-MODIFIED:20260424T011640Z
DTSTART;TZID=US/Pacific:20260423T235800
DTEND;TZID=US/Pacific:20260423T235900
SUMMARY:Assignment: Follow Up #2 Geometry Project
DESCRIPTION:Make sure you do the follow up #2 questions to discuss in class
 !\n<a href=' https://rjfisher.lgusd.org/apps/classes/1062391/assignments/#
 hw-11808652'>Read more</a>
URL:https://rjfisher.lgusd.org/apps/classes/1062391/assignments/#hw-1180865
 2
ORGANIZER;CN="Edlio Calendar":MAILTO:noreply@rjfisher.lgusd.org
DTSTAMP:20260424T125158Z
END:VEVENT
BEGIN:VEVENT
UID:11808657@rjfisher.lgusd.org#20260423
SEQUENCE:0
CREATED:20260424T011640Z
LAST-MODIFIED:20260424T011640Z
DTSTART;TZID=US/Pacific:20260423T235800
DTEND;TZID=US/Pacific:20260423T235900
SUMMARY:Assignment: Follow Up #2 Geometry Project
DESCRIPTION:Make sure you do the follow up #2 questions to discuss in class
 !\n<a href=' https://rjfisher.lgusd.org/apps/classes/1062391/assignments/#
 hw-11808657'>Read more</a>
URL:https://rjfisher.lgusd.org/apps/classes/1062391/assignments/#hw-1180865
 7
ORGANIZER;CN="Edlio Calendar":MAILTO:noreply@rjfisher.lgusd.org
DTSTAMP:20260424T125158Z
END:VEVENT
BEGIN:VEVENT
UID:11808661@rjfisher.lgusd.org#20260423
SEQUENCE:0
CREATED:20260424T011641Z
LAST-MODIFIED:20260424T011641Z
DTSTART;TZID=US/Pacific:20260423T235800
DTEND;TZID=US/Pacific:20260423T235900
SUMMARY:Assignment: Follow Up #2 Geometry Project
DESCRIPTION:Make sure you do the follow up #2 questions to discuss in class
 !\n<a href=' https://rjfisher.lgusd.org/apps/classes/1062391/assignments/#
 hw-11808661'>Read more</a>
URL:https://rjfisher.lgusd.org/apps/classes/1062391/assignments/#hw-1180866
 1
ORGANIZER;CN="Edlio Calendar":MAILTO:noreply@rjfisher.lgusd.org
DTSTAMP:20260424T125158Z
END:VEVENT
BEGIN:VEVENT
UID:11808649@rjfisher.lgusd.org#20260426
SEQUENCE:0
CREATED:20260424T011640Z
LAST-MODIFIED:20260424T011640Z
DTSTART;TZID=US/Pacific:20260426T235800
DTEND;TZID=US/Pacific:20260426T235900
SUMMARY:Assignment: Pass 1 iReady lesson
URL:https://rjfisher.lgusd.org/apps/classes/1062391/assignments/#hw-1180864
 9
ORGANIZER;CN="Edlio Calendar":MAILTO:noreply@rjfisher.lgusd.org
DTSTAMP:20260424T125158Z
END:VEVENT
BEGIN:VEVENT
UID:11808650@rjfisher.lgusd.org#20260426
SEQUENCE:0
CREATED:20260424T011640Z
LAST-MODIFIED:20260424T011640Z
DTSTART;TZID=US/Pacific:20260426T235800
DTEND;TZID=US/Pacific:20260426T235900
SUMMARY:Assignment: Pass 1 iReady lesson
URL:https://rjfisher.lgusd.org/apps/classes/1062391/assignments/#hw-1180865
 0
ORGANIZER;CN="Edlio Calendar":MAILTO:noreply@rjfisher.lgusd.org
DTSTAMP:20260424T125158Z
END:VEVENT
BEGIN:VEVENT
UID:11808656@rjfisher.lgusd.org#20260426
SEQUENCE:0
CREATED:20260424T011640Z
LAST-MODIFIED:20260424T011640Z
DTSTART;TZID=US/Pacific:20260426T235800
DTEND;TZID=US/Pacific:20260426T235900
SUMMARY:Assignment: Pass 1 iReady lesson
URL:https://rjfisher.lgusd.org/apps/classes/1062391/assignments/#hw-1180865
 6
ORGANIZER;CN="Edlio Calendar":MAILTO:noreply@rjfisher.lgusd.org
DTSTAMP:20260424T125158Z
END:VEVENT
BEGIN:VEVENT
UID:11808660@rjfisher.lgusd.org#20260426
SEQUENCE:0
CREATED:20260424T011641Z
LAST-MODIFIED:20260424T011641Z
DTSTART;TZID=US/Pacific:20260426T235800
DTEND;TZID=US/Pacific:20260426T235900
SUMMARY:Assignment: Pass 1 iReady lesson
URL:https://rjfisher.lgusd.org/apps/classes/1062391/assignments/#hw-1180866
 0
ORGANIZER;CN="Edlio Calendar":MAILTO:noreply@rjfisher.lgusd.org
DTSTAMP:20260424T125158Z
END:VEVENT
END:VCALENDAR
